BEGIN:VCALENDAR
VERSION:2.0
PRODID:IEEE vTools.Events//EN
CALSCALE:GREGORIAN
BEGIN:VTIMEZONE
TZID:US/Pacific
BEGIN:DAYLIGHT
DTSTART:20230312T030000
TZOFFSETFROM:-0800
TZOFFSETTO:-0700
RRULE:FREQ=YEARLY;BYDAY=2SU;BYMONTH=3
TZNAME:PDT
END:DAYLIGHT
BEGIN:STANDARD
DTSTART:20231105T010000
TZOFFSETFROM:-0700
TZOFFSETTO:-0800
RRULE:FREQ=YEARLY;BYDAY=1SU;BYMONTH=11
TZNAME:PST
END:STANDARD
END:VTIMEZONE
BEGIN:VEVENT
DTSTAMP:20231003T210149Z
UID:FD635CCC-CDB2-4A2B-B8C3-F595FD261883
DTSTART;TZID=US/Pacific:20231003T110000
DTEND;TZID=US/Pacific:20231003T120000
DESCRIPTION:Free Registration: https://www.eventbrite.com/e/ieee-day-panel-
 discussion-on-ethical-ai-shaping-the-future-responsibly-tickets-6825969047
 17\n\nSpeaker(s): Dr. Ruchi Dass\, Vishnu S. Pendyala\, Dr. Koerner\, Chin
 may\, Meenakshi Jindal\n\nVirtual: https://events.vtools.ieee.org/m/367620
LOCATION:Virtual: https://events.vtools.ieee.org/m/367620
ORGANIZER:pendyala@ieee.org
SEQUENCE:14
SUMMARY:IEEE Day Panel Discussion on Ethical AI: Shaping the Future Respons
 ibly
URL;VALUE=URI:https://events.vtools.ieee.org/m/367620
X-ALT-DESC:Description: &lt;br /&gt;&lt;p&gt;Free Registration: https://www.eventbrite.
 com/e/ieee-day-panel-discussion-on-ethical-ai-shaping-the-future-responsib
 ly-tickets-682596904717&lt;/p&gt;
END:VEVENT
END:VCALENDAR

