BEGIN:VCALENDAR
VERSION:2.0
PRODID:IEEE vTools.Events//EN
CALSCALE:GREGORIAN
BEGIN:VTIMEZONE
TZID:Asia/Dhaka
BEGIN:DAYLIGHT
DTSTART:20380119T091407
TZOFFSETFROM:+0600
TZOFFSETTO:+0600
RRULE:FREQ=YEARLY;BYDAY=3TU;BYMONTH=1
TZNAME:+06
END:DAYLIGHT
BEGIN:STANDARD
DTSTART:20091231T230000
TZOFFSETFROM:+0700
TZOFFSETTO:+0600
RRULE:FREQ=YEARLY;BYDAY=-1TH;BYMONTH=12
TZNAME:+06
END:STANDARD
END:VTIMEZONE
BEGIN:VEVENT
DTSTAMP:20240106T162352Z
UID:41A849FC-77A2-4E9E-BB30-1D0BFCFCFDB0
DTSTART;TZID=Asia/Dhaka:20231125T060000
DTEND;TZID=Asia/Dhaka:20231126T180000
DESCRIPTION:IEEE Bangladesh Section and IEEE Kerala Section in collaboratio
 n with their WIE Affinity Groups are jointly organising the 9th IEEE Inter
 national Women in Engineering (WIE) Conference on Electrical and Computer 
 Engineering 2023 (IEEE WIECON-ECE 2023). at Sree Chitra Thirunal College o
 f Engineering\, Thiruvananthapuram\, Kerala\, INDIA. The conference was ho
 sted during 25th &amp; 26th of November 2023. Due to the Post COVID 19 Pandemi
 c situation\, this year&#39;s IEEE WIECON-ECE 2023 hold as a hybrid conference
 . Accepted papers will be submitted for inclusion into IEEE Xplore subject
  to meeting IEEE Xplore&#39;s scope and quality requirements.\n\nThe conferenc
 e aims to bring together leading academic researchers and research scholar
 s to exchange and share their experiences and research results on all aspe
 cts of Electrical Engineering and Computer Science. It also provides an in
 terdisciplinary platform for researchers\, practitioners and educators to 
 present and discuss the most recent innovations\, trends\, and concerns as
  well as practical challenges encountered and solutions adopted in the fie
 lds of Electrical and Computer Engineering. With the view to encourage par
 ticipation of women scholars\, each paper should have at least one female 
 author.\n\nConference Website: https://wiecon-ece.org/\n\nWe thank the org
 anizers\, researchers\, participants and volunteers for participating and 
 contributing to such beautiful events. Special thanks to\nProf. Muhammed K
 asim\, Chair\, IEEE Kerala Section\; Prof. Bijuna Kunju K\, General Chair\
 , WIECON-ECE 2023\; Prof. Celia Shahnaz\, General Chair\, WIECON-ECE 2023\
 ; Prof. Shaikh Anowarul Fattah\, TPC Chair\, WIECON-ECE 2023\; Prof. Meena
 kshy K\, TPC Chair\, WIECON-ECE 2023\; Prof. Anu Mary Chacko\, TPC Chair\,
  WIECON-ECE 2023\; Prof. Deepa A K\, Organizing Chair\, WIECON-ECE 2023\; 
 Prof. Moshiul Hoque\, Organizing Chair\, WIECON-ECE 2023 and Chair\, Dr. D
 eepthi Das Krishna\, Publication Chair\, WIECON-ECE 2023\; IEEE Bangladesh
  Section\; Engr Shohel Rana\, TPS Secretary\, WIECON-ECE 2023\; WIECON-ECE
  2023 Conference Committee members and all hardworking volunteers.\n\nSree
  Chitra Thirunal College of Engineering\, Thiruvananthapuram\, NH 66\, CTO
  Colony\, Pappanamcode\, Thiruvananthapuram\, Kerala\, India\, 695018\, Vi
 rtual: https://events.vtools.ieee.org/m/367844
LOCATION:Sree Chitra Thirunal College of Engineering\, Thiruvananthapuram\,
  NH 66\, CTO Colony\, Pappanamcode\, Thiruvananthapuram\, Kerala\, India\,
  695018\, Virtual: https://events.vtools.ieee.org/m/367844
ORGANIZER:moshiul_240@cuet.ac.bd
SEQUENCE:56
SUMMARY:9th IEEE WIECON-ECE 2023\, 25-26 NOV\, 2023
URL;VALUE=URI:https://events.vtools.ieee.org/m/367844
X-ALT-DESC:Description: &lt;br /&gt;&lt;p&gt;&lt;span style=&quot;font-weight: 400\;&quot;&gt;IEEE Bang
 ladesh Section and IEEE Kerala Section in collaboration with their WIE Aff
 inity Groups are jointly organising the 9th IEEE International Women in En
 gineering (WIE) Conference on Electrical and Computer Engineering 2023 (IE
 EE WIECON-ECE 2023). at Sree Chitra Thirunal College of Engineering\, Thir
 uvananthapuram\, Kerala\, INDIA. The conference was hosted during 25th &amp;am
 p\; 26th of November 2023. Due to the Post COVID 19 Pandemic situation\, t
 his year&#39;s IEEE WIECON-ECE 2023 hold as a hybrid conference. Accepted pape
 rs will be submitted for inclusion into IEEE Xplore subject to meeting IEE
 E Xplore&#39;s scope and quality requirements.&lt;/span&gt;&lt;/p&gt;\n&lt;p&gt;&lt;span style=&quot;fon
 t-weight: 400\;&quot;&gt;The conference aims to bring together leading academic re
 searchers and research scholars to exchange and share their experiences an
 d research results on all aspects of Electrical Engineering and Computer S
 cience. It also provides an interdisciplinary platform for researchers\, p
 ractitioners and educators to present and discuss the most recent innovati
 ons\, trends\, and concerns as well as practical challenges encountered an
 d solutions adopted in the fields of Electrical and Computer Engineering.&lt;
 /span&gt;&lt;strong&gt; With the view to encourage participation of women scholars\
 , each paper should have at least one female author.&lt;/strong&gt;&lt;/p&gt;\n&lt;p&gt;&lt;spa
 n style=&quot;font-weight: 400\;&quot;&gt;Conference Website: https://wiecon-ece.org/&lt;/
 span&gt;&lt;/p&gt;\n&lt;p&gt;We thank the organizers\, researchers\, participants and vol
 unteers for participating and contributing to such beautiful events. Speci
 al thanks to&amp;nbsp\;&lt;br /&gt;Prof. Muhammed Kasim\, Chair\, IEEE Kerala Sectio
 n\; Prof. Bijuna Kunju K\, General Chair\, WIECON-ECE 2023\; Prof. Celia S
 hahnaz\, General Chair\, WIECON-ECE 2023\; Prof. Shaikh Anowarul Fattah\, 
 TPC Chair\, WIECON-ECE 2023\; Prof. Meenakshy K\, TPC Chair\, WIECON-ECE 2
 023\; Prof. Anu Mary Chacko\, TPC Chair\, WIECON-ECE 2023\; Prof. Deepa A 
 K\, Organizing Chair\, WIECON-ECE 2023\; Prof. Moshiul Hoque\, Organizing 
 Chair\, WIECON-ECE 2023 and Chair\, Dr. Deepthi Das Krishna\, Publication 
 Chair\, WIECON-ECE 2023\; IEEE Bangladesh Section\; Engr Shohel Rana\, TPS
  Secretary\, WIECON-ECE 2023\; WIECON-ECE 2023 Conference Committee member
 s and all hardworking volunteers.&lt;/p&gt;
END:VEVENT
END:VCALENDAR

