BEGIN:VCALENDAR
VERSION:2.0
PRODID:IEEE vTools.Events//EN
CALSCALE:GREGORIAN
BEGIN:VTIMEZONE
TZID:Europe/Stockholm
BEGIN:DAYLIGHT
DTSTART:20230326T030000
TZOFFSETFROM:+0100
TZOFFSETTO:+0200
RRULE:FREQ=YEARLY;BYDAY=-1SU;BYMONTH=3
TZNAME:CEST
END:DAYLIGHT
BEGIN:STANDARD
DTSTART:20231029T020000
TZOFFSETFROM:+0200
TZOFFSETTO:+0100
RRULE:FREQ=YEARLY;BYDAY=-1SU;BYMONTH=10
TZNAME:CET
END:STANDARD
END:VTIMEZONE
BEGIN:VEVENT
DTSTAMP:20230830T083834Z
UID:2F8FA051-A974-45F7-8A83-00A99675E681
DTSTART;TZID=Europe/Stockholm:20230823T120000
DTEND;TZID=Europe/Stockholm:20230823T130000
DESCRIPTION:The Photonics Global Conference (PGC-2023) will be held at KTH 
 AlbaNova Campus\, Stockholm\, Sweden\, on 21-23 Aug-2023. The aim of this 
 conference is to foster interactions among broad disciplines in the photon
 ics and optical communication family. This is going to be the biggest phot
 onics and communication event this year in Sweden being an excellent platf
 orm to meet and share latest research work. Dr. Xiaodan Pang (KTH/IEEE) is
  one of the General Chairs and Dr. Rafael Puerta (Ericsson/IEEE) is one of
  the Program Chairs. A Women-in-STEM forum\, organized and sponsored by IE
 EE-PS-Sweden\, is planned to be an event as a part of the conference.\n\nT
 he forum “More Women-in-STEM for a Greener World” is an event at PGC-2
 023 organized and chaired by Prof. Qin Wang (RISE/IEEE) and Dr. Shagufta N
 aureen (Coherent/IEEE) and sponsored by a grant from the IEEE Photonics So
 ciety. This forum will provide a platform for all PGC-2023 participants to
  share their thoughts on getting more workforces to face current climate c
 hange and environmental degradation that threat the world. Several invited
  panelists from Swedish government\, RISE\, KTH and companies will join th
 e forum to have an open discussion with audience.\n\n[Link to more info an
 d registration](https://www.optoin.org/PGC/)\n\nKTH AlbaNova Campus\, Stoc
 kholm\, Stockholms lan\, Sweden
LOCATION:KTH AlbaNova Campus\, Stockholm\, Stockholms lan\, Sweden
ORGANIZER:arne.alping@ieee.org
SEQUENCE:23
SUMMARY:Women-in-STEM @ Photonics Global Conference (PGC-2023)
URL;VALUE=URI:https://events.vtools.ieee.org/m/367853
X-ALT-DESC:Description: &lt;br /&gt;&lt;p&gt;The &lt;span style=&quot;color: #3598db\;&quot;&gt;&lt;strong
 &gt;Photonics Global Conference&lt;/strong&gt;&lt;/span&gt; (PGC-2023) will be held at KT
 H AlbaNova Campus\, Stockholm\, Sweden\, on 21-23 Aug-2023. The aim of thi
 s conference is to foster interactions among broad disciplines in the phot
 onics and optical communication family. This is going to be the biggest ph
 otonics and communication event this year in Sweden being an excellent pla
 tform to meet and share latest research work. &lt;u&gt;Dr. Xiaodan Pang&lt;/u&gt; (KTH
 /IEEE) is one of the General Chairs and &lt;u&gt;Dr. Rafael Puerta&lt;/u&gt; (Ericsson
 /IEEE) is one of the Program Chairs. A Women-in-STEM forum\, organized and
  sponsored by IEEE-PS-Sweden\, is planned to be an event as a part of the 
 conference.&lt;/p&gt;\n&lt;p&gt;The forum &amp;ldquo\;&lt;span style=&quot;color: #3598db\;&quot;&gt;&lt;stro
 ng&gt;More Women-in-STEM for a Greener World&lt;/strong&gt;&lt;/span&gt;&amp;rdquo\; is an ev
 ent at PGC-2023 organized and chaired by &lt;u&gt;Prof. Qin Wang&lt;/u&gt; (RISE/IEEE)
  and &lt;u&gt;Dr. Shagufta Naureen&lt;/u&gt; (Coherent/IEEE) and sponsored by a grant 
 from the IEEE Photonics Society. This forum will provide a platform for al
 l PGC-2023 participants to share their thoughts on getting more workforces
  to face current climate change and environmental degradation that threat 
 the world. Several invited panelists from Swedish government\, RISE\, KTH 
 and companies will join the forum to have an open discussion with audience
 .&lt;/p&gt;\n&lt;p&gt;&lt;a href=&quot;https://www.optoin.org/PGC/&quot;&gt;&lt;span style=&quot;color: #1800f
 f\;&quot;&gt;Link to more info and registration&lt;/span&gt;&lt;/a&gt;&lt;/p&gt;\n&lt;p&gt;&amp;nbsp\;&lt;/p&gt;
END:VEVENT
END:VCALENDAR

