BEGIN:VCALENDAR
VERSION:2.0
PRODID:IEEE vTools.Events//EN
CALSCALE:GREGORIAN
BEGIN:VTIMEZONE
TZID:America/New_York
BEGIN:DAYLIGHT
DTSTART:20230312T030000
TZOFFSETFROM:-0500
TZOFFSETTO:-0400
RRULE:FREQ=YEARLY;BYDAY=2SU;BYMONTH=3
TZNAME:EDT
END:DAYLIGHT
BEGIN:STANDARD
DTSTART:20231105T010000
TZOFFSETFROM:-0400
TZOFFSETTO:-0500
RRULE:FREQ=YEARLY;BYDAY=1SU;BYMONTH=11
TZNAME:EST
END:STANDARD
END:VTIMEZONE
BEGIN:VEVENT
DTSTAMP:20230920T153139Z
UID:68872B67-5799-49D3-B8B4-325A548E62CA
DTSTART;TZID=America/New_York:20230919T180000
DTEND;TZID=America/New_York:20230919T190000
DESCRIPTION:The limitations of model-based support for engineering complex 
 systems include limited capability to develop multifaceted models\, as wel
 l as their analysis with robust reliable simulation engines. Lack of such 
 Modeling and Simulation (M&amp;S) infrastructure leads to knowledge gaps in en
 gineering such complex systems and these gaps appear as epistemological em
 ergent behaviors. In response\, an initiative is underway to bring Model-B
 ased Systems Engineering (MBSE) closer together with model-based simulatio
 n developments. M&amp;S represents a core capability and is needed to address 
 today’s complex\, adaptive\, systems of systems engineering challenges. 
 This talk will consider the problems raised by MBSE taken as a modeling ac
 tivity without the support of full strength integrated simulation capabili
 ty and the potential for\, and possible forms of\, closer integration betw
 een the two streams. An example of a system engineering application\, an u
 nmanned vehicle fleet providing emergency ambulance service\, will be exam
 ined as an application of the kind of multifaceted M&amp;S methodology require
 d to effectively deal with such systems.\n\nSpeaker(s): Bernard P. Zeigler
  \, \n\nAgenda: \n6:00 PM - Opening\, updates\, introductions\n6:10 PM - T
 alk start\n7:00 PM - Formal end of talk\; Q&amp;A\n7:10 PM - Vote of thanks\; 
 End of meeting\n\nVirtual: https://events.vtools.ieee.org/m/368260
LOCATION:Virtual: https://events.vtools.ieee.org/m/368260
ORGANIZER:sharan.kalwani@ieee.org
SEQUENCE:8
SUMMARY:MBSE with/out Simulation: State of the Art and Way Forward
URL;VALUE=URI:https://events.vtools.ieee.org/m/368260
X-ALT-DESC:Description: &lt;br /&gt;&lt;p&gt;The limitations of model-based support for
  engineering complex systems include limited capability to develop multifa
 ceted models\, as well as their analysis with robust reliable simulation e
 ngines. Lack of such Modeling and Simulation (M&amp;amp\;S) infrastructure lea
 ds to knowledge gaps in engineering such complex systems and these gaps ap
 pear as epistemological emergent behaviors. In response\, an initiative is
  underway to bring Model-Based Systems Engineering (MBSE) closer together 
 with model-based simulation developments. M&amp;amp\;S represents a core capab
 ility and is needed to address today&amp;rsquo\;s complex\, adaptive\, systems
  of systems engineering challenges. This talk will consider the problems r
 aised by MBSE taken as a modeling activity without the support of full str
 ength integrated simulation capability and the potential for\, and possibl
 e forms of\, closer integration between the two streams. An example of a s
 ystem engineering application\, an unmanned vehicle fleet providing emerge
 ncy ambulance service\, will be examined as an application of the kind of 
 multifaceted M&amp;amp\;S methodology required to effectively deal with such s
 ystems.&lt;/p&gt;&lt;br /&gt;&lt;br /&gt;Agenda: &lt;br /&gt;&lt;p&gt;6:00 PM - Opening\, updates\, intr
 oductions&lt;br /&gt;6:10 PM - Talk start&lt;br /&gt;7:00 PM - Formal end of talk\; Q&amp;
 amp\;A&lt;br /&gt;7:10 PM - Vote of thanks\; End of meeting&lt;/p&gt;
END:VEVENT
END:VCALENDAR

