BEGIN:VCALENDAR
VERSION:2.0
PRODID:IEEE vTools.Events//EN
CALSCALE:GREGORIAN
BEGIN:VTIMEZONE
TZID:America/New_York
BEGIN:DAYLIGHT
DTSTART:20230312T030000
TZOFFSETFROM:-0500
TZOFFSETTO:-0400
RRULE:FREQ=YEARLY;BYDAY=2SU;BYMONTH=3
TZNAME:EDT
END:DAYLIGHT
BEGIN:STANDARD
DTSTART:20231105T010000
TZOFFSETFROM:-0400
TZOFFSETTO:-0500
RRULE:FREQ=YEARLY;BYDAY=1SU;BYMONTH=11
TZNAME:EST
END:STANDARD
END:VTIMEZONE
BEGIN:VEVENT
DTSTAMP:20230916T124229Z
UID:B7EB82BF-C41E-4D11-A7DB-A9FF6B88FDA5
DTSTART;TZID=America/New_York:20230913T120000
DTEND;TZID=America/New_York:20230913T130000
DESCRIPTION:Having a secure and reliable system is key in ensuring connecti
 vity for daily operations\, identifying faults\, communication during natu
 ral disasters and future smart initiatives. By creating a Private LTE netw
 ork brings control back to the utilities from the public carriers. There a
 re many new areas and technologies that have been enabled through use of d
 ifferent RF bands ranging from 600mHZ to 6.0 Ghz that will enable utilitie
 s to maintain protection and control while also gathering data to make bet
 ter operational decisions. From EV chargers to AMI Meters\, technology has
  adapted and so now do utilities.\n\nSpeaker(s): J.T. Mills\, \n\nVirtual:
  https://events.vtools.ieee.org/m/368476
LOCATION:Virtual: https://events.vtools.ieee.org/m/368476
ORGANIZER:tom_mongeon@yahoo.com
SEQUENCE:22
SUMMARY:Grid Modernization – Private LTE Communications Enabling the Futu
 re of Devices
URL;VALUE=URI:https://events.vtools.ieee.org/m/368476
X-ALT-DESC:Description: &lt;br /&gt;&lt;p&gt;Having a secure and reliable system is key
  in ensuring connectivity for daily operations\, identifying faults\, comm
 unication during natural disasters and future smart initiatives. By creati
 ng a Private LTE network brings control back to the utilities from the pub
 lic carriers. There are many new areas and technologies that have been ena
 bled through use of different RF bands ranging from 600mHZ to 6.0 Ghz that
  will enable utilities to maintain protection and control while also gathe
 ring data to make better operational decisions. &amp;nbsp\;From EV chargers to
  AMI Meters\, technology has adapted and so now do utilities.&lt;/p&gt;
END:VEVENT
END:VCALENDAR

