BEGIN:VCALENDAR
VERSION:2.0
PRODID:IEEE vTools.Events//EN
CALSCALE:GREGORIAN
BEGIN:VTIMEZONE
TZID:America/New_York
BEGIN:DAYLIGHT
DTSTART:20230312T030000
TZOFFSETFROM:-0500
TZOFFSETTO:-0400
RRULE:FREQ=YEARLY;BYDAY=2SU;BYMONTH=3
TZNAME:EDT
END:DAYLIGHT
BEGIN:STANDARD
DTSTART:20231105T010000
TZOFFSETFROM:-0400
TZOFFSETTO:-0500
RRULE:FREQ=YEARLY;BYDAY=1SU;BYMONTH=11
TZNAME:EST
END:STANDARD
END:VTIMEZONE
BEGIN:VEVENT
DTSTAMP:20230911T152515Z
UID:5D1F4012-F7BA-4C51-84D5-2F194727C00C
DTSTART;TZID=America/New_York:20230816T190000
DTEND;TZID=America/New_York:20230816T210000
DESCRIPTION:Virtual ExCom for August\n\nAgenda: \n1. Attendance\nQuorum che
 ck -- David Casper\n\n2. approval of agenda including consent agenda\nCons
 ent to approval of outstanding 2023 minutes (in the appropriate month&#39;s Ex
 Com directory area)\nhttps://drive.google.com/drive/folders/10bSrj8mZMapJL
 Plc__rIC5zgkpe22-h4?usp=share_link\n\nConsent to approval of outstanding 2
 023 treasurer reports\nhttps://drive.google.com/drive/folders/10bSrj8mZMap
 JLPlc__rIC5zgkpe22-h4?usp=share_link\n\n3. Chairs Comments\nR1/2 - OWL dev
 ice -- Perhpas for Sept Meeting? (360 display/mic for hybrid meetings)\nFo
 rming an SSIT chapter\, and possible AI panel\nParking lot: Review of how 
 we handle budget\, and possible guidelines on spending (target March meeti
 ng)\n\nSections Congress Feedback - Barbara\n\n4. Action Item Report\n- Ji
 m/et al -- elevation committee -- actively soliciting participation\n- New
 sletter distribution (eNotice in general or??)\n- Section sponosored &quot;IEEE
  for Humanity&quot; workshop\n- SWAG coordination (collaboration with other sec
 tions) - pending feedback from other sections\n\n5. Chapter/Affiliate Grou
 p Activity &amp; coordination\nKey action: identify one or two topics in your 
 chapter/affiliate group area of interest\nand plan on which month you will
  try to organize an activity based on that.\n\n6. Standing Committee Activ
 ities:\nFall PACE/WIE/YP elevation interview event...\n\n7 Old Business\nS
 ection &amp; Chapter Election Cycle for 2024/5 --Status: Raj.\n\n8 New Busines
 s\nWicked STEM --- Sept Event 23rd\nTaking advantage of Mentors\nIEEE/CS k
 ey strategies\n\n9 Next Meeting -- Wed. Sept ?? Dinner??\n\n10. For the go
 od of the order --\n\n11 Adjourn to forum\n12 Forum topics (upcoming event
 s\, etc)\nDiscussion of budget/reimbursement processes\n\n================
 ==========\n\nOur Leadership Team:\nCommunications and Signal Processing C
 hair: Open\nComputer Society Chair: Wei Lu\nVice Chair: Sridhar Raghavan\n
 Treasurer: Baris Kazar\nEngineering in Medicine &amp; Biology Society Chair: O
 pen\nSecretary: J Michael O&#39;Connor\nMicrowave T&amp;T/Antennas and Propagation
  Chair: Elizabeth H. Schenk\nVice Chair: Ian Armstrong\nPower and Energy S
 ociety Chair: Tom Mongeon\nReliability Society Chair: Michael W. Bannan\nR
 obotics and Automation Society Chair: Sridhar Raghavan\n\nAffiliate Groups
 \nConsultants Network Chair: Raj Vayyavur\nLife Members Chair: Alan Schect
 er\nSecretary: J Michael O&#39;Connor\nWomen In Engineering/Young Professional
 s Chair: Barbara Bancroft\n\nEducation Chair/Community Qiayon Yu\nStudent 
 Activities May Wan\nHistory Committee Jason Hui\nPACE Henry Axtmayer\n\nVi
 rtual: https://events.vtools.ieee.org/m/369267
LOCATION:Virtual: https://events.vtools.ieee.org/m/369267
ORGANIZER:Jim &lt;excom@jimisaak.com&gt;
SEQUENCE:6
SUMMARY:NH ExCom Meeting
URL;VALUE=URI:https://events.vtools.ieee.org/m/369267
X-ALT-DESC:Description: &lt;br /&gt;&lt;p&gt;Virtual ExCom for August&lt;/p&gt;\n&lt;p&gt;&lt;iframe s
 tyle=&quot;display: none\;&quot; src=&quot;about:blank&quot;&gt;&lt;/iframe&gt;&lt;/p&gt;&lt;br /&gt;&lt;br /&gt;Agenda: 
 &lt;br /&gt;&lt;p&gt;1. Attendance&amp;nbsp\;&lt;br /&gt;&amp;nbsp\; &amp;nbsp\;Quorum check -- David Ca
 sper&lt;br /&gt;&amp;nbsp\; &amp;nbsp\;&lt;br /&gt;2. approval of agenda including consent age
 nda&lt;br /&gt;&amp;nbsp\; &amp;nbsp\; Consent to approval of outstanding 2023 minutes (
 in the appropriate month&#39;s ExCom directory area)&lt;br /&gt;&amp;nbsp\; &amp;nbsp\; http
 s://drive.google.com/drive/folders/10bSrj8mZMapJLPlc__rIC5zgkpe22-h4?usp=s
 hare_link&lt;br /&gt;&amp;nbsp\; &amp;nbsp\;&amp;nbsp\;&lt;br /&gt;&amp;nbsp\; &amp;nbsp\; Consent to appr
 oval of outstanding 2023 treasurer reports&amp;nbsp\;&lt;br /&gt;&amp;nbsp\; &amp;nbsp\; htt
 ps://drive.google.com/drive/folders/10bSrj8mZMapJLPlc__rIC5zgkpe22-h4?usp=
 share_link&lt;br /&gt;&amp;nbsp\; &amp;nbsp\;&amp;nbsp\;&lt;br /&gt;3. Chairs Comments&lt;br /&gt;&amp;nbsp\
 ; &amp;nbsp\; &amp;nbsp\; R1/2 - OWL device -- Perhpas for Sept Meeting? (360 disp
 lay/mic for hybrid meetings)&lt;br /&gt;&amp;nbsp\; &amp;nbsp\; &amp;nbsp\; Forming an SSIT 
 chapter\, and possible AI panel&lt;br /&gt;&amp;nbsp\; &amp;nbsp\; &amp;nbsp\; Parking lot: 
 Review of how we handle budget\, and possible guidelines on spending (targ
 et March meeting)&lt;/p&gt;\n&lt;p&gt;&amp;nbsp\; &amp;nbsp\;Sections Congress Feedback - Barb
 ara&lt;br /&gt;&amp;nbsp\; &amp;nbsp\;&lt;br /&gt;4. Action Item Report&lt;br /&gt;&amp;nbsp\; &amp;nbsp\; &amp;
 nbsp\;- Jim/et al -- elevation committee -- actively soliciting participat
 ion&lt;br /&gt;&amp;nbsp\; &amp;nbsp\; &amp;nbsp\;- Newsletter distribution (eNotice in gene
 ral or??)&lt;br /&gt;&amp;nbsp\; &amp;nbsp\; &amp;nbsp\;- Section sponosored &quot;IEEE for Human
 ity&quot; workshop&lt;br /&gt;&amp;nbsp\; &amp;nbsp\; &amp;nbsp\;- SWAG coordination (collaborati
 on with other sections) - pending feedback from other sections&lt;br /&gt;&amp;nbsp\
 ; &amp;nbsp\;&amp;nbsp\;&lt;br /&gt;5. Chapter/Affiliate Group Activity &amp;amp\; coordinat
 ion&lt;br /&gt;&amp;nbsp\; &amp;nbsp\; Key action: identify one or two topics in your ch
 apter/affiliate group area of interest&lt;br /&gt;&amp;nbsp\; &amp;nbsp\; &amp;nbsp\; and pl
 an on which month you will try to organize an activity based on that.&lt;br /
 &gt;&amp;nbsp\; &amp;nbsp\; &amp;nbsp\;&amp;nbsp\;&lt;br /&gt;6. Standing Committee Activities:&amp;nbs
 p\;&lt;br /&gt;&amp;nbsp\; &amp;nbsp\; Fall PACE/WIE/YP elevation interview event...&lt;br 
 /&gt;&amp;nbsp\; &amp;nbsp\; &amp;nbsp\; &amp;nbsp\;&amp;nbsp\;&lt;br /&gt;7 Old Business&lt;br /&gt;&amp;nbsp\; 
 &amp;nbsp\; &amp;nbsp\;Section &amp;amp\; Chapter Election Cycle for 2024/5 --Status: 
 Raj.&lt;br /&gt;&amp;nbsp\; &amp;nbsp\; &amp;nbsp\;&lt;br /&gt;8 New Business&lt;br /&gt;&amp;nbsp\; &amp;nbsp\;
  &amp;nbsp\; &amp;nbsp\; Wicked STEM --- Sept Event 23rd&lt;br /&gt;&amp;nbsp\; &amp;nbsp\; Taki
 ng advantage of Mentors&lt;br /&gt;&amp;nbsp\; &amp;nbsp\; IEEE/CS key strategies&lt;br /&gt;&amp;
 nbsp\; &amp;nbsp\;&amp;nbsp\;&lt;br /&gt;9 Next Meeting &amp;nbsp\;-- &amp;nbsp\;Wed. Sept ?? Di
 nner??&lt;br /&gt;&amp;nbsp\; &amp;nbsp\;&amp;nbsp\;&lt;br /&gt;10. For the good of the order --&lt;b
 r /&gt;&amp;nbsp\; &amp;nbsp\;&amp;nbsp\;&lt;br /&gt;11 Adjourn to forum&lt;br /&gt;12 Forum topics (
 upcoming events\, etc)&lt;br /&gt;&amp;nbsp\; &amp;nbsp\; Discussion of budget/reimburse
 ment processes&lt;/p&gt;\n&lt;p&gt;==========================&lt;/p&gt;\n&lt;p&gt;&amp;nbsp\; &amp;nbsp\;O
 ur Leadership Team:&lt;br /&gt;&amp;nbsp\; &amp;nbsp\; &amp;nbsp\; Communications and Signal
  Processing &amp;nbsp\; &amp;nbsp\; Chair: Open&lt;br /&gt;&amp;nbsp\; &amp;nbsp\; &amp;nbsp\; Compu
 ter Society &amp;nbsp\; &amp;nbsp\; &amp;nbsp\; &amp;nbsp\; &amp;nbsp\; &amp;nbsp\; &amp;nbsp\; &amp;nbsp\
 ; Chair: Wei Lu&lt;br /&gt;&amp;nbsp\; &amp;nbsp\; &amp;nbsp\; &amp;nbsp\; &amp;nbsp\; &amp;nbsp\; &amp;nbsp
 \; &amp;nbsp\; &amp;nbsp\; &amp;nbsp\; &amp;nbsp\; &amp;nbsp\; &amp;nbsp\; &amp;nbsp\; &amp;nbsp\; Vice Ch
 air: Sridhar Raghavan&lt;br /&gt;&amp;nbsp\; &amp;nbsp\; &amp;nbsp\; &amp;nbsp\; &amp;nbsp\; &amp;nbsp\;
  &amp;nbsp\; &amp;nbsp\; &amp;nbsp\; &amp;nbsp\; &amp;nbsp\; &amp;nbsp\; &amp;nbsp\; &amp;nbsp\; &amp;nbsp\; T
 reasurer: Baris Kazar&lt;br /&gt;&amp;nbsp\; &amp;nbsp\; &amp;nbsp\; Engineering in Medicine
  &amp;amp\; Biology Society &amp;nbsp\; &amp;nbsp\;Chair: Open&lt;br /&gt;&amp;nbsp\; &amp;nbsp\; &amp;n
 bsp\; &amp;nbsp\; &amp;nbsp\; &amp;nbsp\; &amp;nbsp\; &amp;nbsp\; &amp;nbsp\; &amp;nbsp\; &amp;nbsp\; &amp;nbs
 p\; &amp;nbsp\; &amp;nbsp\; &amp;nbsp\; Secretary: J Michael O&#39;Connor&lt;br /&gt;&amp;nbsp\; &amp;nb
 sp\; &amp;nbsp\; Microwave T&amp;amp\;T/Antennas and Propagation &amp;nbsp\; &amp;nbsp\; C
 hair: Elizabeth H. Schenk&lt;br /&gt;&amp;nbsp\; &amp;nbsp\; &amp;nbsp\; Vice Chair: Ian Arm
 strong&lt;br /&gt;&amp;nbsp\; &amp;nbsp\; &amp;nbsp\; Power and Energy Society &amp;nbsp\; &amp;nbsp
 \; &amp;nbsp\; &amp;nbsp\; &amp;nbsp\; &amp;nbsp\; Chair: Tom Mongeon&lt;br /&gt;&amp;nbsp\; &amp;nbsp\;
  &amp;nbsp\; Reliability Society &amp;nbsp\; &amp;nbsp\; &amp;nbsp\; &amp;nbsp\; &amp;nbsp\; &amp;nbsp
 \;Chair: Michael W. Bannan&lt;br /&gt;&amp;nbsp\; &amp;nbsp\; &amp;nbsp\; Robotics and Autom
 ation Society &amp;nbsp\; &amp;nbsp\; &amp;nbsp\; &amp;nbsp\; Chair: Sridhar Raghavan&lt;br /
 &gt;&amp;nbsp\; &amp;nbsp\; &amp;nbsp\; &amp;nbsp\; &amp;nbsp\;&amp;nbsp\;&lt;br /&gt;&amp;nbsp\; &amp;nbsp\;Affili
 ate Groups&lt;br /&gt;&amp;nbsp\; &amp;nbsp\; &amp;nbsp\; Consultants Network &amp;nbsp\; &amp;nbsp\
 ; &amp;nbsp\; &amp;nbsp\; &amp;nbsp\; &amp;nbsp\; Chair: Raj Vayyavur&amp;nbsp\;&lt;br /&gt;&amp;nbsp\; 
 &amp;nbsp\; &amp;nbsp\; Life Members &amp;nbsp\; &amp;nbsp\; &amp;nbsp\; &amp;nbsp\; &amp;nbsp\; &amp;nbsp
 \; &amp;nbsp\; &amp;nbsp\; Chair: Alan Schecter&lt;br /&gt;&amp;nbsp\; &amp;nbsp\; &amp;nbsp\; &amp;nbsp
 \; &amp;nbsp\; &amp;nbsp\; &amp;nbsp\; &amp;nbsp\; &amp;nbsp\; &amp;nbsp\; &amp;nbsp\; &amp;nbsp\; &amp;nbsp\;
  &amp;nbsp\; &amp;nbsp\; Secretary: J Michael O&#39;Connor&lt;br /&gt;&amp;nbsp\; &amp;nbsp\; &amp;nbsp\
 ; Women In Engineering/Young Professionals &amp;nbsp\; &amp;nbsp\; Chair: Barbara 
 Bancroft&lt;br /&gt;&amp;nbsp\; &amp;nbsp\; &amp;nbsp\;&amp;nbsp\;&lt;br /&gt;&amp;nbsp\; &amp;nbsp\; &amp;nbsp\; 
 Education Chair/Community &amp;nbsp\; &amp;nbsp\; &amp;nbsp\; &amp;nbsp\; &amp;nbsp\; &amp;nbsp\;Q
 iayon Yu&lt;br /&gt;&amp;nbsp\; &amp;nbsp\; &amp;nbsp\; Student Activities &amp;nbsp\; &amp;nbsp\; &amp;
 nbsp\; &amp;nbsp\; &amp;nbsp\; &amp;nbsp\;May Wan&lt;br /&gt;&amp;nbsp\; &amp;nbsp\; &amp;nbsp\; History
  Committee &amp;nbsp\; &amp;nbsp\; &amp;nbsp\; &amp;nbsp\; &amp;nbsp\; &amp;nbsp\; &amp;nbsp\; &amp;nbsp\;
 Jason Hui&lt;br /&gt;&amp;nbsp\; &amp;nbsp\; &amp;nbsp\; PACE &amp;nbsp\; &amp;nbsp\; &amp;nbsp\; &amp;nbsp\
 ; &amp;nbsp\; &amp;nbsp\; &amp;nbsp\; &amp;nbsp\; &amp;nbsp\; &amp;nbsp\;Henry Axtmayer&amp;nbsp\;&lt;/p&gt;
 \n&lt;p&gt;&amp;nbsp\;&lt;/p&gt;\n&lt;p&gt;&lt;iframe style=&quot;display: none\;&quot; src=&quot;about:blank&quot;&gt;&lt;/i
 frame&gt;&lt;/p&gt;
END:VEVENT
END:VCALENDAR

