BEGIN:VCALENDAR
VERSION:2.0
PRODID:IEEE vTools.Events//EN
CALSCALE:GREGORIAN
BEGIN:VTIMEZONE
TZID:America/New_York
BEGIN:DAYLIGHT
DTSTART:20230312T030000
TZOFFSETFROM:-0500
TZOFFSETTO:-0400
RRULE:FREQ=YEARLY;BYDAY=2SU;BYMONTH=3
TZNAME:EDT
END:DAYLIGHT
BEGIN:STANDARD
DTSTART:20231105T010000
TZOFFSETFROM:-0400
TZOFFSETTO:-0500
RRULE:FREQ=YEARLY;BYDAY=1SU;BYMONTH=11
TZNAME:EST
END:STANDARD
END:VTIMEZONE
BEGIN:VEVENT
DTSTAMP:20231005T225458Z
UID:17A80596-2E64-47A7-8018-48E40378D567
DTSTART;TZID=America/New_York:20230926T120000
DTEND;TZID=America/New_York:20230926T130000
DESCRIPTION:This distinguished lecture talk presents an overview of RF and 
 mm-wave Power Amplifier (PA) designs in silicon\, focusing on the fundamen
 tals\, design practices\, and advanced PA topologies. First\, the distingu
 ished lecture talk will introduce PA performance metrics and their impacts
  on wireless systems.\n\nNext\, it presents PA device-level designs\, incl
 uding active device large-signal operations\, nonlinearity\, and stability
  as well as passive network impedance transformation and power combining. 
 Basic load-/source-pull simulations and biasing techniques will be covered
 .\n\nThen\, the talk will go through popular PA classes of linear and swit
 ching PAs. The talk will cover a wide variety of advanced PA topologies th
 at enhance bandwidth\, efficiency and linearity. Finally\, the distinguish
 ed lecture talk will conclude with several PA design examples at RF and mm
 -Wave frequencies.\n\nThis presentation is open to all and both experience
 d and novice level engineers are welcome to attend.\n\nSpeaker(s): Prof. H
 ua Wang\n\nAgenda: \n11:45am - WebEx Waiting Room\n\n12:00-12:50pm - Prese
 ntation\n\n12:50-1:00pm - Questions\n\nVirtual: https://events.vtools.ieee
 .org/m/370040
LOCATION:Virtual: https://events.vtools.ieee.org/m/370040
ORGANIZER:menders@ieee.org
SEQUENCE:39
SUMMARY:Fundamentals of RF and mm-Wave Power Amplifier Design
URL;VALUE=URI:https://events.vtools.ieee.org/m/370040
X-ALT-DESC:Description: &lt;br /&gt;&lt;p&gt;This distinguished lecture talk presents a
 n overview of RF and mm-wave Power Amplifier (PA) designs in silicon\, foc
 using on the fundamentals\, design practices\, and advanced PA topologies.
  First\, the distinguished lecture talk will introduce PA performance metr
 ics and their impacts on wireless systems.&lt;/p&gt;\n&lt;p&gt;Next\, it presents PA d
 evice-level designs\, including active device large-signal operations\, no
 nlinearity\, and stability as well as passive network impedance transforma
 tion and power combining. Basic load-/source-pull simulations and biasing 
 techniques will be covered.&lt;/p&gt;\n&lt;p&gt;Then\, the talk will go through popula
 r PA classes of linear and switching PAs. The talk will cover a wide varie
 ty of advanced PA topologies that enhance bandwidth\, efficiency and linea
 rity. Finally\, the distinguished lecture talk will conclude with several 
 PA design examples at RF and mm-Wave frequencies.&lt;/p&gt;\n&lt;p&gt;This presentatio
 n is open to all and both &lt;strong&gt;experienced and novice level engineers&lt;/
 strong&gt; are welcome to attend.&lt;/p&gt;\n&lt;p&gt;&amp;nbsp\;&lt;/p&gt;&lt;br /&gt;&lt;br /&gt;Agenda: &lt;br 
 /&gt;&lt;p&gt;11:45am - WebEx Waiting Room&lt;/p&gt;\n&lt;p&gt;&lt;strong&gt;12:00-12:50pm - Presenta
 tion&lt;/strong&gt;&lt;/p&gt;\n&lt;p&gt;12:50-1:00pm - Questions&lt;/p&gt;
END:VEVENT
END:VCALENDAR

