BEGIN:VCALENDAR
VERSION:2.0
PRODID:IEEE vTools.Events//EN
CALSCALE:GREGORIAN
BEGIN:VTIMEZONE
TZID:America/Chicago
BEGIN:DAYLIGHT
DTSTART:20230312T030000
TZOFFSETFROM:-0600
TZOFFSETTO:-0500
RRULE:FREQ=YEARLY;BYDAY=2SU;BYMONTH=3
TZNAME:CDT
END:DAYLIGHT
BEGIN:STANDARD
DTSTART:20231105T010000
TZOFFSETFROM:-0500
TZOFFSETTO:-0600
RRULE:FREQ=YEARLY;BYDAY=1SU;BYMONTH=11
TZNAME:CST
END:STANDARD
END:VTIMEZONE
BEGIN:VEVENT
DTSTAMP:20230822T001357Z
UID:2E71AA91-4429-41C4-87D3-EDCACE37FF08
DTSTART;TZID=America/Chicago:20230818T113000
DTEND;TZID=America/Chicago:20230818T123000
DESCRIPTION:What should Engineering Professionals do to help regulate such 
 risky AI misuse\, and how to mitigate its socio-economic damages.\n\nSpeak
 er(s): SUNNY\, \n\nVirtual: https://events.vtools.ieee.org/m/370049
LOCATION:Virtual: https://events.vtools.ieee.org/m/370049
ORGANIZER:asonze@yahoo.com
SEQUENCE:21
SUMMARY:Webinar- &quot;DEEPFAKES IN AI&quot;
URL;VALUE=URI:https://events.vtools.ieee.org/m/370049
X-ALT-DESC:Description: &lt;br /&gt;&lt;p style=&quot;font-weight: 400\;&quot;&gt;What should Eng
 ineering Professionals do to help regulate such risky AI misuse\, and how 
 to mitigate its socio-economic damages.&lt;/p&gt;
END:VEVENT
END:VCALENDAR

