BEGIN:VCALENDAR
VERSION:2.0
PRODID:IEEE vTools.Events//EN
CALSCALE:GREGORIAN
BEGIN:VTIMEZONE
TZID:Asia/Kolkata
BEGIN:STANDARD
DTSTART:19451014T230000
TZOFFSETFROM:+0630
TZOFFSETTO:+0530
TZNAME:IST
END:STANDARD
END:VTIMEZONE
BEGIN:VEVENT
DTSTAMP:20230824T110102Z
UID:C39FC9C9-B8F1-44FF-B7DB-5F5BF6E737E1
DTSTART;TZID=Asia/Kolkata:20230817T190000
DTEND;TZID=Asia/Kolkata:20230817T200000
DESCRIPTION:Rise and persist until the goal is triumphantly reached!\n\nWe 
 the IEEE WIE SJCE SB is back again with an amazing event.Brace yourselves 
 for an electrifying webinar series\, &quot;CHANGEMAKERS UNITE&quot; on behalf of Int
 ernational Youth Day . Together\, let&#39;s Empower women worldwide.\n\nGet re
 ady to be inspired by the remarkable speaker Ms.Jenifer Castillo \,IEEE re
 gion 9 direct elect \,Sales and account manager.She&#39;s set to enlighten us 
 with insights into cutting-edge of skill set development.\n\nTOPIC : &quot;IEEE
  WIE opportunities and the importance of skill development at an early age
  &quot;\n\nMark your calendars: 17th\,August 2023\n\n7pm - 8pm (IST)\n\nE-Certi
 ficates will be provided to all the participants\n\nYour participation is 
 eagerly awaited! Let&#39;s celebrate knowledge and growth.\n\nVirtual: https:/
 /events.vtools.ieee.org/m/370094
LOCATION:Virtual: https://events.vtools.ieee.org/m/370094
ORGANIZER:sreekanthr@ieee.org
SEQUENCE:15
SUMMARY:CHANGEMAKERS UNITE
URL;VALUE=URI:https://events.vtools.ieee.org/m/370094
X-ALT-DESC:Description: &lt;br /&gt;&lt;p&gt;Rise and persist until the goal is triumph
 antly reached!&amp;nbsp\;&lt;/p&gt;\n&lt;p&gt;We the IEEE WIE SJCE SB is back again with a
 n amazing event.Brace yourselves for an electrifying webinar series\, &quot;CHA
 NGEMAKERS UNITE&quot; on behalf of International Youth Day . Together\, let&#39;s &amp;
 nbsp\;Empower women worldwide.&lt;/p&gt;\n&lt;p&gt;Get ready to be inspired by the rem
 arkable speaker Ms.Jenifer Castillo \,IEEE region 9 direct elect \,Sales a
 nd account manager.She&#39;s set to enlighten us with insights into cutting-ed
 ge of skill set development.&lt;/p&gt;\n&lt;p&gt;TOPIC : &quot;IEEE WIE opportunities and t
 he importance of skill development at an early age &quot;&amp;nbsp\;&lt;/p&gt;\n&lt;p&gt;Mark y
 our calendars: 17th\,August 2023&amp;nbsp\;&lt;/p&gt;\n&lt;p&gt;&lt;span style=&quot;vertical-alig
 n: inherit\;&quot;&gt;&lt;span style=&quot;vertical-align: inherit\;&quot;&gt;&amp;nbsp\;7pm - 8pm (IS
 T) &amp;nbsp\;&lt;/span&gt;&lt;/span&gt;&lt;/p&gt;\n&lt;p&gt;E-Certificates will be provided to all th
 e participants&amp;nbsp\;&lt;/p&gt;\n&lt;p&gt;Your participation is eagerly awaited! Let&#39;s
  celebrate knowledge and growth.&amp;nbsp\;&lt;/p&gt;
END:VEVENT
END:VCALENDAR

