BEGIN:VCALENDAR
VERSION:2.0
PRODID:IEEE vTools.Events//EN
CALSCALE:GREGORIAN
BEGIN:VTIMEZONE
TZID:America/Los_Angeles
BEGIN:DAYLIGHT
DTSTART:20230312T030000
TZOFFSETFROM:-0800
TZOFFSETTO:-0700
RRULE:FREQ=YEARLY;BYDAY=2SU;BYMONTH=3
TZNAME:PDT
END:DAYLIGHT
BEGIN:STANDARD
DTSTART:20231105T010000
TZOFFSETFROM:-0700
TZOFFSETTO:-0800
RRULE:FREQ=YEARLY;BYDAY=1SU;BYMONTH=11
TZNAME:PST
END:STANDARD
END:VTIMEZONE
BEGIN:VEVENT
DTSTAMP:20230817T000737Z
UID:8ED1565B-9A31-4EFF-9ECC-722092B58E8C
DTSTART;TZID=America/Los_Angeles:20230816T120000
DTEND;TZID=America/Los_Angeles:20230816T130000
DESCRIPTION:&quot;Sustainable Energy Designs - Find out how your home can have s
 olar\, wind\, fuel cells\, and/or battery backup. Capture the rainwater fo
 r use in home. Heat pumps what are they and why they may be a better alter
 native than HVAC (Heating ventilation Air Conditioning). Triple pane windo
 ws\, LED lighting\, ASRAE standards\, Solar ready\, and geothermal systems
  for the home. Help locally with carbon reduction\, lowering GHG (Green Ho
 use Gases)\, building resiliency into your home (during power outages your
  lights stay on)\, energy efficient devices\, and Net metering (sell power
  back to your Utility company). What is a community Microgrid?&quot; Overview o
 f how to go through a process when designing a new building on how to mini
 mize the amount of resources needed while maximizing health and comfort an
 d using microgrids as a way to increase resiliency.\n\nCo-sponsored by: IE
 EE Power and Energy Society\n\nSpeaker(s): Yasha Ogg\, \n\nAgenda: \n12:00
  pm PDT IEEE Announcements\n12:02 pm PDT Introduction of the Speaker\n12:0
 4 pm PDT Presentation\n12:45 pm PDT Q&amp;A\n\nVirtual: https://events.vtools.
 ieee.org/m/370353
LOCATION:Virtual: https://events.vtools.ieee.org/m/370353
ORGANIZER:mike.brisbois@ieee.org
SEQUENCE:21
SUMMARY:IEEE Sustainable Energy Designs
URL;VALUE=URI:https://events.vtools.ieee.org/m/370353
X-ALT-DESC:Description: &lt;br /&gt;&lt;p&gt;&quot;Sustainable Energy Designs - Find out how
  your home can have solar\, wind\, fuel cells\, and/or battery backup. Cap
 ture the rainwater for use in home. Heat pumps what are they and why they 
 may be a better alternative than HVAC (Heating ventilation Air Conditionin
 g). Triple pane windows\, LED lighting\, ASRAE standards\, Solar ready\, a
 nd geothermal systems for the home. Help locally with carbon reduction\, l
 owering GHG (Green House Gases)\, building resiliency into your home (duri
 ng power outages your lights stay on)\, energy efficient devices\, and Net
  metering (sell power back to your Utility company). What is a community M
 icrogrid?&quot; Overview of how to go through a process when designing a new bu
 ilding on how to minimize the amount of resources needed while maximizing 
 health and comfort and using microgrids as a way to increase resiliency.&lt;/
 p&gt;&lt;br /&gt;&lt;br /&gt;Agenda: &lt;br /&gt;&lt;p&gt;12:00 pm PDT IEEE Announcements&lt;br /&gt;12:02 
 pm PDT Introduction of the Speaker&lt;br /&gt;12:04 pm PDT Presentation&lt;br /&gt;12:
 45 pm PDT Q&amp;amp\;A&lt;/p&gt;
END:VEVENT
END:VCALENDAR

