BEGIN:VCALENDAR
VERSION:2.0
PRODID:IEEE vTools.Events//EN
CALSCALE:GREGORIAN
BEGIN:VTIMEZONE
TZID:America/Mexico_City
BEGIN:STANDARD
DTSTART:20221030T010000
TZOFFSETFROM:-0500
TZOFFSETTO:-0600
TZNAME:CST
END:STANDARD
END:VTIMEZONE
BEGIN:VEVENT
DTSTAMP:20230821T151342Z
UID:6F9787A3-CD2D-4D6A-9BCE-A869D82C6856
DTSTART;TZID=America/Mexico_City:20230818T120000
DTEND;TZID=America/Mexico_City:20230818T130000
DESCRIPTION:Programa de acompañamiento a alumnos de nuevo ingreso a la UAM
  Iztapalapa en el trimestre 23-P a cargo de alumnos de sus mismas licencia
 turas.\n\nRoom: Planta Baja\, Bldg: C\, Edificio C\, C. 8\, Leyes de Refor
 ma 1ra Secc\, Iztapalapa\, Iztapalapa\, Distrito Federal\, Mexico\, 09310
LOCATION:Room: Planta Baja\, Bldg: C\, Edificio C\, C. 8\, Leyes de Reforma
  1ra Secc\, Iztapalapa\, Iztapalapa\, Distrito Federal\, Mexico\, 09310
ORGANIZER:sb.uami@ieee.org
SEQUENCE:15
SUMMARY:Amigo Pantera - Bienvenida
URL;VALUE=URI:https://events.vtools.ieee.org/m/370562
X-ALT-DESC:Description: &lt;br /&gt;&lt;p&gt;Programa de acompa&amp;ntilde\;amiento a alumn
 os de nuevo ingreso a la UAM Iztapalapa en el trimestre 23-P a cargo de al
 umnos de sus mismas licenciaturas.&lt;/p&gt;
END:VEVENT
END:VCALENDAR

