BEGIN:VCALENDAR
VERSION:2.0
PRODID:IEEE vTools.Events//EN
CALSCALE:GREGORIAN
BEGIN:VTIMEZONE
TZID:America/Bogota
BEGIN:DAYLIGHT
DTSTART:20380118T221407
TZOFFSETFROM:-0500
TZOFFSETTO:-0500
RRULE:FREQ=YEARLY;BYDAY=3MO;BYMONTH=1
TZNAME:-05
END:DAYLIGHT
BEGIN:STANDARD
DTSTART:19930206T230000
TZOFFSETFROM:-0400
TZOFFSETTO:-0500
RRULE:FREQ=YEARLY;BYDAY=1SA;BYMONTH=2
TZNAME:-05
END:STANDARD
END:VTIMEZONE
BEGIN:VEVENT
DTSTAMP:20230917T131653Z
UID:DA34CE2B-E0BF-441B-B53F-889A19C3629B
DTSTART;TZID=America/Bogota:20230916T130000
DTEND;TZID=America/Bogota:20230916T160000
DESCRIPTION:¡Únete a nosotros en un emocionante viaje hacia la computaci
 ón! El evento de lanzamiento del Capítulo IEEE Colombian Caribbean Secti
 on Computer Society Chapter está a punto de despegar este 15 de septiembr
 e en Barranquilla y Cartagena\, y continuará el 16 en Santa Marta. Prepá
 rate para una experiencia única llena de innovación\, aprendizaje y cone
 xiones invaluables. Este evento marca el comienzo de un nuevo capítulo en
  la comunidad tecnológica de la IEEE Colombian Caribbean Section\, y tú 
 eres parte fundamental de esta emocionante historia. ¡No te pierdas la op
 ortunidad de ser parte de este hito tecnológico y formar parte de un futu
 ro lleno de posibilidades!\n\nSpeaker(s): Eldon Caldwell\, \n\nBldg: UNIVE
 RSIDAD DEL MAGDALENA\, SANTA MARTA\, Magdalena\, Colombia
LOCATION:Bldg: UNIVERSIDAD DEL MAGDALENA\, SANTA MARTA\, Magdalena\, Colomb
 ia
ORGANIZER:hecter@ieee.org
SEQUENCE:15
SUMMARY:PRINT(&quot;HOLA MUNDO - SANTA MARTA: IEEE COLOMBIAN CARIBBEAN SECTION C
 OMPUTER SOCIETY CHAPTER&quot;)
URL;VALUE=URI:https://events.vtools.ieee.org/m/370936
X-ALT-DESC:Description: &lt;br /&gt;&lt;p&gt;&amp;iexcl\;&amp;Uacute\;nete a nosotros en un emo
 cionante viaje hacia la computaci&amp;oacute\;n! El evento de lanzamiento del 
 Cap&amp;iacute\;tulo IEEE Colombian Caribbean Section Computer Society Chapter
  est&amp;aacute\; a punto de despegar este 15 de septiembre en Barranquilla y 
 Cartagena\, y continuar&amp;aacute\; el 16 en Santa Marta. Prep&amp;aacute\;rate p
 ara una experiencia &amp;uacute\;nica llena de innovaci&amp;oacute\;n\, aprendizaj
 e y conexiones invaluables. Este evento marca el comienzo de un nuevo cap&amp;
 iacute\;tulo en la comunidad tecnol&amp;oacute\;gica de la IEEE Colombian Cari
 bbean Section\, y t&amp;uacute\; eres parte fundamental de esta emocionante hi
 storia. &amp;iexcl\;No te pierdas la oportunidad de ser parte de este hito tec
 nol&amp;oacute\;gico y formar parte de un futuro lleno de posibilidades!&lt;/p&gt;
END:VEVENT
END:VCALENDAR

