BEGIN:VCALENDAR
VERSION:2.0
PRODID:IEEE vTools.Events//EN
CALSCALE:GREGORIAN
BEGIN:VTIMEZONE
TZID:America/Bogota
BEGIN:DAYLIGHT
DTSTART:20380118T221407
TZOFFSETFROM:-0500
TZOFFSETTO:-0500
RRULE:FREQ=YEARLY;BYDAY=3MO;BYMONTH=1
TZNAME:-05
END:DAYLIGHT
BEGIN:STANDARD
DTSTART:19930206T230000
TZOFFSETFROM:-0400
TZOFFSETTO:-0500
RRULE:FREQ=YEARLY;BYDAY=1SA;BYMONTH=2
TZNAME:-05
END:STANDARD
END:VTIMEZONE
BEGIN:VEVENT
DTSTAMP:20230909T160115Z
UID:EFFFAB04-B510-44D3-B202-6F2B308D12B0
DTSTART;TZID=America/Bogota:20230906T080000
DTEND;TZID=America/Bogota:20230906T143000
DESCRIPTION:There is a cycle of conferences for the promotion and visualiza
 tion of the chapters of the branch of the University of Cauca and the dist
 rict university\n\nPopayan\, Cauca\, Colombia
LOCATION:Popayan\, Cauca\, Colombia
ORGANIZER:ramaieee@unicauca.edu.co
SEQUENCE:9
SUMMARY:Charpers in Action: IEEE TECHFEST DAY¡
URL;VALUE=URI:https://events.vtools.ieee.org/m/371007
X-ALT-DESC:Description: &lt;br /&gt;&lt;p&gt;There is a cycle of conferences for the pr
 omotion and visualization of the chapters of the branch of the University 
 of Cauca and the district university&lt;/p&gt;
END:VEVENT
END:VCALENDAR

