BEGIN:VCALENDAR
VERSION:2.0
PRODID:IEEE vTools.Events//EN
CALSCALE:GREGORIAN
BEGIN:VTIMEZONE
TZID:America/Los_Angeles
BEGIN:DAYLIGHT
DTSTART:20230312T030000
TZOFFSETFROM:-0800
TZOFFSETTO:-0700
RRULE:FREQ=YEARLY;BYDAY=2SU;BYMONTH=3
TZNAME:PDT
END:DAYLIGHT
BEGIN:STANDARD
DTSTART:20231105T010000
TZOFFSETFROM:-0700
TZOFFSETTO:-0800
RRULE:FREQ=YEARLY;BYDAY=1SU;BYMONTH=11
TZNAME:PST
END:STANDARD
END:VTIMEZONE
BEGIN:VEVENT
DTSTAMP:20230921T201704Z
UID:1E012199-F589-47E7-97C8-1E3ADAE8A4B9
DTSTART;TZID=America/Los_Angeles:20230921T110000
DTEND;TZID=America/Los_Angeles:20230921T123000
DESCRIPTION:EXCOM Meeting\n\nVirtual: https://events.vtools.ieee.org/m/3712
 89
LOCATION:Virtual: https://events.vtools.ieee.org/m/371289
ORGANIZER:xichenjiang@gmail.com
SEQUENCE:4
SUMMARY:IEEE PES SEATTLE EXCOM MEETING
URL;VALUE=URI:https://events.vtools.ieee.org/m/371289
X-ALT-DESC:Description: &lt;br /&gt;&lt;p&gt;EXCOM Meeting&lt;/p&gt;
END:VEVENT
END:VCALENDAR

