BEGIN:VCALENDAR
VERSION:2.0
PRODID:IEEE vTools.Events//EN
CALSCALE:GREGORIAN
BEGIN:VTIMEZONE
TZID:US/Pacific
BEGIN:DAYLIGHT
DTSTART:20240310T030000
TZOFFSETFROM:-0800
TZOFFSETTO:-0700
RRULE:FREQ=YEARLY;BYDAY=2SU;BYMONTH=3
TZNAME:PDT
END:DAYLIGHT
BEGIN:STANDARD
DTSTART:20231105T010000
TZOFFSETFROM:-0700
TZOFFSETTO:-0800
RRULE:FREQ=YEARLY;BYDAY=1SU;BYMONTH=11
TZNAME:PST
END:STANDARD
END:VTIMEZONE
BEGIN:VEVENT
DTSTAMP:20231108T221853Z
UID:80DA3770-9E37-49FC-8C55-6B6214A46136
DTSTART;TZID=US/Pacific:20231107T180000
DTEND;TZID=US/Pacific:20231107T200000
DESCRIPTION:Free Registration: https://www.eventbrite.com/e/chapter-open-ho
 use-award-ceremony-and-talk-ai-and-conversational-commerce-tickets-6944912
 10907\n\nThis is the next in our popular AMA series. The earlier AMA sessi
 ons are available on IEEE.tv.\n\nSpeaker(s): Raghavendra Chuduri\, Dr. Vis
 hnu S. Pendyala\n\nVirtual: https://events.vtools.ieee.org/m/371825
LOCATION:Virtual: https://events.vtools.ieee.org/m/371825
ORGANIZER:pendyala@ieee.org
SEQUENCE:9
SUMMARY:Ask me Anything (AMA) on Big Data Technologies and Applications
URL;VALUE=URI:https://events.vtools.ieee.org/m/371825
X-ALT-DESC:Description: &lt;br /&gt;&lt;p&gt;Free Registration: https://www.eventbrite.
 com/e/chapter-open-house-award-ceremony-and-talk-ai-and-conversational-com
 merce-tickets-694491210907&lt;/p&gt;\n&lt;p&gt;This is the next in our popular AMA ser
 ies. The earlier AMA sessions are available on IEEE.tv.&lt;/p&gt;
END:VEVENT
END:VCALENDAR

