BEGIN:VCALENDAR
VERSION:2.0
PRODID:IEEE vTools.Events//EN
CALSCALE:GREGORIAN
BEGIN:VTIMEZONE
TZID:America/New_York
BEGIN:DAYLIGHT
DTSTART:20230312T030000
TZOFFSETFROM:-0500
TZOFFSETTO:-0400
RRULE:FREQ=YEARLY;BYDAY=2SU;BYMONTH=3
TZNAME:EDT
END:DAYLIGHT
BEGIN:STANDARD
DTSTART:20231105T010000
TZOFFSETFROM:-0400
TZOFFSETTO:-0500
RRULE:FREQ=YEARLY;BYDAY=1SU;BYMONTH=11
TZNAME:EST
END:STANDARD
END:VTIMEZONE
BEGIN:VEVENT
DTSTAMP:20230929T013546Z
UID:0324A618-892E-4711-AAB5-07A39FC9620C
DTSTART;TZID=America/New_York:20230928T173000
DTEND;TZID=America/New_York:20230928T191500
DESCRIPTION:Overview of Career Growth Series 2023\n\nThis is the first of f
 our monthly meetings starring pre-recorded webinars whose focus are techni
 cal career enhancement. These webinars were recorded in 2022 and are avail
 able at https://ieeeusa.org/calendar/career-webinars/. However these meeti
 ngs provide an opportunity to discuss the webinar with other attendees (an
 d enjoy a light refreshment during the meeting.) The discussion part will 
 be available for remote attendance.\n\nPresentation\n\nPhilosophers from S
 ocrates to Sun Tzu have stressed the importance of knowing yourself – yo
 ur strengths\, your limitations and your inner ambitions are key component
 s in a fulfilled career. These self-assessments are invaluable resources t
 hat can accentuate your strengths and mitigate your weaknesses. In this di
 scussion\, we will use a combination of commonly available tools to give y
 ou insight to plan the future upgrades of your career.\n\nAgenda: \n5:30-5
 :45: Registration and Refreshments\n\n5:45-6:45 – Replay of Webinar\n\n6
 :45 - 7:15 discussion and selecting next webinar (hybrid)\n\n6050 Oak Tree
  Boulevard\, Checkpoint Surgical\, Suite 360\, Independence\, Ohio\, Unite
 d States\, 44131\, Virtual: https://events.vtools.ieee.org/m/371846
LOCATION:6050 Oak Tree Boulevard\, Checkpoint Surgical\, Suite 360\, Indepe
 ndence\, Ohio\, United States\, 44131\, Virtual: https://events.vtools.iee
 e.org/m/371846
ORGANIZER:s.galecki@ieee.org
SEQUENCE:3
SUMMARY:Cleveland IEEE Career Growth Series: Ultimate Upgrade Essentials: S
 elf-Assessment
URL;VALUE=URI:https://events.vtools.ieee.org/m/371846
X-ALT-DESC:Description: &lt;br /&gt;&lt;p&gt;&lt;strong&gt;Overview of Career Growth Series 2
 023&lt;/strong&gt;&lt;/p&gt;\n&lt;p&gt;This is the first of four monthly meetings starring p
 re-recorded webinars whose focus are technical career enhancement. These w
 ebinars were recorded in 2022 and are available at &lt;a href=&quot;https://ieeeus
 a.org/calendar/career-webinars/&quot;&gt;https://ieeeusa.org/calendar/career-webin
 ars/&lt;/a&gt;. However these meetings provide an opportunity to discuss the web
 inar with other attendees (and enjoy a light refreshment during the meetin
 g.) The discussion part will be available for remote attendance.&lt;/p&gt;\n&lt;p&gt;&lt;
 strong&gt;Presentation&lt;/strong&gt;&lt;/p&gt;\n&lt;p&gt;Philosophers from Socrates to Sun Tzu
  have stressed the importance of knowing yourself &amp;ndash\; your strengths\
 , your limitations and your inner ambitions are key components in a fulfil
 led career. These self-assessments are invaluable resources that can accen
 tuate your strengths and mitigate your weaknesses. In this discussion\, we
  will use a combination of commonly available tools to give you insight to
  plan the future upgrades of your career.&lt;/p&gt;&lt;br /&gt;&lt;br /&gt;Agenda: &lt;br /&gt;&lt;p&gt;
 &lt;em&gt;5:30-5:45: Registration and Refreshments&lt;/em&gt;&lt;/p&gt;\n&lt;p&gt;&lt;em&gt;5:45-6:45 &amp;n
 dash\; Replay of Webinar&lt;/em&gt;&lt;/p&gt;\n&lt;p&gt;&lt;em&gt;6:45 - 7:15 discussion and selec
 ting next webinar (hybrid)&lt;/em&gt;&lt;/p&gt;
END:VEVENT
END:VCALENDAR

