BEGIN:VCALENDAR
VERSION:2.0
PRODID:IEEE vTools.Events//EN
CALSCALE:GREGORIAN
BEGIN:VTIMEZONE
TZID:America/New_York
BEGIN:DAYLIGHT
DTSTART:20230312T030000
TZOFFSETFROM:-0500
TZOFFSETTO:-0400
RRULE:FREQ=YEARLY;BYDAY=2SU;BYMONTH=3
TZNAME:EDT
END:DAYLIGHT
BEGIN:STANDARD
DTSTART:20231105T010000
TZOFFSETFROM:-0400
TZOFFSETTO:-0500
RRULE:FREQ=YEARLY;BYDAY=1SU;BYMONTH=11
TZNAME:EST
END:STANDARD
END:VTIMEZONE
BEGIN:VEVENT
DTSTAMP:20231027T005745Z
UID:019C6490-594D-4597-A0FE-C373780A80C8
DTSTART;TZID=America/New_York:20231026T173000
DTEND;TZID=America/New_York:20231026T191500
DESCRIPTION:Overview of Career Growth Series 2023\n\nThis is the second of 
 four monthly meetings starring pre-recorded webinars whose focus are techn
 ical career enhancement. These webinars were recorded in 2022 and are avai
 lable at https://ieeeusa.org/calendar/career-webinars/. However these meet
 ings provide an opportunity to discuss the webinar with other attendees (a
 nd enjoy a light refreshment during the meeting.) The discussion part will
  be available for remote attendance.\n\nPresentation\n\nA career is driven
  with the pedal to the metal\, but sometimes you realize the road you are 
 traveling on is not what your vehicle is designed for. This webinar is abo
 ut the powerslides\, the canyon carving\, and the thrill of taking an unex
 pected turn for the better. Come and learn from experiences at the ragged 
 edge of performance in this unique presentation of cars and careers.\n\nAg
 enda: \n5:30-5:45: Registration and Refreshments\n\n5:45-6:45 – Replay o
 f Webinar\n\n6:45 - 7:15 discussion and selecting next webinar (hybrid)\n\
 n6050 Oak Tree Boulevard\, Checkpoint Surgical\, Suite 360\, Independence\
 , Ohio\, United States\, 44131\, Virtual: https://events.vtools.ieee.org/m
 /371973
LOCATION:6050 Oak Tree Boulevard\, Checkpoint Surgical\, Suite 360\, Indepe
 ndence\, Ohio\, United States\, 44131\, Virtual: https://events.vtools.iee
 e.org/m/371973
ORGANIZER:s.galecki@ieee.org
SEQUENCE:16
SUMMARY:Cleveland IEEE Career Growth Series: Ultimate Upgrade Essentials: F
 inding Your Path
URL;VALUE=URI:https://events.vtools.ieee.org/m/371973
X-ALT-DESC:Description: &lt;br /&gt;&lt;p&gt;&lt;strong&gt;Overview of Career Growth Series 2
 023&lt;/strong&gt;&lt;/p&gt;\n&lt;p&gt;This is the second of four monthly meetings starring 
 pre-recorded webinars whose focus are technical career enhancement. These 
 webinars were recorded in 2022 and are available at &lt;a href=&quot;https://ieeeu
 sa.org/calendar/career-webinars/&quot;&gt;https://ieeeusa.org/calendar/career-webi
 nars/&lt;/a&gt;. However these meetings provide an opportunity to discuss the we
 binar with other attendees (and enjoy a light refreshment during the meeti
 ng.) The discussion part will be available for remote attendance.&lt;/p&gt;\n&lt;p&gt;
 &lt;strong&gt;Presentation&lt;/strong&gt;&lt;/p&gt;\n&lt;p&gt;A career is driven with the pedal to
  the metal\, but sometimes you realize the road you are traveling on is no
 t what your vehicle is designed for. This webinar is about the powerslides
 \, the canyon carving\, and the thrill of taking an unexpected turn for th
 e better. Come and learn from experiences at the ragged edge of performanc
 e in this unique presentation of cars and careers.&lt;/p&gt;&lt;br /&gt;&lt;br /&gt;Agenda: 
 &lt;br /&gt;&lt;p&gt;&lt;em&gt;5:30-5:45: Registration and Refreshments&lt;/em&gt;&lt;/p&gt;\n&lt;p&gt;&lt;em&gt;5:4
 5-6:45 &amp;ndash\; Replay of Webinar&lt;/em&gt;&lt;/p&gt;\n&lt;p&gt;&lt;em&gt;6:45 - 7:15 discussion 
 and selecting next webinar (hybrid)&lt;/em&gt;&lt;/p&gt;
END:VEVENT
END:VCALENDAR

