BEGIN:VCALENDAR
VERSION:2.0
PRODID:IEEE vTools.Events//EN
CALSCALE:GREGORIAN
BEGIN:VTIMEZONE
TZID:America/New_York
BEGIN:DAYLIGHT
DTSTART:20230312T030000
TZOFFSETFROM:-0500
TZOFFSETTO:-0400
RRULE:FREQ=YEARLY;BYDAY=2SU;BYMONTH=3
TZNAME:EDT
END:DAYLIGHT
BEGIN:STANDARD
DTSTART:20231105T010000
TZOFFSETFROM:-0400
TZOFFSETTO:-0500
RRULE:FREQ=YEARLY;BYDAY=1SU;BYMONTH=11
TZNAME:EST
END:STANDARD
END:VTIMEZONE
BEGIN:VEVENT
DTSTAMP:20230903T005206Z
UID:578DC371-0FE0-42A5-A52C-3EE785F1972F
DTSTART;TZID=America/New_York:20230712T160000
DTEND;TZID=America/New_York:20230712T170000
DESCRIPTION:Come join us for a STEM event for the entire family.\n\nThe Coa
 stal South Carolina will be having an event to celebrate STEM literacy and
  to introduce elementary age children and their parents to TryEngineering 
 and IEEE STEM. Come out to help set up / tear down or bring your own kids/
 grandkids and participate in the STEM lesson.\n\nIf STEM interests you\, t
 his is a new initative that we hope to grow within our section. Let us kno
 w if you want us to bring this event to your local library.\n\n595 Sangare
 e Pkwy\, Summerville\, South Carolina\, United States\, 29486
LOCATION:595 Sangaree Pkwy\, Summerville\, South Carolina\, United States\,
  29486
ORGANIZER:derik.pack@gmail.com
SEQUENCE:8
SUMMARY:STEM Wednesday - Sangaree
URL;VALUE=URI:https://events.vtools.ieee.org/m/372388
X-ALT-DESC:Description: &lt;br /&gt;&lt;p&gt;Come join us for a STEM event for the enti
 re family.&lt;/p&gt;\n&lt;p&gt;The Coastal South Carolina will be having an event to c
 elebrate STEM literacy and to introduce elementary age children and their 
 parents to TryEngineering and IEEE STEM. Come out to help set up / tear do
 wn or bring your own kids/grandkids and participate in the STEM lesson.&amp;nb
 sp\;&lt;/p&gt;\n&lt;p&gt;If STEM interests you\, this is a new initative that we hope 
 to grow within our section. Let us know if you want us to bring this event
  to your local library.&lt;/p&gt;
END:VEVENT
END:VCALENDAR

