BEGIN:VCALENDAR
VERSION:2.0
PRODID:IEEE vTools.Events//EN
CALSCALE:GREGORIAN
BEGIN:VTIMEZONE
TZID:America/New_York
BEGIN:DAYLIGHT
DTSTART:20230312T030000
TZOFFSETFROM:-0500
TZOFFSETTO:-0400
RRULE:FREQ=YEARLY;BYDAY=2SU;BYMONTH=3
TZNAME:EDT
END:DAYLIGHT
BEGIN:STANDARD
DTSTART:20231105T010000
TZOFFSETFROM:-0400
TZOFFSETTO:-0500
RRULE:FREQ=YEARLY;BYDAY=1SU;BYMONTH=11
TZNAME:EST
END:STANDARD
END:VTIMEZONE
BEGIN:VEVENT
DTSTAMP:20231102T023206Z
UID:AB1D8102-464A-408B-AB16-C7A26BAB3100
DTSTART;TZID=America/New_York:20231013T190000
DTEND;TZID=America/New_York:20231013T203000
DESCRIPTION:Join us for a IEEE networking event at one of the top Seafood R
 estaurants in the Southeast. Meet up with fellow colleagues.\n\nCo-sponsor
 ed by: IEEE Power and Energy Socieity\n\nAgenda: \n07:00 pm EDT IEEE Meet 
 and Greet - Tropical Drinks\n07:10 pm EDT IEEE Seafood Festival - dinner\n
 08:00 pm EDT Get excited to do the limbo\n08:30 pm EDT Card Exchange\n\n14
 77 Pineapple Avenue\, Melbourne\, Florida\, United States\, 32935
LOCATION:1477 Pineapple Avenue\, Melbourne\, Florida\, United States\, 3293
 5
ORGANIZER:mike.brisbois@ieee.org
SEQUENCE:7
SUMMARY:IEEE Networking Night Conchy Joe&#39;s Seafood 
URL;VALUE=URI:https://events.vtools.ieee.org/m/372801
X-ALT-DESC:Description: &lt;br /&gt;&lt;p&gt;Join us for a IEEE networking event at one
  of the top Seafood Restaurants in the Southeast. Meet up with fellow coll
 eagues.&lt;/p&gt;&lt;br /&gt;&lt;br /&gt;Agenda: &lt;br /&gt;&lt;p&gt;07:00 pm EDT IEEE Meet and Greet -
  Tropical Drinks&lt;br /&gt;07:10 pm EDT IEEE Seafood Festival - dinner&lt;br /&gt;08:
 00 pm EDT Get excited to do the limbo&lt;br /&gt;08:30 pm EDT Card Exchange&lt;/p&gt;
END:VEVENT
END:VCALENDAR

