BEGIN:VCALENDAR
VERSION:2.0
PRODID:IEEE vTools.Events//EN
CALSCALE:GREGORIAN
BEGIN:VTIMEZONE
TZID:America/Mexico_City
BEGIN:STANDARD
DTSTART:20221030T010000
TZOFFSETFROM:-0500
TZOFFSETTO:-0600
TZNAME:CST
END:STANDARD
END:VTIMEZONE
BEGIN:VEVENT
DTSTAMP:20230912T232121Z
UID:97D9BA16-347D-4256-BCE9-4B6FF5B60B6B
DTSTART;TZID=America/Mexico_City:20230912T110000
DTEND;TZID=America/Mexico_City:20230912T123000
DESCRIPTION:Los invitamos a asistir a nuestra próxima Ericsson Masterclass
 : “Transformando la tecnología a través de 5G”\n\nDe la mano de nues
 tras expertas Mayela Montes\, Customer Project Manager y Mariana Gutiérre
 z\, Line Manager Valued Added Services podrán conocer en esta sesión las
  principales características\, diferenciales y oportunidades que el despl
 iegue de la quinta generación de redes móviles habilitará.\n\nEn este w
 ebinar se presentará la siguiente información:\n\n- ¿Por qué hablamos 
 de 5G?\n- Principales casos de uso de 5G\n- Aspectos tecnológicos de 5G\n
 - El estado de 5G en el mundo y LATAM\n\nCo-sponsored by: Ericsson México
 \n\nSpeaker(s): Mayela Montes\, Mariana Gutierrez\n\nVirtual: https://even
 ts.vtools.ieee.org/m/372818
LOCATION:Virtual: https://events.vtools.ieee.org/m/372818
ORGANIZER:sb.uami@ieee.org
SEQUENCE:7
SUMMARY:Transformando la tecnología a través de 5G
URL;VALUE=URI:https://events.vtools.ieee.org/m/372818
X-ALT-DESC:Description: &lt;br /&gt;&lt;p&gt;&lt;span style=&quot;font-family: &#39;times new roman
 &#39;\, times\, serif\; font-size: 14pt\;&quot;&gt;Los invitamos a asistir a nuestra p
 r&amp;oacute\;xima Ericsson Masterclass: &lt;strong&gt;&amp;ldquo\;Transformando la tecn
 olog&amp;iacute\;a a trav&amp;eacute\;s de 5G&amp;rdquo\;&lt;/strong&gt;&lt;/span&gt;&lt;/p&gt;\n&lt;p&gt;&lt;spa
 n style=&quot;font-family: &#39;times new roman&#39;\, times\, serif\; font-size: 14pt\
 ;&quot;&gt;De la mano de nuestras expertas &lt;strong&gt;Mayela Montes&lt;/strong&gt;\, Custom
 er Project Manager y &lt;strong&gt;Mariana Guti&amp;eacute\;rrez&lt;/strong&gt;\, Line Man
 ager Valued Added Services podr&amp;aacute\;n&lt;strong&gt; &lt;/strong&gt;conocer&lt;strong&gt;
  &lt;/strong&gt;en esta sesi&amp;oacute\;n las principales caracter&amp;iacute\;sticas\,
  diferenciales y oportunidades que el despliegue de la quinta generaci&amp;oac
 ute\;n de redes m&amp;oacute\;viles habilitar&amp;aacute\;.&lt;/span&gt;&lt;/p&gt;\n&lt;p&gt;&lt;span s
 tyle=&quot;font-family: &#39;times new roman&#39;\, times\, serif\; font-size: 14pt\;&quot;&gt;
 En este webinar se presentar&amp;aacute\; la siguiente informaci&amp;oacute\;n:&lt;/s
 pan&gt;&lt;/p&gt;\n&lt;ul&gt;\n&lt;li class=&quot;m_-7015163445793472839MsoListParagraph&quot; style=&quot;
 margin-left: 0in\;&quot;&gt;&lt;span lang=&quot;ES&quot; style=&quot;font-size: 14pt\; font-family: 
 &#39;times new roman&#39;\, times\, serif\;&quot;&gt;&amp;iquest\;Por qu&amp;eacute\; hablamos de 
 5G?&lt;u&gt;&lt;/u&gt;&lt;u&gt;&lt;/u&gt;&lt;/span&gt;&lt;/li&gt;\n&lt;li class=&quot;m_-7015163445793472839MsoListPar
 agraph&quot; style=&quot;margin-left: 0in\;&quot;&gt;&lt;span lang=&quot;ES&quot; style=&quot;font-size: 14pt\
 ; font-family: &#39;times new roman&#39;\, times\, serif\;&quot;&gt;Principales casos de u
 so de 5G&lt;u&gt;&lt;/u&gt;&lt;u&gt;&lt;/u&gt;&lt;/span&gt;&lt;/li&gt;\n&lt;li class=&quot;m_-7015163445793472839MsoLi
 stParagraph&quot; style=&quot;margin-left: 0in\;&quot;&gt;&lt;span style=&quot;font-size: 14pt\; fon
 t-family: &#39;times new roman&#39;\, times\, serif\;&quot;&gt;Aspectos tecnol&amp;oacute\;gic
 os de 5G&lt;u&gt;&lt;/u&gt;&lt;u&gt;&lt;/u&gt;&lt;/span&gt;&lt;/li&gt;\n&lt;li class=&quot;m_-7015163445793472839MsoLi
 stParagraph&quot; style=&quot;margin-left: 0in\;&quot;&gt;&lt;span lang=&quot;ES&quot; style=&quot;font-size: 
 14pt\; font-family: &#39;times new roman&#39;\, times\, serif\;&quot;&gt;El estado de 5G e
 n el mundo y LATAM&lt;/span&gt;&lt;/li&gt;\n&lt;/ul&gt;
END:VEVENT
END:VCALENDAR

