BEGIN:VCALENDAR
VERSION:2.0
PRODID:IEEE vTools.Events//EN
CALSCALE:GREGORIAN
BEGIN:VTIMEZONE
TZID:US/Central
BEGIN:DAYLIGHT
DTSTART:20240310T030000
TZOFFSETFROM:-0600
TZOFFSETTO:-0500
RRULE:FREQ=YEARLY;BYDAY=2SU;BYMONTH=3
TZNAME:CDT
END:DAYLIGHT
BEGIN:STANDARD
DTSTART:20241103T010000
TZOFFSETFROM:-0500
TZOFFSETTO:-0600
RRULE:FREQ=YEARLY;BYDAY=1SU;BYMONTH=11
TZNAME:CST
END:STANDARD
END:VTIMEZONE
BEGIN:VEVENT
DTSTAMP:20240411T010723Z
UID:9C176DA9-7B82-4340-8D8E-C3FED194B66B
DTSTART;TZID=US/Central:20240321T180000
DTEND;TZID=US/Central:20240321T200000
DESCRIPTION:Networking\n\nSpeaker(s): Wayne Hochrein\n\nAgenda: \n6:00 - 6:
 30pm Networking with Pizza and Pop\n\n6:30 - 7:30pm Presentation by Wayne 
 Hochrein\n\n7:30 - 8:00pm Questions and Clean up\n\nEvent is FREE but Regi
 stration is required to determine amount of food to order.\n\nThis event i
 s open to members and non-members of the Consultant&#39;s Network.\n\nRoom: 22
 0\, Bldg: New Brighton Community Center\, 400 10th St NW\, New Brighton\, 
 Minnesota\, United States\, 55112
LOCATION:Room: 220\, Bldg: New Brighton Community Center\, 400 10th St NW\,
  New Brighton\, Minnesota\, United States\, 55112
ORGANIZER:thomas.relling@ieee.org
SEQUENCE:15
SUMMARY:Twin Cities Section Consultant&#39;s Network Meeting (In Person)
URL;VALUE=URI:https://events.vtools.ieee.org/m/372828
X-ALT-DESC:Description: &lt;br /&gt;&lt;p&gt;Networking&lt;/p&gt;&lt;br /&gt;&lt;br /&gt;Agenda: &lt;br /&gt;&lt;p
 &gt;6:00 - 6:30pm Networking with Pizza and Pop&lt;/p&gt;\n&lt;p&gt;6:30 - 7:30pm Present
 ation by Wayne Hochrein&lt;/p&gt;\n&lt;p&gt;7:30 - 8:00pm Questions and Clean up&lt;/p&gt;\n
 &lt;p&gt;&lt;strong&gt;Event is FREE but Registration is required to determine amount 
 of food to order.&lt;/strong&gt;&lt;/p&gt;\n&lt;p&gt;This event is open to members and non-m
 embers of the Consultant&#39;s Network.&lt;/p&gt;
END:VEVENT
END:VCALENDAR

