BEGIN:VCALENDAR
VERSION:2.0
PRODID:IEEE vTools.Events//EN
CALSCALE:GREGORIAN
BEGIN:VTIMEZONE
TZID:America/New_York
BEGIN:DAYLIGHT
DTSTART:20230312T030000
TZOFFSETFROM:-0500
TZOFFSETTO:-0400
RRULE:FREQ=YEARLY;BYDAY=2SU;BYMONTH=3
TZNAME:EDT
END:DAYLIGHT
BEGIN:STANDARD
DTSTART:20231105T010000
TZOFFSETFROM:-0400
TZOFFSETTO:-0500
RRULE:FREQ=YEARLY;BYDAY=1SU;BYMONTH=11
TZNAME:EST
END:STANDARD
END:VTIMEZONE
BEGIN:VEVENT
DTSTAMP:20230928T112420Z
UID:8E59F4BA-C31B-4AEF-AB1B-EE9146BD7BA3
DTSTART;TZID=America/New_York:20230927T183000
DTEND;TZID=America/New_York:20230927T193000
DESCRIPTION:Consulting Entrepreneur 101 is a humorous “how to” presenta
 tion regarding the transition from life-long salary worker to self-suffici
 ent entrepreneur. It is an attempt to outline all of the fundamentals of s
 elf-employment as well as to define the demand for independent consultants
  and set reasonable expectations. It shows multiple ways a self-employed p
 erson can garner income from various sources with the goal of “making en
 ds meet”. To sum-it-up\, it is road map of Al Gunther’s life for the l
 ast 25 years or so. I hope you will enjoy it!\n\nSpeaker(s): Al Gunther\, 
 \n\nAgenda: \n6:30pm - Presentation\n\n7:15pm - Q&amp;A\n\nVirtual: https://ev
 ents.vtools.ieee.org/m/372837
LOCATION:Virtual: https://events.vtools.ieee.org/m/372837
ORGANIZER:rays@ieee.org
SEQUENCE:32
SUMMARY:Consulting &amp; Entrepreneur 101
URL;VALUE=URI:https://events.vtools.ieee.org/m/372837
X-ALT-DESC:Description: &lt;br /&gt;&lt;p&gt;&lt;span id=&quot;E48&quot;&gt;Consulting Entrepreneur 101
  is a humorous &amp;ldquo\;how to&amp;rdquo\; presentation regarding the transitio
 n from life-long salary worker to self-sufficient entrepreneur. It is an a
 ttempt to outline &lt;/span&gt;&lt;span id=&quot;E50&quot;&gt;all of&lt;/span&gt;&lt;span id=&quot;E52&quot;&gt; the f
 undamentals of self-employment as well as to define the demand for indepen
 dent consultants and set reasonable expectations. It shows multiple ways a
  self-employed person can garner income from various sources with the goal
  of &amp;ldquo\;making ends meet&amp;rdquo\;. To &lt;/span&gt;&lt;span id=&quot;E54&quot;&gt;sum-it-up&lt;/
 span&gt;&lt;span id=&quot;E56&quot;&gt;\, it is road map of Al Gunther&amp;rsquo\;s life for the 
 last 25 years or so. &lt;/span&gt;&lt;span id=&quot;E57&quot;&gt;I hope you will enjoy it! &lt;/spa
 n&gt;&lt;/p&gt;&lt;br /&gt;&lt;br /&gt;Agenda: &lt;br /&gt;&lt;p&gt;6:30pm - Presentation&lt;/p&gt;\n&lt;p&gt;7:15pm - 
 Q&amp;amp\;A&lt;/p&gt;
END:VEVENT
END:VCALENDAR

