BEGIN:VCALENDAR
VERSION:2.0
PRODID:IEEE vTools.Events//EN
CALSCALE:GREGORIAN
BEGIN:VTIMEZONE
TZID:Asia/Kolkata
BEGIN:STANDARD
DTSTART:19451014T230000
TZOFFSETFROM:+0630
TZOFFSETTO:+0530
TZNAME:IST
END:STANDARD
END:VTIMEZONE
BEGIN:VEVENT
DTSTAMP:20230907T162609Z
UID:98019921-B9CD-4C80-A122-56BDB175CB75
DTSTART;TZID=Asia/Kolkata:20230610T180000
DTEND;TZID=Asia/Kolkata:20230917T220000
DESCRIPTION:The IEEE GCET Student Branch\, in collaboration with Coding Nin
 jas\, orchestrated an exceptional coding event igniting the passion for co
 ding and exploration among all participants. IEEE GCET SB played a pivotal
  role in promoting the event\, attracting participants\, and being activel
 y involved in the successful execution of the contest.\n\nCodeKaze was not
  just another coding competition\; it was a gateway to remarkable opportun
 ities. The event introduced a novel facet: Direct Hiring Opportunities. Th
 e event unfolded over several rounds\, each meticulously designed to chall
 enge and inspire participants. The timeline encompassed the following phas
 es:\nRound 1 - Aptitude Based: June 10th\nRound 2 - Coding Based: June 17t
 h\nRound 3 - Results Announcement: June 21st\nRound 4 - Interview: June 22
 nd\n\nCodeKaze brought with it a whirlwind of prizes\, reinforcing the ide
 a that hard work and talent never go unrecognized.\n\nCo-sponsored by: Cod
 ing Ninjas\n\nVirtual: https://events.vtools.ieee.org/m/372917
LOCATION:Virtual: https://events.vtools.ieee.org/m/372917
ORGANIZER:ieeegcetsb@gcet.ac.in
SEQUENCE:16
SUMMARY:CODEKAZE
URL;VALUE=URI:https://events.vtools.ieee.org/m/372917
X-ALT-DESC:Description: &lt;br /&gt;&lt;p&gt;The IEEE GCET Student Branch\, in collabor
 ation with Coding Ninjas\, orchestrated an exceptional coding event igniti
 ng the passion for coding and exploration among all participants. IEEE GCE
 T SB played a pivotal role in promoting the event\, attracting participant
 s\, and being actively involved in the successful execution of the contest
 .&lt;br /&gt;&lt;br /&gt;CodeKaze was not just another coding competition\; it was a g
 ateway to remarkable opportunities. The event introduced a novel facet: Di
 rect Hiring Opportunities. The event unfolded over several rounds\, each m
 eticulously designed to challenge and inspire participants. The timeline e
 ncompassed the following phases:&amp;nbsp\;&lt;br /&gt;Round 1 - Aptitude Based: Jun
 e 10th&amp;nbsp\;&lt;br /&gt;Round 2 - Coding Based: June 17th&amp;nbsp\;&lt;br /&gt;Round 3 -
  Results Announcement: June 21st&amp;nbsp\;&lt;br /&gt;Round 4 - Interview: June 22n
 d&amp;nbsp\;&lt;/p&gt;\n&lt;p&gt;CodeKaze brought with it a whirlwind of prizes\, reinforc
 ing the idea that hard work and talent never go unrecognized.&lt;/p&gt;
END:VEVENT
END:VCALENDAR

