BEGIN:VCALENDAR
VERSION:2.0
PRODID:IEEE vTools.Events//EN
CALSCALE:GREGORIAN
BEGIN:VTIMEZONE
TZID:Australia/Adelaide
BEGIN:DAYLIGHT
DTSTART:20231001T030000
TZOFFSETFROM:+0930
TZOFFSETTO:+1030
RRULE:FREQ=YEARLY;BYDAY=1SU;BYMONTH=10
TZNAME:ACDT
END:DAYLIGHT
BEGIN:STANDARD
DTSTART:20230402T020000
TZOFFSETFROM:+1030
TZOFFSETTO:+0930
RRULE:FREQ=YEARLY;BYDAY=1SU;BYMONTH=4
TZNAME:ACST
END:STANDARD
END:VTIMEZONE
BEGIN:VEVENT
DTSTAMP:20230909T052351Z
UID:4BB07ECF-3BE0-4CDD-9E22-07ADEF4BC59C
DTSTART;TZID=Australia/Adelaide:20230909T140000
DTEND;TZID=Australia/Adelaide:20230909T143000
DESCRIPTION:Debrief of the IEEE WIE Clare Workshop\n\nVirtual: https://even
 ts.vtools.ieee.org/m/373121
LOCATION:Virtual: https://events.vtools.ieee.org/m/373121
ORGANIZER:anika.talukder@ieee.org
SEQUENCE:7
SUMMARY:IEEE WIE Clare Workshop Feedback and Summary
URL;VALUE=URI:https://events.vtools.ieee.org/m/373121
X-ALT-DESC:Description: &lt;br /&gt;&lt;p&gt;Debrief of the IEEE WIE Clare Workshop&amp;nbs
 p\;&lt;/p&gt;
END:VEVENT
END:VCALENDAR

