BEGIN:VCALENDAR
VERSION:2.0
PRODID:IEEE vTools.Events//EN
CALSCALE:GREGORIAN
BEGIN:VTIMEZONE
TZID:America/New_York
BEGIN:DAYLIGHT
DTSTART:20230312T030000
TZOFFSETFROM:-0500
TZOFFSETTO:-0400
RRULE:FREQ=YEARLY;BYDAY=2SU;BYMONTH=3
TZNAME:EDT
END:DAYLIGHT
BEGIN:STANDARD
DTSTART:20231105T010000
TZOFFSETFROM:-0400
TZOFFSETTO:-0500
RRULE:FREQ=YEARLY;BYDAY=1SU;BYMONTH=11
TZNAME:EST
END:STANDARD
END:VTIMEZONE
BEGIN:VEVENT
DTSTAMP:20231021T134931Z
UID:6CC163E3-EE50-49EE-B5DD-B088F83A5781
DTSTART;TZID=America/New_York:20231005T180000
DTEND;TZID=America/New_York:20231005T190000
DESCRIPTION:IEEE Kitchener-Waterloo Section PES chapter is continuing its p
 ower system webinar series for academia and industry professionals. The Se
 cond webinar of this series is on topic &quot;Distance Protection in Electric G
 rids Dominated by Wind-Powered and Inverter-Based Sources&quot;\, which will oc
 cur on 05th October 2023. In coming months in 2023-24\, other webinars on 
 current challenges faced in the power system domain will be organized. Sta
 y tuned!\n\nSpeaker(s): Dr. Bogdan Kasztenny\, \n\nVirtual: https://events
 .vtools.ieee.org/m/373434
LOCATION:Virtual: https://events.vtools.ieee.org/m/373434
ORGANIZER:mithil.acharya@ieee.org
SEQUENCE:22
SUMMARY:IEEE KW Section - PES Chapter - Power System Webinar Series - Webin
 ar 2
URL;VALUE=URI:https://events.vtools.ieee.org/m/373434
X-ALT-DESC:Description: &lt;br /&gt;&lt;p&gt;IEEE Kitchener-Waterloo Section PES chapte
 r is continuing its power system webinar series for academia and industry 
 professionals. The Second webinar of this series is on topic &quot;Distance Pro
 tection in Electric Grids Dominated by Wind-Powered and Inverter-Based Sou
 rces&quot;\, which will occur on 05th October 2023. In coming months in 2023-24
 \, other webinars on current challenges faced in the power system domain w
 ill be organized. Stay tuned!&amp;nbsp\;&lt;/p&gt;
END:VEVENT
END:VCALENDAR

