BEGIN:VCALENDAR
VERSION:2.0
PRODID:IEEE vTools.Events//EN
CALSCALE:GREGORIAN
BEGIN:VTIMEZONE
TZID:America/New_York
BEGIN:DAYLIGHT
DTSTART:20230312T030000
TZOFFSETFROM:-0500
TZOFFSETTO:-0400
RRULE:FREQ=YEARLY;BYDAY=2SU;BYMONTH=3
TZNAME:EDT
END:DAYLIGHT
BEGIN:STANDARD
DTSTART:20231105T010000
TZOFFSETFROM:-0400
TZOFFSETTO:-0500
RRULE:FREQ=YEARLY;BYDAY=1SU;BYMONTH=11
TZNAME:EST
END:STANDARD
END:VTIMEZONE
BEGIN:VEVENT
DTSTAMP:20240102T131416Z
UID:8BB7648B-0786-444A-8C5F-8887A856ACB9
DTSTART;TZID=America/New_York:20231002T120000
DTEND;TZID=America/New_York:20231002T160000
DESCRIPTION:New Jersey Coast Section Women in Engineering\, Region 1 PACE &amp;
  History\, NJ Coast Section PACE SIGHT &amp; History\, NJ Coast Section Instru
 mentation &amp; Measurements\, Computer Chapter invite you to volunteer for Lu
 nch with Leaders &amp; Luminaries. Mentor High School Research Students in an 
 informal setting. Students will arrive in time to have Lunch with Leaders 
 &amp; Luminaries\, the Mentors. Members of AT&amp;T Labs\, Teachers\, IEEE employe
 es\, IEEE members\, and others will be on hand.\n\nWhen you register\, ple
 ase send a few lines about yourself\, a brief bio\, a headshot if availabl
 e\, for the handout for STEM Students. Please send the headshot and bio to
  kit.august@gmail.com. Thanks so much.\n\nThen join the Meet &amp; Greet\, and
  Celebrate IEEE Day 2023 with A Day at the Museum at the AT&amp;T Labs Science
  &amp; Technology Center &amp; Museum in Middletown New Jersey. With a Tour\, a so
 cial gathering\, a movie about Oral History\, information about new books 
 by colleagues\, learn about Membership Elevation\, learn more about the HK
 N Honor Society\, countdown to upcoming Milestones (for example\, the Craw
 ford Hill Antenna) -- Project Echo\, Telstar\, and the 1964 discovery of t
 he Cosmic Background Radiation of the Formation of the Universe\, the Big 
 Bang 1959 - 1965.\n\nSpeaker(s): Dr Christine Girtain\, \n\nAgenda: \n12:0
 0 Students arrive\n\nLuncheon with Leaders &amp; Luminaries\n\n1:00 Student &amp; 
 Leaders &amp; Luminary Mentors join the Museum tour\n\n2:00 Cake\n\nIEEE TV Wo
 mens History\n\nNew Communications Book by Margaret J Lyons\, PE\n\n3:00 S
 ocial Hour\n\n4:00 Students depart\n\nAT&amp;T Science and Technology Innovati
 on Center and Museum\, 200 S Laurel Ave.\, Middletown Township\, New Jerse
 y\, United States
LOCATION:AT&amp;T Science and Technology Innovation Center and Museum\, 200 S L
 aurel Ave.\, Middletown Township\, New Jersey\, United States
ORGANIZER:kit.august@gmail.com
SEQUENCE:40
SUMMARY:IEEE Day 2023 STEM Lunch with Leaders &amp; Luminaries: A Day at the Mu
 seum AT&amp;T Labs Science &amp; Technology
URL;VALUE=URI:https://events.vtools.ieee.org/m/373448
X-ALT-DESC:Description: &lt;br /&gt;&lt;p&gt;New Jersey Coast Section Women in Engineer
 ing\, Region 1 PACE &amp;amp\; History\, NJ Coast Section PACE SIGHT &amp;amp\; Hi
 story\, NJ Coast Section Instrumentation &amp;amp\; Measurements\, Computer Ch
 apter invite you to volunteer for Lunch with Leaders &amp;amp\; Luminaries. Me
 ntor High School Research Students in an informal setting. Students will a
 rrive in time to have Lunch with Leaders &amp;amp\; Luminaries\, the Mentors. 
 Members of AT&amp;amp\;T Labs\, Teachers\, IEEE employees\, IEEE members\, and
  others will be on hand.&lt;/p&gt;\n&lt;p&gt;When you register\, please send a few lin
 es about yourself\, a brief bio\, a headshot if available\, for the handou
 t for STEM Students. Please send the headshot and bio to kit.august@gmail.
 com. Thanks so much.&lt;/p&gt;\n&lt;p&gt;Then join the Meet &amp;amp\; Greet\, and Celebra
 te IEEE Day 2023 with A Day at the Museum at the AT&amp;amp\;T Labs Science &amp;a
 mp\; Technology Center &amp;amp\; Museum in Middletown New Jersey. With a Tour
 \, a social gathering\, a movie about Oral History\, information about new
  books by colleagues\, learn about Membership Elevation\, learn more about
  the HKN Honor Society\, countdown to upcoming Milestones (for example\, t
 he Crawford Hill Antenna) -- Project Echo\, Telstar\, and the 1964 discove
 ry of the Cosmic Background Radiation of the Formation of the Universe\, t
 he Big Bang 1959 - 1965.&lt;/p&gt;\n&lt;p&gt;&amp;nbsp\;&lt;/p&gt;&lt;br /&gt;&lt;br /&gt;Agenda: &lt;br /&gt;&lt;p&gt;1
 2:00 Students arrive&lt;/p&gt;\n&lt;p&gt;Luncheon with Leaders &amp;amp\; Luminaries&lt;/p&gt;\n
 &lt;p&gt;1:00 Student &amp;amp\; Leaders &amp;amp\; Luminary Mentors join the Museum tou
 r&lt;/p&gt;\n&lt;p&gt;2:00 Cake&lt;/p&gt;\n&lt;p&gt;IEEE TV Womens History&lt;/p&gt;\n&lt;p&gt;New Communicati
 ons Book by Margaret J Lyons\, PE&lt;/p&gt;\n&lt;p&gt;3:00 Social Hour&lt;/p&gt;\n&lt;p&gt;4:00 St
 udents depart&lt;/p&gt;
END:VEVENT
END:VCALENDAR

