BEGIN:VCALENDAR
VERSION:2.0
PRODID:IEEE vTools.Events//EN
CALSCALE:GREGORIAN
BEGIN:VTIMEZONE
TZID:America/Chicago
BEGIN:DAYLIGHT
DTSTART:20230312T030000
TZOFFSETFROM:-0600
TZOFFSETTO:-0500
RRULE:FREQ=YEARLY;BYDAY=2SU;BYMONTH=3
TZNAME:CDT
END:DAYLIGHT
BEGIN:STANDARD
DTSTART:20231105T010000
TZOFFSETFROM:-0500
TZOFFSETTO:-0600
RRULE:FREQ=YEARLY;BYDAY=1SU;BYMONTH=11
TZNAME:CST
END:STANDARD
END:VTIMEZONE
BEGIN:VEVENT
DTSTAMP:20231009T165721Z
UID:48D5F8C8-3990-4C64-A062-36FE95052881
DTSTART;TZID=America/Chicago:20231006T114500
DTEND;TZID=America/Chicago:20231006T133000
DESCRIPTION:JOIN IN PERSON OR ON ZOOM\n\nWhether you are nearing retirement
  or already retired\, you need to understand how taxes (including new tax 
 law changes) impact your retirement income\, as it may be possible to pay 
 less in taxes on your hard-earned dollars.\n\nYou Will Learn:\n1) Tax Effi
 cient Income Strategies in Retirement (And which buckets to pull from firs
 t)\n\n2) The 2023 tax changes and how these could alter your retirement pl
 an\n\n3) The changing rules for a retiring generation of baby boomers\n\n4
 ) The 5 Unexpected Risks to Your Retirement (They might not be what you th
 ink)\n\nSpeaker(s): David\n\nAgenda: \n11:45 Meeting Starts\n\n12:00 Order
  Lunch\n\n12:15 David Sandhu Starts Presentation\n\n1:15 End of Meeting\n\
 nAbuelo&#39;s\, 850 Airport Freeway\, Hurst\, Texas\, United States\, 76054\, 
 Virtual: https://events.vtools.ieee.org/m/373564
LOCATION:Abuelo&#39;s\, 850 Airport Freeway\, Hurst\, Texas\, United States\, 7
 6054\, Virtual: https://events.vtools.ieee.org/m/373564
ORGANIZER:jimt@ieee.org
SEQUENCE:13
SUMMARY:Decisions and Taxes Related to Retirement
URL;VALUE=URI:https://events.vtools.ieee.org/m/373564
X-ALT-DESC:Description: &lt;br /&gt;&lt;p&gt;JOIN IN PERSON OR ON ZOOM&lt;/p&gt;\n&lt;p&gt;Whether 
 you are nearing retirement or already retired\, you need to understand how
  taxes (including new tax law changes) impact your retirement income\, as 
 it may be possible to pay less in taxes on your hard-earned dollars.&lt;/p&gt;\n
 &lt;div&gt;&amp;nbsp\;&lt;/div&gt;\n&lt;div&gt;You Will Learn:&lt;/div&gt;\n&lt;div&gt;1) Tax Efficient Inco
 me Strategies in Retirement (And which buckets to pull from first)&lt;br /&gt;&lt;b
 r /&gt;2) The 2023 tax changes and how these could alter your retirement plan
 &lt;br /&gt;&lt;br /&gt;3) The changing rules for a retiring generation of baby boomer
 s&lt;br /&gt;&lt;br /&gt;4) The 5 Unexpected Risks to Your Retirement (They might not 
 be what you think)&lt;/div&gt;&lt;br /&gt;&lt;br /&gt;Agenda: &lt;br /&gt;&lt;p&gt;11:45 Meeting Starts&lt;
 /p&gt;\n&lt;p&gt;12:00 Order Lunch&lt;/p&gt;\n&lt;p&gt;12:15 David Sandhu Starts Presentation&lt;/
 p&gt;\n&lt;p&gt;1:15 End of Meeting&lt;/p&gt;
END:VEVENT
END:VCALENDAR

