BEGIN:VCALENDAR
VERSION:2.0
PRODID:IEEE vTools.Events//EN
CALSCALE:GREGORIAN
BEGIN:VTIMEZONE
TZID:America/New_York
BEGIN:DAYLIGHT
DTSTART:20230312T030000
TZOFFSETFROM:-0500
TZOFFSETTO:-0400
RRULE:FREQ=YEARLY;BYDAY=2SU;BYMONTH=3
TZNAME:EDT
END:DAYLIGHT
BEGIN:STANDARD
DTSTART:20231105T010000
TZOFFSETFROM:-0400
TZOFFSETTO:-0500
RRULE:FREQ=YEARLY;BYDAY=1SU;BYMONTH=11
TZNAME:EST
END:STANDARD
END:VTIMEZONE
BEGIN:VEVENT
DTSTAMP:20230912T174332Z
UID:136F050C-3F58-4D1A-BA6E-817EC2D97A91
DTSTART;TZID=America/New_York:20231001T000000
DTEND;TZID=America/New_York:20240201T000000
DESCRIPTION:IEEE DASC 2024 Annual Meeting Registration\n\nPiscataway\, New 
 Jersey\, United States
LOCATION:Piscataway\, New Jersey\, United States
ORGANIZER:aparna@cadence.com
SEQUENCE:4
SUMMARY:IEEE DASC 2024 Annual Meeting Registration
URL;VALUE=URI:https://events.vtools.ieee.org/m/373575
X-ALT-DESC:Description: &lt;br /&gt;&lt;p&gt;IEEE DASC 2024 Annual Meeting Registration
 &lt;/p&gt;
END:VEVENT
END:VCALENDAR

