BEGIN:VCALENDAR
VERSION:2.0
PRODID:IEEE vTools.Events//EN
CALSCALE:GREGORIAN
BEGIN:VTIMEZONE
TZID:Asia/Kolkata
BEGIN:STANDARD
DTSTART:19451014T230000
TZOFFSETFROM:+0630
TZOFFSETTO:+0530
TZNAME:IST
END:STANDARD
END:VTIMEZONE
BEGIN:VEVENT
DTSTAMP:20231109T130053Z
UID:D930343B-139C-44F4-BF04-FF4B81DCB565
DTSTART;TZID=Asia/Kolkata:20231104T100000
DTEND;TZID=Asia/Kolkata:20231105T150000
DESCRIPTION:IEEE WIE SIC is the motivation from Global IEEE WIE Initiative 
 i.e. IEEE Women in Engineering Student-Teacher and Research Engineer/Scien
 tist (STAR) to motivate PreU students\, especially girls to step into tech
 nical fields. This camp is being proposed and organized by IEEE Women in E
 ngineering Region 10 Committee 2023-24.\n\nEvent Website: https://sic.wie.
 ieeer10.org/\n\nObjectives:\n\n- Engagement of all the IEEE WIE AGs &amp; IEEE
  EA Chapters from R10 and connecting the motive of the camp with other Reg
 ional WIE for international participation.\n- Enrichment of Pre-University
  Students in STEAM Subjects via Social Innovation/Design thinking approach
 .\n- Engagement of PreU Students&#39; Parents/Teachers for full-fledged awaren
 ess of Industrial knowledge required for their children at an early stage.
 \n- Bringing STEAM as the most important pillar for PreU growth in a susta
 inable long-term perspective.\n\nCo-sponsored by: IEEE Region 10 Women in 
 Engineering Committee\n\nAgenda: \nTBA\n\nKPR Institute of Engineering and
  Technology\, Avinashi - Coimbatore Road\, Arasur\, \, Uthupalayam\, Tamil
  Nadu\, India\, 641407
LOCATION:KPR Institute of Engineering and Technology\, Avinashi - Coimbator
 e Road\, Arasur\, \, Uthupalayam\, Tamil Nadu\, India\, 641407
ORGANIZER:d.khanita.th@ieee.org
SEQUENCE:18
SUMMARY:IEEE Women in Engineering Social Innovation Camp 2023
URL;VALUE=URI:https://events.vtools.ieee.org/m/373580
X-ALT-DESC:Description: &lt;br /&gt;&lt;p&gt;&lt;span style=&quot;font-weight: 400\;&quot;&gt;IEEE WIE 
 SIC is the motivation from Global IEEE WIE Initiative i.e. IEEE Women in E
 ngineering Student-Teacher and Research Engineer/Scientist (STAR) to motiv
 ate PreU students\, especially girls to step into technical fields. This c
 amp is being proposed and organized by IEEE Women in Engineering Region 10
  Committee 2023-24.&lt;/span&gt;&lt;/p&gt;\n&lt;p&gt;&amp;nbsp\;&lt;/p&gt;\n&lt;p&gt;&lt;span style=&quot;font-weigh
 t: 400\;&quot;&gt;Event Website: &lt;/span&gt;&lt;a href=&quot;https://sic.wie.ieeer10.org/&quot;&gt;&lt;sp
 an style=&quot;font-weight: 400\;&quot;&gt;https://sic.wie.ieeer10.org/&lt;/span&gt;&lt;/a&gt;&lt;span
  style=&quot;font-weight: 400\;&quot;&gt;&amp;nbsp\;&lt;/span&gt;&lt;/p&gt;\n&lt;p&gt;&amp;nbsp\;&lt;/p&gt;\n&lt;p&gt;&lt;span s
 tyle=&quot;font-weight: 400\;&quot;&gt;Objectives:&lt;/span&gt;&lt;/p&gt;\n&lt;ul&gt;\n&lt;li style=&quot;font-we
 ight: 400\;&quot; aria-level=&quot;1&quot;&gt;&lt;span style=&quot;font-weight: 400\;&quot;&gt;Engagement of
  all the IEEE WIE AGs &amp;amp\; IEEE EA Chapters from R10 and connecting the 
 motive of the camp with other Regional WIE for international participation
 .&lt;/span&gt;&lt;/li&gt;\n&lt;li style=&quot;font-weight: 400\;&quot; aria-level=&quot;1&quot;&gt;&lt;span style=&quot;
 font-weight: 400\;&quot;&gt;Enrichment of Pre-University Students in STEAM Subject
 s via Social Innovation/Design thinking approach.&lt;/span&gt;&lt;/li&gt;\n&lt;li style=&quot;
 font-weight: 400\;&quot; aria-level=&quot;1&quot;&gt;&lt;span style=&quot;font-weight: 400\;&quot;&gt;Engage
 ment of PreU Students&#39; Parents/Teachers for full-fledged awareness of Indu
 strial knowledge required for their children at an early stage.&lt;/span&gt;&lt;/li
 &gt;\n&lt;li style=&quot;font-weight: 400\;&quot; aria-level=&quot;1&quot;&gt;&lt;span style=&quot;font-weight:
  400\;&quot;&gt;Bringing STEAM as the most important pillar for PreU growth in a s
 ustainable long-term perspective.&lt;/span&gt;&lt;/li&gt;\n&lt;/ul&gt;&lt;br /&gt;&lt;br /&gt;Agenda: &lt;b
 r /&gt;&lt;p&gt;TBA&lt;/p&gt;
END:VEVENT
END:VCALENDAR

