BEGIN:VCALENDAR
VERSION:2.0
PRODID:IEEE vTools.Events//EN
CALSCALE:GREGORIAN
BEGIN:VTIMEZONE
TZID:Asia/Kolkata
BEGIN:STANDARD
DTSTART:19451014T230000
TZOFFSETFROM:+0630
TZOFFSETTO:+0530
TZNAME:IST
END:STANDARD
END:VTIMEZONE
BEGIN:VEVENT
DTSTAMP:20230913T132523Z
UID:F04FA7DA-7600-499D-B65F-8A32C5815170
DTSTART;TZID=Asia/Kolkata:20230801T153000
DTEND;TZID=Asia/Kolkata:20230801T173000
DESCRIPTION:Virtuis Gloria\, an event organized by the IEEE JUIT Student Br
 anch\, marked a momentous occasion on August 1\, 2023\, as it witnessed th
 e seamless transition of power from the outgoing IEEE JUIT Student Branch 
 Council to the incoming council. This ceremonial event was not just a tran
 sition of titles but also a transfer of responsibilities\, knowledge\, and
  a commitment to uphold the IEEE values and mission.\n\nThe IEEE JUIT Stud
 ent Branch\, known for its dedication to fostering innovation\, technologi
 cal advancement\, and nurturing young talents\, ensured that the Virtuis G
 loria transition ceremony was a grand affair\, befitting the significance 
 of the occasion.\n\nKey Highlights:\n\n-\nSymbolic Transfer: The event fea
 tured a symbolic transfer of power. The outgoing council\, represented by 
 their executive members\, handed over the IEEE flag and other official art
 ifacts to the newly elected council. This gesture signified the continuity
  of IEEE&#39;s mission within the student branch.\n\n-\nInspirational Speeches
 : Distinguished IEEE members\, faculty advisors\, and senior IEEE JUIT SB 
 members delivered inspirational speeches\, emphasizing the importance of l
 eadership\, teamwork\, and commitment to the IEEE community. Their words s
 erved as a source of motivation for the incoming council.\n\n-\nPanel Disc
 ussions: A panel of experts from various fields within engineering and tec
 hnology discussed the role of IEEE in shaping the future of technology and
  the responsibilities that come with leading an IEEE Student Branch. These
  discussions provided valuable insights to both the outgoing and incoming 
 council members.\n\n-\nNetworking Opportunities: Virtuis Gloria provided a
 n excellent platform for networking among IEEE members\, enabling them to 
 connect with peers who share their passion for technology and innovation. 
 It encouraged the exchange of ideas and experiences.\n\n-\nAcknowledgment 
 of Achievements: The event recognized the achievements and contributions o
 f the outgoing council during their tenure. Awards and certificates were p
 resented to members who had made significant contributions to the IEEE JUI
 T SB.\n\n-\nFarewell and Welcome: The event served as a farewell to the ou
 tgoing council members and a warm welcome to the newly elected council. It
  marked the beginning of a new era in the IEEE JUIT Student Branch&#39;s journ
 ey.\n\nAgenda: \nIEEE JUIT SB Council Transition Ceremony\, promises a day
  filled with insightful discussions\, motivational speeches\, and a symbol
 ic transfer of responsibility from the outgoing council to the newly elect
 ed one.\n\nJaypee University Of Information Technology\, Solan\, Himachal 
 Pradesh\, India\, 173234
LOCATION:Jaypee University Of Information Technology\, Solan\, Himachal Pra
 desh\, India\, 173234
ORGANIZER:ieee.juit@juitsolan.in
SEQUENCE:0
SUMMARY:Virtuis Gloria
URL;VALUE=URI:https://events.vtools.ieee.org/m/373689
X-ALT-DESC:Description: &lt;br /&gt;&lt;p&gt;Virtuis Gloria\, an event organized by the
  IEEE JUIT Student Branch\, marked a momentous occasion on August 1\, 2023
 \, as it witnessed the seamless transition of power from the outgoing IEEE
  JUIT Student Branch Council to the incoming council. This ceremonial even
 t was not just a transition of titles but also a transfer of responsibilit
 ies\, knowledge\, and a commitment to uphold the IEEE values and mission.&lt;
 /p&gt;\n&lt;p&gt;The IEEE JUIT Student Branch\, known for its dedication to fosteri
 ng innovation\, technological advancement\, and nurturing young talents\, 
 ensured that the Virtuis Gloria transition ceremony was a grand affair\, b
 efitting the significance of the occasion.&lt;/p&gt;\n&lt;p&gt;&lt;strong&gt;Key Highlights:
 &lt;/strong&gt;&lt;/p&gt;\n&lt;ol&gt;\n&lt;li&gt;\n&lt;p&gt;&lt;strong&gt;Symbolic Transfer:&lt;/strong&gt; The even
 t featured a symbolic transfer of power. The outgoing council\, represente
 d by their executive members\, handed over the IEEE flag and other officia
 l artifacts to the newly elected council. This gesture signified the conti
 nuity of IEEE&#39;s mission within the student branch.&lt;/p&gt;\n&lt;/li&gt;\n&lt;li&gt;\n&lt;p&gt;&lt;s
 trong&gt;Inspirational Speeches:&lt;/strong&gt; Distinguished IEEE members\, facult
 y advisors\, and senior IEEE JUIT SB members delivered inspirational speec
 hes\, emphasizing the importance of leadership\, teamwork\, and commitment
  to the IEEE community. Their words served as a source of motivation for t
 he incoming council.&lt;/p&gt;\n&lt;/li&gt;\n&lt;li&gt;\n&lt;p&gt;&lt;strong&gt;Panel Discussions:&lt;/stro
 ng&gt; A panel of experts from various fields within engineering and technolo
 gy discussed the role of IEEE in shaping the future of technology and the 
 responsibilities that come with leading an IEEE Student Branch. These disc
 ussions provided valuable insights to both the outgoing and incoming counc
 il members.&lt;/p&gt;\n&lt;/li&gt;\n&lt;li&gt;\n&lt;p&gt;&lt;strong&gt;Networking Opportunities:&lt;/strong
 &gt; Virtuis Gloria provided an excellent platform for networking among IEEE 
 members\, enabling them to connect with peers who share their passion for 
 technology and innovation. It encouraged the exchange of ideas and experie
 nces.&lt;/p&gt;\n&lt;/li&gt;\n&lt;li&gt;\n&lt;p&gt;&lt;strong&gt;Acknowledgment of Achievements:&lt;/strong
 &gt; The event recognized the achievements and contributions of the outgoing 
 council during their tenure. Awards and certificates were presented to mem
 bers who had made significant contributions to the IEEE JUIT SB.&lt;/p&gt;\n&lt;/li
 &gt;\n&lt;li&gt;\n&lt;p&gt;&lt;strong&gt;Farewell and Welcome:&lt;/strong&gt; The event served as a f
 arewell to the outgoing council members and a warm welcome to the newly el
 ected council. It marked the beginning of a new era in the IEEE JUIT Stude
 nt Branch&#39;s journey.&lt;/p&gt;\n&lt;/li&gt;\n&lt;/ol&gt;&lt;br /&gt;&lt;br /&gt;Agenda: &lt;br /&gt;&lt;p&gt;IEEE JU
 IT SB Council Transition Ceremony\, promises a day filled with insightful 
 discussions\, motivational speeches\, and a symbolic transfer of responsib
 ility from the outgoing council to the newly elected one.&lt;/p&gt;
END:VEVENT
END:VCALENDAR

