BEGIN:VCALENDAR
VERSION:2.0
PRODID:IEEE vTools.Events//EN
CALSCALE:GREGORIAN
BEGIN:VTIMEZONE
TZID:America/New_York
BEGIN:DAYLIGHT
DTSTART:20230312T030000
TZOFFSETFROM:-0500
TZOFFSETTO:-0400
RRULE:FREQ=YEARLY;BYDAY=2SU;BYMONTH=3
TZNAME:EDT
END:DAYLIGHT
BEGIN:STANDARD
DTSTART:20231105T010000
TZOFFSETFROM:-0400
TZOFFSETTO:-0500
RRULE:FREQ=YEARLY;BYDAY=1SU;BYMONTH=11
TZNAME:EST
END:STANDARD
END:VTIMEZONE
BEGIN:VEVENT
DTSTAMP:20230913T182529Z
UID:4A6D2854-8604-484E-9533-C27BBFE302C5
DTSTART;TZID=America/New_York:20231004T140000
DTEND;TZID=America/New_York:20231004T150000
DESCRIPTION:Innovation is exhilarating\, yet without direction\, it can lea
 d to spiraling costs and misplaced efforts. How often do fresh ideas lead 
 to overwhelming brainstorming sessions\, escalating expenses\, and inflate
 d hopes? Many leading corporations have implemented robust systems to stre
 amline innovation endeavors\, ensuring maximum ROI and minimized risks. Ce
 ntral to these systems is the strategic use of precise data. In this enlig
 htening talk\, we will delve into:\n\n- The significance of patent data in
  uncovering innovation prospects.\n- The spectrum of data essential for lo
 cating innovation opportunities.\n- Strategies to leverage this data for b
 oth immediate and future requirements.\n\nJoin us to discover how data-dri
 ven insights can transform your innovation journey.\n\nSpeaker(s): Steve P
 earson\, \n\nAgenda: \nIEEE-USA&#39;s free webinars/events are designed to hel
 p you find your next job\, maintain your career\, negotiate an appropriate
  salary\, understand ethical considerations in the workplace and learn abo
 ut other career-building strategies and public policy developments that af
 fect your profession.\n\nFor information regarding upcoming webinars or to
  visit our vast webinar archive\, please visit: https://ieeeusa.org/career
 s/webinars/\nThis program is offered exclusively to active IEEE members.\n
 \nVirtual: https://events.vtools.ieee.org/m/373732
LOCATION:Virtual: https://events.vtools.ieee.org/m/373732
ORGANIZER:d.r.griffin@ieee.org
SEQUENCE:23
SUMMARY:IEEE-USA Livestream Webinar: Data-Driven Innovation: Harnessing the
  Power of Focused Data
URL;VALUE=URI:https://events.vtools.ieee.org/m/373732
X-ALT-DESC:Description: &lt;br /&gt;&lt;p&gt;Innovation is exhilarating\, yet without d
 irection\, it can lead to spiraling costs and misplaced efforts. How often
  do fresh ideas lead to overwhelming brainstorming sessions\, escalating e
 xpenses\, and inflated hopes? Many leading corporations have implemented r
 obust systems to streamline innovation endeavors\, ensuring maximum ROI an
 d minimized risks. Central to these systems is the strategic use of precis
 e data. In this enlightening talk\, we will delve into:&lt;br /&gt;&lt;br /&gt;- The s
 ignificance of patent data in uncovering innovation prospects.&lt;br /&gt;- The 
 spectrum of data essential for locating innovation opportunities.&lt;br /&gt;- S
 trategies to leverage this data for both immediate and future requirements
 .&lt;/p&gt;\n&lt;p&gt;Join us to discover how data-driven insights can transform your 
 innovation journey.&lt;/p&gt;&lt;br /&gt;&lt;br /&gt;Agenda: &lt;br /&gt;&lt;p&gt;&lt;span style=&quot;color: #0
 00000\; font-family: helvetica\, arial\, sans-serif\;&quot;&gt;IEEE-USA&#39;s free web
 inars/events are designed to help you find your next job\, maintain your c
 areer\, negotiate an appropriate salary\, understand ethical consideration
 s in the workplace and learn about other career-building strategies and pu
 blic policy developments that affect your profession.&lt;/span&gt;&lt;/p&gt;\n&lt;p&gt;&lt;span
  style=&quot;font-family: helvetica\, arial\, sans-serif\;&quot;&gt;For information reg
 arding upcoming webinars or to visit our vast webinar archive\, please vis
 it:&amp;nbsp\;&lt;strong&gt;&lt;a href=&quot;https://ieeeusa.org/careers/webinars/&quot; target=&quot;
 _blank&quot; rel=&quot;noopener&quot;&gt;https://ieeeusa.org/careers/webinars/&lt;/a&gt;&lt;/strong&gt;&lt;
 /span&gt;&lt;br /&gt;&lt;span style=&quot;font-family: helvetica\, arial\, sans-serif\;&quot;&gt;Th
 is program is offered exclusively to active IEEE members.&amp;nbsp\;&lt;/span&gt;&lt;/p
 &gt;\n&lt;p&gt;&amp;nbsp\;&lt;/p&gt;
END:VEVENT
END:VCALENDAR

