BEGIN:VCALENDAR
VERSION:2.0
PRODID:IEEE vTools.Events//EN
CALSCALE:GREGORIAN
BEGIN:VTIMEZONE
TZID:Asia/Kolkata
BEGIN:STANDARD
DTSTART:19451014T230000
TZOFFSETFROM:+0630
TZOFFSETTO:+0530
TZNAME:IST
END:STANDARD
END:VTIMEZONE
BEGIN:VEVENT
DTSTAMP:20230914T101305Z
UID:6F42DFCD-7A5E-4817-B57F-3C6DA410457A
DTSTART;TZID=Asia/Kolkata:20230824T170000
DTEND;TZID=Asia/Kolkata:20230830T170000
DESCRIPTION:One week ‘Megadrone’ workshop was organized by IEEE JUIT SB
  in collaboration with IEEE R10 education activities and IEEE Delhi sectio
 n from August 24 -30\, 2023\, in ECL5\, Jaypee University of Information T
 echnology\, Solan\, Himachal Pradesh\, India.\n\nThe JUIT Student Branch o
 f IEEE proudly inaugurated the Megadrone Workshop\, a comprehensive explor
 ation into the world of drones. This workshop aimed to delve into the bene
 fits\, applications\, types\, and motions of drones.\n\nThe Mega-drone Wor
 kshop kicked off on the first day with a inauguration ceremony. The event 
 began with an inspiring keynote speech by Dr. Vikas Baghel\, a renowned ex
 pert in the field of drone technology. The inaugural session set the tone 
 for an exciting and informative workshop.\n\nAfter the inauguration\, the 
 participants were introduced to the fundamentals of drone technology. The 
 sessions covered the following topics:\n\nIntroduction to Drones\, An over
 view of what drones are\, their history\, and their various applications i
 n today&#39;s world. Detailed explanations of the essential components of a dr
 one\, including the frame\, motors\, propellers\, flight controller\, and 
 sensors\, flight dynamics\, safety regulations\, and different types of dr
 ones were discussed\, along with their specific use cases.\n\nOn the secon
 d day of the workshop\, participants delved into the practical aspects of 
 drone operation. The sessions focused on drone calibration\, which is cruc
 ial for ensuring accurate flight performance. Topics covered included: gyr
 o and accelerometer calibration\, compass calibration\, and configuring th
 e RC transmitter to establish a reliable connection with the drone. The se
 cond half of the day was dedicated to understanding the principles of flig
 ht control. Participants learned in-depth of Proportional-Integral-Derivat
 ive (PID) controllers and how they help maintain stable flight\, flight mo
 des and their applications\, and hands-on sessions on configuring the tran
 smitter for precise control of the drone&#39;s movements.\n\nDay 4 of the work
 shop was dedicated to understanding drone batteries and their management. 
 Topics covered included an overview of different types of drone batteries\
 , such as LiPo (Lithium Polymer) and Li-ion (Lithium-Ion) batteries\, char
 ging and discharging battery \, tips for prolonging the lifespan of drone 
 batteries and avoiding common battery-related issues.\n\nDay 5 of the mega
  drone workshop focused on the legal and regulatory aspects of drone opera
 tion. Key topics covered included an overview of international regulations
  and guidelines governing drone usage\, local regulations and safety and e
 thics. In the afternoon sessions\, participants learned about the software
  and hardware configuration of drones. Introduction to popular flight cont
 roller software such as Betaflight and ArduPilot were discussed. Firmware 
 updates and tips for hardware modifications and enhancements to customise 
 drones for specific applications were also covered.\n\nThe Megadrone works
 hop organised by IEEE JUIT Student Branch was a resounding success\, provi
 ding participants with a comprehensive understanding of drone technology. 
 The event covered everything from the basics of drones to advanced topics 
 like calibration\, assembly\, battery management\, regulations\, and softw
 are/hardware configuration. It was a valuable learning experience for all 
 attendees\, equipping them with the knowledge and skills to explore the ex
 citing world of drones further.\n\nFinal day\, Ideathon was planned. Ideat
 hon aimed to harness the collective creativity of diverse individuals to a
 ddress complex challenges. The event brought together participants from va
 rious backgrounds and expertise.\n\nThe Megadrone Workshop Ideathon served
  as a hub of innovation\, fostering collaboration and ideation. It empower
 ed participants to think critically\, solve complex problems\, and present
  their ideas effectively—a testament to the power of collaborative ideat
 ion in the realm of drones and technology.\n\nThroughout the workshop\, pa
 rticipants engaged in intensive ideation sessions. Drawing from techniques
  mentioned in the provided resources\, these sessions encouraged participa
 nts to think creatively and generate innovative ideas. These ideas formed 
 the basis of their drone projects. Each day featured team presentations wh
 ere participants shared their progress and ideas through well-prepared Pow
 erPoint presentations. This allowed for constructive feedback and cross-po
 llination of ideas among teams.\n\nThe workshop would not have been possib
 le without the dedication of the organisers\, the expertise of the speaker
 s\, and the enthusiastic participation of the attendees. IEEE JUIT Student
  Branch looks forward to hosting more such educational events in the futur
 e\, fostering a culture of innovation and learning among its members and t
 he broader community.\n\nSpeaker(s): Dr. Vikas Baghel\n\nJaypee University
  of Information Technology\, Solan\, Himachal Pradesh\, India\, 173234
LOCATION:Jaypee University of Information Technology\, Solan\, Himachal Pra
 desh\, India\, 173234
ORGANIZER:ieee.juit@juitsolan.in
SEQUENCE:44
SUMMARY:MegaDrone Workshop
URL;VALUE=URI:https://events.vtools.ieee.org/m/373755
X-ALT-DESC:Description: &lt;br /&gt;&lt;p&gt;&lt;strong&gt;One week &amp;lsquo\;Megadrone&amp;rsquo\;
  workshop was organized by IEEE JUIT SB in collaboration with IEEE R10 edu
 cation activities and IEEE Delhi section from August 24 -30\, 2023\, in EC
 L5\, Jaypee University of Information Technology\, Solan\, Himachal Prades
 h\, India.&lt;/strong&gt;&lt;/p&gt;\n&lt;p&gt;&lt;strong&gt;The JUIT Student Branch of IEEE proudl
 y inaugurated the Megadrone Workshop\, a comprehensive exploration into th
 e world of drones. This workshop aimed to delve into the benefits\, applic
 ations\, types\, and motions of drones.&lt;/strong&gt;&lt;/p&gt;\n&lt;p&gt;&lt;strong&gt;The Mega-
 drone Workshop kicked off on the first day with a inauguration ceremony. T
 he event began with an inspiring keynote speech by Dr. Vikas Baghel\, a re
 nowned expert in the field of drone technology. The inaugural session set 
 the tone for an exciting and informative workshop.&lt;/strong&gt;&lt;/p&gt;\n&lt;p&gt;&lt;stron
 g&gt;After the inauguration\, the participants were introduced to the fundame
 ntals of drone technology. The sessions covered the following topics:&lt;/str
 ong&gt;&lt;/p&gt;\n&lt;p&gt;&lt;strong&gt;Introduction to Drones\,&amp;nbsp\; An overview of what d
 rones are\, their history\, and their&amp;nbsp\; various applications in today
 &#39;s world.&amp;nbsp\; Detailed explanations of the essential components of a dr
 one\, including the frame\, motors\, propellers\, flight controller\, and 
 sensors\, flight dynamics\, safety regulations\, and different types of dr
 ones were discussed\, along with their specific use cases.&lt;/strong&gt;&lt;/p&gt;\n&lt;
 h3&gt;&lt;strong&gt;&lt;span style=&quot;font-size: 12pt\;&quot;&gt;On the second day of the worksh
 op\, participants delved into the practical aspects of drone operation. Th
 e sessions focused on drone calibration\, which is crucial for ensuring ac
 curate flight performance. Topics covered included: gyro and accelerometer
  calibration\, compass calibration\, and configuring the RC transmitter to
  establish a &lt;span style=&quot;font-family: arial\, helvetica\, sans-serif\;&quot;&gt;r
 eliable&lt;/span&gt; connection with the drone. The second half of the day was d
 edicated to understanding the principles of flight control. Participants l
 earned in-depth of Proportional-Integral-Derivative (PID) controllers and 
 how they help maintain stable flight\, flight modes and their applications
 \, and hands-on sessions on configuring the transmitter for precise contro
 l of the drone&#39;s movements.&lt;/span&gt;&lt;/strong&gt;&lt;/h3&gt;\n&lt;p&gt;&lt;strong&gt;Day 4 of the 
 workshop was dedicated to understanding drone batteries and their manageme
 nt. Topics covered included an overview of different types of drone batter
 ies\, such as LiPo (Lithium Polymer) and Li-ion (Lithium-Ion) batteries\, 
 charging and discharging battery \, tips for prolonging the lifespan of dr
 one batteries and avoiding common battery-related issues.&lt;/strong&gt;&lt;/p&gt;\n&lt;p
 &gt;&lt;strong&gt;Day 5 of the&amp;nbsp\; mega drone workshop focused on the legal and 
 regulatory aspects of drone operation. Key topics covered included an over
 view of international regulations and guidelines governing drone usage\, l
 ocal regulations and safety and ethics. In the afternoon sessions\, partic
 ipants learned about the software and hardware configuration of drones. In
 troduction to popular flight controller software such as Betaflight and Ar
 duPilot were discussed. Firmware updates and tips for hardware modificatio
 ns and enhancements to customise drones for specific applications were als
 o covered.&lt;/strong&gt;&lt;/p&gt;\n&lt;p&gt;&lt;strong&gt;The Megadrone workshop organised by IE
 EE JUIT Student Branch was a resounding success\, providing participants w
 ith a comprehensive understanding of drone technology. The&amp;nbsp\; event co
 vered everything from the basics of drones to advanced topics like calibra
 tion\, assembly\, battery management\, regulations\, and software/hardware
  configuration. It was a valuable learning experience for all attendees\, 
 equipping them with the knowledge and skills to explore the exciting world
  of drones further.&lt;/strong&gt;&lt;/p&gt;\n&lt;p&gt;&lt;strong&gt;Final day\, Ideathon was plan
 ned.&amp;nbsp\; Ideathon aimed to harness the collective creativity of diverse
  individuals to address complex challenges. The event brought together par
 ticipants from various backgrounds and expertise.&lt;/strong&gt;&lt;/p&gt;\n&lt;p&gt;&lt;strong
 &gt;The Megadrone Workshop Ideathon served as a hub of innovation\, fostering
  collaboration and ideation. It empowered participants to think critically
 \, solve complex problems\, and present their ideas effectively&amp;mdash\;a t
 estament to the power of collaborative ideation in the realm of drones and
  technology.&lt;/strong&gt;&lt;/p&gt;\n&lt;p&gt;&lt;strong&gt;Throughout the workshop\, participan
 ts engaged in intensive ideation sessions. Drawing from techniques mention
 ed in the provided resources\, these sessions encouraged participants to t
 hink creatively and generate innovative ideas. These ideas formed the basi
 s of their drone projects. Each day featured team presentations where part
 icipants shared their progress and ideas through well-prepared PowerPoint 
 presentations. This allowed for constructive feedback and cross-pollinatio
 n of ideas among teams.&lt;/strong&gt;&lt;/p&gt;\n&lt;p&gt;&lt;strong&gt;The workshop would not ha
 ve been possible without the dedication of the organisers\, the expertise 
 of the speakers\, and the enthusiastic participation of the attendees. IEE
 E JUIT Student Branch looks forward to hosting more such educational event
 s in the future\, fostering a culture of innovation and learning among its
  members and the broader community.&lt;/strong&gt;&lt;/p&gt;
END:VEVENT
END:VCALENDAR

