BEGIN:VCALENDAR
VERSION:2.0
PRODID:IEEE vTools.Events//EN
CALSCALE:GREGORIAN
BEGIN:VTIMEZONE
TZID:Europe/Paris
BEGIN:DAYLIGHT
DTSTART:20230326T030000
TZOFFSETFROM:+0100
TZOFFSETTO:+0200
RRULE:FREQ=YEARLY;BYDAY=-1SU;BYMONTH=3
TZNAME:CEST
END:DAYLIGHT
BEGIN:STANDARD
DTSTART:20231029T020000
TZOFFSETFROM:+0200
TZOFFSETTO:+0100
RRULE:FREQ=YEARLY;BYDAY=-1SU;BYMONTH=10
TZNAME:CET
END:STANDARD
END:VTIMEZONE
BEGIN:VEVENT
DTSTAMP:20231017T131932Z
UID:88DCF4FE-A149-4653-B89C-73D125F62B73
DTSTART;TZID=Europe/Paris:20230916T140000
DTEND;TZID=Europe/Paris:20230917T190000
DESCRIPTION:IEEE TALKS: Chapters’ Fest and Pathways to Success is an even
 t organized by IEEE ENIS SB that aims to present the student branch and it
 s units by giving insights about every unit&#39;s field of interest as well as
  every unit&#39;s upcoming events. &quot;IEEE TALKS: Chapters’ Fest and Pathways 
 to Success&quot; is also an opportunity for the attendees to get to know more a
 bout this community by meeting former officers and young professionals who
  will share their experience as part of the IEEE family and tips to lead y
 our way as an engineering student and a future leader\n\nNational Engineer
 ing School of Sfax\, Sfax\, Sfax\, Tunisia
LOCATION:National Engineering School of Sfax\, Sfax\, Sfax\, Tunisia
ORGANIZER:bilel.djemel@ieee.org
SEQUENCE:7
SUMMARY:IEEE Talks: Chapters&#39; Fest and Pathways to Success
URL;VALUE=URI:https://events.vtools.ieee.org/m/373768
X-ALT-DESC:Description: &lt;br /&gt;&lt;p&gt;IEEE TALKS: Chapters&amp;rsquo\; Fest and Path
 ways to Success is an event organized by IEEE ENIS SB that aims to present
  the student branch and its units by giving insights about every unit&#39;s fi
 eld of interest as well as every unit&#39;s upcoming events. &quot;IEEE TALKS: Chap
 ters&amp;rsquo\; Fest and Pathways to Success&quot; is also an opportunity for the 
 attendees to get to know more about this community by meeting former offic
 ers and young professionals who will share their experience as part of the
  IEEE family and tips to lead your way as an engineering student and a fut
 ure leader&amp;nbsp\;&lt;/p&gt;
END:VEVENT
END:VCALENDAR

