BEGIN:VCALENDAR
VERSION:2.0
PRODID:IEEE vTools.Events//EN
CALSCALE:GREGORIAN
BEGIN:VTIMEZONE
TZID:Asia/Kolkata
BEGIN:STANDARD
DTSTART:19451014T230000
TZOFFSETFROM:+0630
TZOFFSETTO:+0530
TZNAME:IST
END:STANDARD
END:VTIMEZONE
BEGIN:VEVENT
DTSTAMP:20231010T070314Z
UID:4647F958-3E81-4018-A3C9-665127DE248F
DTSTART;TZID=Asia/Kolkata:20231007T100000
DTEND;TZID=Asia/Kolkata:20231007T160000
DESCRIPTION:IEEE NTC Hyderabad Student Conclave: Bridging the Future\n\nAre
  you ready to embark on a transformative journey into the world of nanotec
 hnology? The IEEE Nanotechnology Council (NTC) Hyderabad Student Conclave 
 invites you to &quot;Bridging the Future\,&quot; a dynamic event that bridges the ga
 p between present knowledge and the limitless potential of the nanoscale w
 orld.\n\nEngage with fellow students and researchers as they showcase thei
 r groundbreaking research and projects through poster presentations. Excha
 nge ideas\, provide feedback\, and discover opportunities for collaboratio
 n. Join thought-provoking panel discussions on the ethical\, environmental
 \, and societal implications of nanotechnology. Explore the responsible de
 velopment of this transformative technology. Connect with like-minded peer
 s\, mentors\, and industry professionals. Build meaningful relationships t
 hat can propel your career and academic pursuits in nanotechnology.\n\nYou
 &#39;re Cordially Invited to the IEEE NTC Hyderabad Student Conclave\n\nTheme:
  Bridging the Future\n\nJoin us for an immersive experience that promises 
 to bridge the gap between today&#39;s knowledge and tomorrow&#39;s innovations. Di
 scover the transformative power of nanotechnology and connect with a commu
 nity of passionate individuals. We look forward to welcoming you to the IE
 EE NTC Hyderabad Student Conclave and together\, let&#39;s bridge the future o
 f nanotechnology!\n\nCo-sponsored by: IEEE NTC\, IEEE Hyd SAC\, IEEE NTC Y
 oung Professionals R10\, IEEE NTC TC12 Nanomagnetics\, IEEE Hyd NTC SB Cha
 pters\, IEEE NTC TC1 Nanorobotics\n\nAgenda: \nWhy Attend:\n\n-\nKnowledge
  Expansion: Stay updated with the latest developments in nanotechnology an
 d broaden your understanding of its applications and potential.\n\n-\nInsp
 iration: Be inspired by the incredible possibilities that nanotechnology o
 ffers and how it can drive positive change on a global scale.\n\n-\nNetwor
 king: Connect with professionals and peers who share your passion for nano
 technology\, fostering relationships that can open doors to new opportunit
 ies.\n\n-\nHands-On Learning: Engage in interactive activities and worksho
 ps that make complex nanotechnology concepts accessible and fun.\n\n-\nCar
 eer Growth: Explore career pathways and learn from experienced professiona
 ls about the exciting prospects in the field of nanotechnology.\n\nVardham
 an College of Engineering\, Hyderabad\, Andhra Pradesh\, India
LOCATION:Vardhaman College of Engineering\, Hyderabad\, Andhra Pradesh\, In
 dia
ORGANIZER:ntchyd@ieee.org
SEQUENCE:12
SUMMARY:IEEE NTC Hyderabad Student Conclave: Bridging the Future - Annual S
 ummit
URL;VALUE=URI:https://events.vtools.ieee.org/m/373841
X-ALT-DESC:Description: &lt;br /&gt;&lt;p&gt;&lt;strong&gt;IEEE NTC Hyderabad Student Conclav
 e: Bridging the Future&lt;/strong&gt;&lt;/p&gt;\n&lt;p&gt;Are you ready to embark on a trans
 formative journey into the world of nanotechnology? The IEEE Nanotechnolog
 y Council (NTC) Hyderabad Student Conclave invites you to &quot;Bridging the Fu
 ture\,&quot; a dynamic event that bridges the gap between present knowledge and
  the limitless potential of the nanoscale world.&lt;/p&gt;\n&lt;p&gt;Engage with fello
 w students and researchers as they showcase their groundbreaking research 
 and projects through poster presentations. Exchange ideas\, provide feedba
 ck\, and discover opportunities for collaboration. &amp;nbsp\;Join thought-pro
 voking panel discussions on the ethical\, environmental\, and societal imp
 lications of nanotechnology. Explore the responsible development of this t
 ransformative technology. Connect with like-minded peers\, mentors\, and i
 ndustry professionals. Build meaningful relationships that can propel your
  career and academic pursuits in nanotechnology.&lt;/p&gt;\n&lt;p&gt;You&#39;re Cordially 
 Invited to the IEEE NTC Hyderabad Student Conclave&lt;/p&gt;\n&lt;p&gt;&lt;strong&gt;Theme:&lt;
 /strong&gt; Bridging the Future&lt;/p&gt;\n&lt;p&gt;Join us for an immersive experience t
 hat promises to bridge the gap between today&#39;s knowledge and tomorrow&#39;s in
 novations. Discover the transformative power of nanotechnology and connect
  with a community of passionate individuals. We look forward to welcoming 
 you to the IEEE NTC Hyderabad Student Conclave and together\, let&#39;s bridge
  the future of nanotechnology!&lt;/p&gt;&lt;br /&gt;&lt;br /&gt;Agenda: &lt;br /&gt;&lt;p&gt;&lt;strong&gt;Why
  Attend:&lt;/strong&gt;&lt;/p&gt;\n&lt;ul&gt;\n&lt;li&gt;\n&lt;p&gt;&lt;strong&gt;Knowledge Expansion:&lt;/strong
 &gt; Stay updated with the latest developments in nanotechnology and broaden 
 your understanding of its applications and potential.&lt;/p&gt;\n&lt;/li&gt;\n&lt;li&gt;\n&lt;p
 &gt;&lt;strong&gt;Inspiration:&lt;/strong&gt; Be inspired by the incredible possibilities
  that nanotechnology offers and how it can drive positive change on a glob
 al scale.&lt;/p&gt;\n&lt;/li&gt;\n&lt;li&gt;\n&lt;p&gt;&lt;strong&gt;Networking:&lt;/strong&gt; Connect with p
 rofessionals and peers who share your passion for nanotechnology\, fosteri
 ng relationships that can open doors to new opportunities.&lt;/p&gt;\n&lt;/li&gt;\n&lt;li
 &gt;\n&lt;p&gt;&lt;strong&gt;Hands-On Learning:&lt;/strong&gt; Engage in interactive activities
  and workshops that make complex nanotechnology concepts accessible and fu
 n.&lt;/p&gt;\n&lt;/li&gt;\n&lt;li&gt;\n&lt;p&gt;&lt;strong&gt;Career Growth:&lt;/strong&gt; Explore career pat
 hways and learn from experienced professionals about the exciting prospect
 s in the field of nanotechnology.&lt;/p&gt;\n&lt;/li&gt;\n&lt;/ul&gt;
END:VEVENT
END:VCALENDAR

