BEGIN:VCALENDAR
VERSION:2.0
PRODID:IEEE vTools.Events//EN
CALSCALE:GREGORIAN
BEGIN:VTIMEZONE
TZID:Asia/Kolkata
BEGIN:STANDARD
DTSTART:19451014T230000
TZOFFSETFROM:+0630
TZOFFSETTO:+0530
TZNAME:IST
END:STANDARD
END:VTIMEZONE
BEGIN:VEVENT
DTSTAMP:20230914T174957Z
UID:C5A6325A-75AF-4268-8DFF-49036A9671CE
DTSTART;TZID=Asia/Kolkata:20230912T110000
DTEND;TZID=Asia/Kolkata:20230912T120000
DESCRIPTION:IEEE WIE Affinity Group of Bansal Institute of Engineering and 
 Technology\, Lucknow had organized a meeting for the upcoming event &quot;ABHAV
 AYA 2.0&quot;.\nIn this meeting the executive committee had made discussion abo
 ut the events and new plans were made.\nWe have decided our events that ha
 s to be conducted in ABHAVAYA 2.0 .\nThe coordinators for the event were a
 lso appointed.\nAnd we are finalized the events and events coordinators.\n
 \nAgenda: \nPlaining for ABHAVAYA 2.0 .\n\nTo decide events.\n\nTo finalis
 e our event coordinators.\n\nBldg: B.I.E.T building\, NH-24\,Sitapur road 
 behind Sewa hospital \, Lucknow\, Uttar Pradesh\, India
LOCATION:Bldg: B.I.E.T building\, NH-24\,Sitapur road behind Sewa hospital 
 \, Lucknow\, Uttar Pradesh\, India
ORGANIZER:anjalikaneriya18@gmail.com
SEQUENCE:16
SUMMARY:Executive committee meeting
URL;VALUE=URI:https://events.vtools.ieee.org/m/373889
X-ALT-DESC:Description: &lt;br /&gt;&lt;p&gt;IEEE WIE Affinity Group of Bansal Institut
 e of Engineering and Technology\, Lucknow had organized a meeting for the 
 upcoming event &quot;ABHAVAYA 2.0&quot;.&lt;br /&gt;In this meeting the executive committe
 e had made discussion about the events and new plans were made.&lt;br /&gt;We ha
 ve decided our events that has to be conducted in ABHAVAYA 2.0 .&lt;br /&gt;The 
 coordinators for the event were also appointed.&amp;nbsp\;&lt;br /&gt;And we are fin
 alized the events and events coordinators.&lt;/p&gt;&lt;br /&gt;&lt;br /&gt;Agenda: &lt;br /&gt;&lt;p
 &gt;Plaining for ABHAVAYA 2.0 .&lt;/p&gt;\n&lt;p&gt;To decide events.&lt;/p&gt;\n&lt;p&gt;To finalise
  our event coordinators.&lt;/p&gt;
END:VEVENT
END:VCALENDAR

