BEGIN:VCALENDAR
VERSION:2.0
PRODID:IEEE vTools.Events//EN
CALSCALE:GREGORIAN
BEGIN:VTIMEZONE
TZID:Australia/Melbourne
BEGIN:DAYLIGHT
DTSTART:20231001T030000
TZOFFSETFROM:+1000
TZOFFSETTO:+1100
RRULE:FREQ=YEARLY;BYDAY=1SU;BYMONTH=10
TZNAME:AEDT
END:DAYLIGHT
BEGIN:STANDARD
DTSTART:20240407T020000
TZOFFSETFROM:+1100
TZOFFSETTO:+1000
RRULE:FREQ=YEARLY;BYDAY=1SU;BYMONTH=4
TZNAME:AEST
END:STANDARD
END:VTIMEZONE
BEGIN:VEVENT
DTSTAMP:20231208T010108Z
UID:C153404B-F62F-40D5-B325-003BAE280383
DTSTART;TZID=Australia/Melbourne:20231201T150000
DTEND;TZID=Australia/Melbourne:20231201T160000
DESCRIPTION:Category: Guest Speaker\n\n[]\nTitle: Enhancing Security in Sof
 tware and AI\nSpeaker: Prof Yang Xiang (IEEE Fellow)\, Swinburne Universit
 y of Technology\, Australia\nLocation: TBA\, F2F\nTime: 3.00 – 4.00 pm (
 AEST) Friday 6th October 2023\nRegister: https://events.vtools.ieee.org/m/
 373960\n\nFor further details\, contact:  Malka N. Halgamuge\, Chair VIC C
 IS (malka_nisha@ieee.org)\nVIC CIS Chapter website: https://r10.ieee.org/v
 ictorian-cis\n\nThis is a part of the IEEE Victorian Computational Intelli
 gence Society (CIS) series of talks. The online delivery is kindly hosted 
 by IEEE Victorian Section.\n\nCo-sponsored by: IEEE VIC CIS Chapter\; IEEE
  VIC Section\n\nSpeaker(s):  Prof Yang Xiang\, \n\nBldg: 80\, RMIT Univers
 ity\, Melbourne\, Victoria\, Australia\, Virtual: https://events.vtools.ie
 ee.org/m/373960
LOCATION:Bldg: 80\, RMIT University\, Melbourne\, Victoria\, Australia\, Vi
 rtual: https://events.vtools.ieee.org/m/373960
ORGANIZER:malka_nisha@ieee.org
SEQUENCE:13
SUMMARY:IEEE VIC CIS Talk on Enhancing Security in Software and AI
URL;VALUE=URI:https://events.vtools.ieee.org/m/373960
X-ALT-DESC:Description: &lt;br /&gt;&lt;h5&gt;&lt;strong&gt;Category:&amp;nbsp\;&lt;/strong&gt;&lt;strong&gt;
 Guest Speaker&lt;/strong&gt;&lt;/h5&gt;\n&lt;h5&gt;&lt;img class=&quot;alignnone size-thumbnail wp-i
 mage-262&quot; src=&quot;https://r10.ieee.org/victorian-cis/wp-content/uploads/sites
 /167/2023/08/Yang-Xiang-150x150.jpg&quot; alt=&quot;&quot; width=&quot;150&quot; height=&quot;150&quot; /&gt;&lt;br
  /&gt;&lt;strong&gt;Title:&lt;/strong&gt;&amp;nbsp\; Enhancing Security in Software and AI&lt;br
  /&gt;&lt;strong&gt;Speaker:&amp;nbsp\;&lt;/strong&gt;Prof Yang Xiang (IEEE Fellow)\, Swinbur
 ne University of Technology\, Australia&lt;br /&gt;&lt;strong&gt;Location:&lt;/strong&gt;&amp;nb
 sp\;TBA\, F2F&lt;br /&gt;&lt;strong&gt;Time&lt;/strong&gt;: 3.00 &amp;ndash\; 4.00 pm (AEST) Fri
 day 6th October 2023&lt;br /&gt;&lt;strong&gt;Register:&lt;/strong&gt;&amp;nbsp\;&lt;strong&gt;&lt;a href
 =&quot;https://events.vtools.ieee.org/m/373960&quot; target=&quot;_blank&quot; rel=&quot;noopener&quot;&gt;
 https://events.vtools.ieee.org/m/373960 &lt;/a&gt;&lt;/strong&gt;&lt;/h5&gt;\n&lt;h5&gt;&lt;strong&gt;Fo
 r further details\, contact: &amp;nbsp\;&lt;/strong&gt;&amp;nbsp\;Malka N. Halgamuge\, C
 hair VIC CIS (malka_nisha@ieee.org)&lt;br /&gt;&lt;strong&gt;VIC CIS Chapter website:&lt;
 /strong&gt;&amp;nbsp\;&amp;nbsp\;&lt;a href=&quot;https://r10.ieee.org/victorian-cis&quot;&gt;https:/
 /r10.ieee.org/victorian-cis&lt;/a&gt;&lt;/h5&gt;\n&lt;p&gt;This is a part of the IEEE Victor
 ian Computational Intelligence Society (CIS) series of talks. The online d
 elivery is kindly hosted by IEEE Victorian Section.&lt;/p&gt;
END:VEVENT
END:VCALENDAR

