BEGIN:VCALENDAR
VERSION:2.0
PRODID:IEEE vTools.Events//EN
CALSCALE:GREGORIAN
BEGIN:VTIMEZONE
TZID:America/Bogota
BEGIN:DAYLIGHT
DTSTART:20380118T221407
TZOFFSETFROM:-0500
TZOFFSETTO:-0500
RRULE:FREQ=YEARLY;BYDAY=3MO;BYMONTH=1
TZNAME:-05
END:DAYLIGHT
BEGIN:STANDARD
DTSTART:19930206T230000
TZOFFSETFROM:-0400
TZOFFSETTO:-0500
RRULE:FREQ=YEARLY;BYDAY=1SA;BYMONTH=2
TZNAME:-05
END:STANDARD
END:VTIMEZONE
BEGIN:VEVENT
DTSTAMP:20231013T133902Z
UID:C70E932C-D7E3-47FC-8938-06AF41B6C85F
DTSTART;TZID=America/Bogota:20231010T090000
DTEND;TZID=America/Bogota:20231010T110000
DESCRIPTION:In this talk\, Claudio Da Silva will give an overview to the 80
 2.11 standard and Wi-Fi\, including WiFi 7 and the next evolution of the I
 EEE 802.11 Standard\n\nCo-sponsored by: Universidad de Antioquia\n\nSpeake
 r(s): Claudio da Silva\, \n\nRoom: 21-326\, Bldg: 21\, Universidad de Anti
 oquia\, Medellin\, Antioquia\, Colombia
LOCATION:Room: 21-326\, Bldg: 21\, Universidad de Antioquia\, Medellin\, An
 tioquia\, Colombia
ORGANIZER:natalia.gaviria@udea.edu.co
SEQUENCE:30
SUMMARY:IEEE 802.11: A Look Under the Hood
URL;VALUE=URI:https://events.vtools.ieee.org/m/374061
X-ALT-DESC:Description: &lt;br /&gt;&lt;p&gt;In this talk\, Claudio Da Silva will give 
 an overview to the 802.11 standard and Wi-Fi\, including WiFi 7 and the ne
 xt evolution of the IEEE 802.11 Standard&lt;/p&gt;
END:VEVENT
END:VCALENDAR

