BEGIN:VCALENDAR
VERSION:2.0
PRODID:IEEE vTools.Events//EN
CALSCALE:GREGORIAN
BEGIN:VTIMEZONE
TZID:America/Bogota
BEGIN:DAYLIGHT
DTSTART:20380118T221407
TZOFFSETFROM:-0500
TZOFFSETTO:-0500
RRULE:FREQ=YEARLY;BYDAY=3MO;BYMONTH=1
TZNAME:-05
END:DAYLIGHT
BEGIN:STANDARD
DTSTART:19930206T230000
TZOFFSETFROM:-0400
TZOFFSETTO:-0500
RRULE:FREQ=YEARLY;BYDAY=1SA;BYMONTH=2
TZNAME:-05
END:STANDARD
END:VTIMEZONE
BEGIN:VEVENT
DTSTAMP:20240216T051112Z
UID:D8FBEBC7-7449-4CE5-9E61-AC2F6C99E0E2
DTSTART;TZID=America/Bogota:20231121T180000
DTEND;TZID=America/Bogota:20231121T190000
DESCRIPTION:[IEEE Communications Society](https://www.linkedin.com/company/
 ieee-communications-society?trk=public_post-text) \, la Maestría en Segur
 idad de la Información de [DISCuniandes](https://co.linkedin.com/showcase
 /departamento-de-ingenier%C3%ADa-de-sistemas-y-computaci%C3%B3n/?trk=publi
 c_post-text) y [Universidad de los Andes - Colombia](https://co.linkedin.c
 om/school/universidad-de-los-andes/?trk=public_post-text) \, la Rama Estud
 iantil IEEE UniAndes\, y los capítulos estudiantiles de Comunicaciones y 
 Computación tienen el gusto de invitarlos a la charla Empowering DDoS Att
 ack Prediction through Machine Learning and Deep Learning impartida por la
  Ph.D. [Michele Nogueira](https://br.linkedin.com/in/michele-nogueira-0370
 4214?trk=public_post-text) .\n\nCo-sponsored by: Uiversidad de Los Andes\n
 \nSpeaker(s): Michele Nogueira\, \n\nRoom: W 101\, Universidad de Los Ande
 s\, Bogota\, Cundinamarca\, Colombia
LOCATION:Room: W 101\, Universidad de Los Andes\, Bogota\, Cundinamarca\, C
 olombia
ORGANIZER:j.d.cely@ieee.org
SEQUENCE:9
SUMMARY:Empowering DDoS Attack Prediction through Machine Learning and Deep
  Learning
URL;VALUE=URI:https://events.vtools.ieee.org/m/374068
X-ALT-DESC:Description: &lt;br /&gt;&lt;p&gt;&lt;a class=&quot;link&quot; href=&quot;https://www.linkedin
 .com/company/ieee-communications-society?trk=public_post-text&quot; target=&quot;_se
 lf&quot; data-tracking-control-name=&quot;public_post-text&quot; data-tracking-will-navig
 ate=&quot;&quot;&gt;IEEE Communications Society&lt;/a&gt; \, la Maestr&amp;iacute\;a en Seguridad
  de la Informaci&amp;oacute\;n de &lt;a class=&quot;link&quot; href=&quot;https://co.linkedin.co
 m/showcase/departamento-de-ingenier%C3%ADa-de-sistemas-y-computaci%C3%B3n/
 ?trk=public_post-text&quot; target=&quot;_self&quot; data-tracking-control-name=&quot;public_p
 ost-text&quot; data-tracking-will-navigate=&quot;&quot;&gt;DISCuniandes&lt;/a&gt; y &lt;a class=&quot;link
 &quot; href=&quot;https://co.linkedin.com/school/universidad-de-los-andes/?trk=publi
 c_post-text&quot; target=&quot;_self&quot; data-tracking-control-name=&quot;public_post-text&quot; 
 data-tracking-will-navigate=&quot;&quot;&gt;Universidad de los Andes - Colombia&lt;/a&gt; \, 
 la Rama Estudiantil IEEE UniAndes\, y los cap&amp;iacute\;tulos estudiantiles 
 de Comunicaciones y Computaci&amp;oacute\;n tienen el gusto de invitarlos a la
  charla Empowering DDoS Attack Prediction through Machine Learning and Dee
 p Learning impartida por la Ph.D. &lt;a class=&quot;link&quot; href=&quot;https://br.linkedi
 n.com/in/michele-nogueira-03704214?trk=public_post-text&quot; target=&quot;_self&quot; da
 ta-tracking-control-name=&quot;public_post-text&quot; data-tracking-will-navigate=&quot;&quot;
 &gt;Michele Nogueira&lt;/a&gt; .&lt;/p&gt;
END:VEVENT
END:VCALENDAR

