BEGIN:VCALENDAR
VERSION:2.0
PRODID:IEEE vTools.Events//EN
CALSCALE:GREGORIAN
BEGIN:VTIMEZONE
TZID:America/Bogota
BEGIN:DAYLIGHT
DTSTART:20380118T221407
TZOFFSETFROM:-0500
TZOFFSETTO:-0500
RRULE:FREQ=YEARLY;BYDAY=3MO;BYMONTH=1
TZNAME:-05
END:DAYLIGHT
BEGIN:STANDARD
DTSTART:19930206T230000
TZOFFSETFROM:-0400
TZOFFSETTO:-0500
RRULE:FREQ=YEARLY;BYDAY=1SA;BYMONTH=2
TZNAME:-05
END:STANDARD
END:VTIMEZONE
BEGIN:VEVENT
DTSTAMP:20231014T223044Z
UID:6C719C10-0CEF-4159-B3D3-DCE974187192
DTSTART;TZID=America/Bogota:20231011T130000
DTEND;TZID=America/Bogota:20231011T160000
DESCRIPTION:En la actualidad existen una gran cantidad de productos médico
 s (apósitos\, disponibles comercialmente)\, basados en celulosa microbian
 a que se utilizan en su mayoría para el tratamiento de úlceras diabétic
 as\, quemaduras graves y aceleración de procesos de cicatrización\, entr
 e otros. Con esta investigación se busca hacer innovación biotecnológic
 a con la utilización de bacterias para la producción del biopolímero co
 mo un futuro dispositivo médico\, que sería una solución para las enfer
 medades cutáneas de bajo costo y por su elaboración con fuentes alternat
 ivas de la agroindustria como el mucílago de café y algunos extractos de
  plantas medicinales.\n\nPanamá\, Panama\, Panama
LOCATION:Panamá\, Panama\, Panama
ORGANIZER:Mahelys_Vasquez@ieee.org
SEQUENCE:8
SUMMARY:Conferencia-Producción de apósitos de celulosa microbiana como ma
 triz para la liberación de fármacos tópicos
URL;VALUE=URI:https://events.vtools.ieee.org/m/374182
X-ALT-DESC:Description: &lt;br /&gt;&lt;p&gt;En la actualidad existen una gran cantidad
  de productos m&amp;eacute\;dicos (ap&amp;oacute\;sitos\, disponibles comercialmen
 te)\, basados en celulosa microbiana que se utilizan en su mayor&amp;iacute\;a
  para el tratamiento de &amp;uacute\;lceras diab&amp;eacute\;ticas\, quemaduras gr
 aves y aceleraci&amp;oacute\;n de procesos de cicatrizaci&amp;oacute\;n\, entre ot
 ros. Con esta investigaci&amp;oacute\;n se busca hacer innovaci&amp;oacute\;n biot
 ecnol&amp;oacute\;gica con la utilizaci&amp;oacute\;n de bacterias para la producc
 i&amp;oacute\;n del biopol&amp;iacute\;mero como un futuro dispositivo m&amp;eacute\;d
 ico\, que ser&amp;iacute\;a una soluci&amp;oacute\;n para las enfermedades cut&amp;aac
 ute\;neas de bajo costo y por su elaboraci&amp;oacute\;n con fuentes alternati
 vas de la agroindustria como el muc&amp;iacute\;lago de caf&amp;eacute\; y algunos
  extractos de plantas medicinales.&lt;/p&gt;
END:VEVENT
END:VCALENDAR

