BEGIN:VCALENDAR
VERSION:2.0
PRODID:IEEE vTools.Events//EN
CALSCALE:GREGORIAN
BEGIN:VTIMEZONE
TZID:Europe/Madrid
BEGIN:DAYLIGHT
DTSTART:20230326T030000
TZOFFSETFROM:+0100
TZOFFSETTO:+0200
RRULE:FREQ=YEARLY;BYDAY=-1SU;BYMONTH=3
TZNAME:CEST
END:DAYLIGHT
BEGIN:STANDARD
DTSTART:20231029T020000
TZOFFSETFROM:+0200
TZOFFSETTO:+0100
RRULE:FREQ=YEARLY;BYDAY=-1SU;BYMONTH=10
TZNAME:CET
END:STANDARD
END:VTIMEZONE
BEGIN:VEVENT
DTSTAMP:20231231T152049Z
UID:72EECD46-6690-40E2-9671-FEC86031EC9B
DTSTART;TZID=Europe/Madrid:20230921T180000
DTEND;TZID=Europe/Madrid:20230921T200000
DESCRIPTION:IEEE PES ESPAÑA | [Webinar(9º) 21.09.2023] | THE ENERGY TRANS
 ITION | Towards a DECARBONIZED ENERGY | Supplying EV charging directly fro
 m the Transmission Grid\n\nEstimados Miembros del Capítulo IEEE PES ESPA
 ÑA y de la comunidad de sistemas eléctricos de potencia\,\nDear IEEE PES
  Spain Members and Colleagues from power and energy community\,\n\nContinu
 ing with the [Webinar] series on the topic\n\nLA TRANSICIÓN ENERGETICA | 
 Hacia una ECONOMIA DESCARBONIZADA\nTHE ENERGY TRANSITION | Towards a DECAR
 BONIZED ECONOMY\n\nThe energy transition towards a decarbonized economy wi
 ll present a relevant challenge and a crucial transformation faced by our 
 Society\; Decelerating climate change effects is becoming a moral commitme
 nt.\nAs a society\, we are part of the decarbonized energy process that go
 es through the electrification of the economy and it is supported by renew
 ables within a sustainable energy model.\nThis means a change of paradigm 
 which heads towards an immediate exciting future full of challenges at all
  levels associated with flexibility in its widest conception. It is assume
 d that a change of paradigm\, that requires changing the focus from active
  based asset management towards the digitalization that ensures resiliency
  and security for the future electric systems.\nIn this context\, we need 
 to contribute and stimulate the exchange of ideas from different perspecti
 ves and experiences\, creating a framework of reflection through these ser
 ies of webinars. The expected benefit and impact is the identification of 
 opportunities within the complexity associated with the change of paradigm
 .\n\nIn this [Webinar] Jorge Martins (REN- Portuguese TSO) will share with
  us the proposal to supply EV charging directly from the HV system.\n\nTit
 le: Supplying EV charging directly from the Transmission Grid\n\nContent: 
 The rise of electric vehicle (EV) adoption requires the development of a w
 idespread charging infrastructure. The application of classic solutions is
  most likely insufficient to ensure the required pace of transition. To ad
 dress this challenge\, REN has developed SPEED-E\, a new grid connection s
 olution capable of supplying high power to electric vehicle charging stati
 ons\, directly from the Transmission Grid. This innovative solution consis
 ts of a small-scale substation that connects to an existing Very High Volt
 age Transmission Line\, using a special connection scheme\, which enables 
 increased operational flexibility and reliability. The substation uses Pow
 er Voltage Transformers to transform directly Very High Voltage to Low Vol
 tage\, thus circumventing the conventional multiple step-down voltage appr
 oach. REN has deployed a proof-of-concept project in Portugal\, connected 
 to an existing 220kV transmission line\, which has been in operation since
  2018. In parallel\, the European Patent has been granted in April 2021 an
 d is currently valid in 32 European countries. The main differentiating fe
 atures of this solution versus the conventional distribution grid power su
 pply solutions include: (i) &#39;virtually unlimited&#39; power available at each 
 site\; (ii) sustainability of the solution by enabling a new use of the ex
 isting Transmission Grid\; (iii) modularity and scalability\, reducing inv
 estment risk\; and (iv) superior quality of service associated to the Tran
 smission Grid.\n\nSpeaker: Jorge Martins (REN- Portuguese TSO)\n\nDate: Se
 ptember 21\, 2023\nTime: 18:00 -20:00 (Europa-Madrid)\nLanguage: English\n
 \nParticipation in these [Webinars] is open to everyone\, including both P
 ES Members and non-Members. However\, REGISTRATION  is necessary in order 
 to receive the [Webinar] access link and URL to WebEx. The Connection link
  to this [Webinar(9º) 21.09.2023] will be sent to the registrants by e-ma
 il on the event day at 11:30 (Europa-Madrid).\n\nThe Registration closes a
 t 11:30 (Europa-Madrid) on Thursday 21st of september 2023. The direct acc
 ess to the REGISTRATION is at\n\nhttps://events.vtools.ieee.org/event/regi
 ster/374280\n\nFor further information:\n\n[Webinar(9º) 21.09.2023]: http
 s://events.vtools.ieee.org/m/374280\n\nThe IEEE PES ESPAÑA System issues 
 participation certificates in these [Webinars] to the attendees under requ
 est. The necessary condition for the System to issue the certificate is th
 at the attendee must participate with at least one voice question during t
 he question time.\n\nLooking forward to seeing you.\n\nKind regards\,\n\nX
 ose M. López-Fernández\n[IEEE PES Spain Chapter](http://enotice.ieee.org
 /link.cfm?r=2t13DaV1ZQMWdxFUYxE9AA~~&amp;pe=2r6s6cq1ZHJVREEnjcPg615Ax6pY5bB2Et
 OtT4-0u2m72qPy0vZwRE9mo5IxUHTUd3basEhCJ_h0e96RcJiJxA~~&amp;t=dWSU4qsc8D7Oq-bfM
 acKwQ~~)\, Chair\nE-mail: xmlopez@uvigo.es\n[http://webs.uvigo.es/xmlopez]
 (http://enotice.ieee.org/link.cfm?r=2t13DaV1ZQMWdxFUYxE9AA~~&amp;pe=witkeIz8Lk
 oUZhulkk1sx9E_1rKgceS0PT-I3sEMmkolP5KhdQvJt1UgDYhS1dKffWoWT6ki6UJ7wxyrpcMo
 GA~~&amp;t=dWSU4qsc8D7Oq-bfMacKwQ~~)\n[http://www.ewh.ieee.org/soc/pes/spain/]
 (http://enotice.ieee.org/link.cfm?r=2t13DaV1ZQMWdxFUYxE9AA~~&amp;pe=6KDWid33Ea
 TBI-e5_Rs9WqK142A_ryE8sq-2yQP_PxO6C0QjIOxeNlOScNiFfqtUlnufeNysO01BgoUQ8lmA
 KA~~&amp;t=dWSU4qsc8D7Oq-bfMacKwQ~~)\n\nCo-sponsored by: RedINtransf\n\nSpeake
 r(s): Jorge Martins\n\nVirtual: https://events.vtools.ieee.org/m/374280
LOCATION:Virtual: https://events.vtools.ieee.org/m/374280
ORGANIZER:XMLOPEZ@UVIGO.GAL
SEQUENCE:32
SUMMARY:IEEE PES ESPAÑA | [Webinar(9º) 21.09.2023] | Supplying EV chargin
 g directly from the Transmission Grid
URL;VALUE=URI:https://events.vtools.ieee.org/m/374280
X-ALT-DESC:Description: &lt;br /&gt;&lt;p&gt;&amp;nbsp\;&lt;/p&gt;\n&lt;p&gt;IEEE PES ESPA&amp;Ntilde\;A | 
 [Webinar(9&amp;ordm\;) 21.09.2023] |&amp;nbsp\; &lt;strong&gt;THE ENERGY TRANSITION&lt;/str
 ong&gt; | Towards a DECARBONIZED ENERGY | &lt;strong&gt;Supplying EV charging direc
 tly from the Transmission Grid&lt;/strong&gt;&lt;/p&gt;\n&lt;p&gt;&amp;nbsp\;&lt;/p&gt;\n&lt;p&gt;&amp;nbsp\;&lt;/p
 &gt;\n&lt;p&gt;&lt;em&gt;Estimados Miembros del Cap&amp;iacute\;tulo &lt;span style=&quot;color: #33c
 c00\;&quot;&gt;IEEE PES ESPA&amp;Ntilde\;A&lt;/span&gt; y de la comunidad de sistemas el&amp;eac
 ute\;ctricos de potencia\,&lt;/em&gt;&lt;br /&gt;Dear &lt;span style=&quot;color: #33cc00\;&quot;&gt;I
 EEE PES Spain&lt;/span&gt; Members and Colleagues from power and energy communit
 y\,&lt;/p&gt;\n&lt;p&gt;&amp;nbsp\;&lt;/p&gt;\n&lt;p&gt;&amp;nbsp\;Continuing with the [Webinar] series on
  the topic&lt;/p&gt;\n&lt;p&gt;&lt;strong&gt;&lt;em&gt;LA TRANSICI&amp;Oacute\;N ENERGETICA&lt;/em&gt;&lt;/stro
 ng&gt;&amp;nbsp\;| &lt;em&gt;Hacia una &lt;span style=&quot;color: #3366ff\;&quot;&gt;ECONOMIA DESCARBO
 NIZADA&amp;nbsp\;&lt;/span&gt;&lt;/em&gt; &lt;strong&gt;&lt;br /&gt;&lt;em&gt;THE ENERGY TRANSITION&lt;/em&gt;&lt;/st
 rong&gt;&amp;nbsp\;| &lt;em&gt;Towards a &lt;span style=&quot;color: #3366ff\;&quot;&gt;DECARBONIZED&amp;nb
 sp\;ECONOMY&lt;/span&gt;&lt;/em&gt;&lt;/p&gt;\n&lt;p&gt;&amp;nbsp\;&lt;/p&gt;\n&lt;p&gt;&lt;span style=&quot;font-size: 8p
 t\;&quot;&gt;The energy transition towards a decarbonized economy will present a r
 elevant challenge and a crucial transformation faced by&amp;nbsp\;our Society\
 ; Decelerating climate change effects is becoming a moral commitment.&lt;br /
 &gt;As a society\, we are part of the decarbonized energy process that goes t
 hrough the &lt;strong&gt;electrification&lt;/strong&gt; of the economy and it is&amp;nbsp\
 ;supported by renewables within a sustainable energy model.&lt;br /&gt;This mean
 s &lt;strong&gt;a change of paradigm&lt;/strong&gt; which heads towards an immediate e
 xciting future full of challenges at all levels associated with &lt;strong&gt;fl
 exibility&lt;/strong&gt; in&amp;nbsp\;its widest conception. It is assumed that a ch
 ange of paradigm\, that requires changing the focus from active based asse
 t&amp;nbsp\;management towards the&lt;strong&gt; digitalization&lt;/strong&gt; that ensure
 s resiliency and security for the future electric systems.&lt;br /&gt;In this co
 ntext\, we need to contribute and stimulate the exchange of ideas from dif
 ferent perspectives and experiences\, creating&amp;nbsp\;a framework of reflec
 tion through these series of webinars. The expected benefit and impact is 
 the identification of opportunities&amp;nbsp\;within the complexity associated
  with the change of paradigm.&lt;/span&gt;&lt;/p&gt;\n&lt;p&gt;&amp;nbsp\;&lt;/p&gt;\n&lt;p&gt;In this [Webi
 nar]&amp;nbsp\; &lt;strong&gt;Jorge Martins&lt;/strong&gt; (&lt;span style=&quot;font-weight: 400\
 ;&quot;&gt;REN- Portuguese TSO&lt;/span&gt;) will share with us the proposal to supply E
 V charging directly from the HV system.&lt;/p&gt;\n&lt;p&gt;Title: &amp;nbsp\;&lt;strong&gt;Supp
 lying EV charging directly from the Transmission Grid&lt;/strong&gt;&lt;/p&gt;\n&lt;p&gt;&lt;sp
 an style=&quot;background-color: #ffffff\;&quot;&gt;Content:&amp;nbsp\; &lt;/span&gt;&lt;strong&gt;The 
 rise of electric vehicle (EV) adoption requires the development of a wides
 pread charging infrastructure. The application of classic solutions is mos
 t likely insufficient to ensure the required pace of transition. To addres
 s this challenge\, REN has developed SPEED-E\, a new grid connection solut
 ion capable of supplying high power to electric vehicle charging stations\
 , directly from the Transmission Grid. This innovative solution consists o
 f a small-scale substation that connects to an existing Very High Voltage 
 Transmission Line\, using a special connection scheme\, which enables incr
 eased operational flexibility and reliability. The substation uses Power V
 oltage Transformers to transform directly Very High Voltage to Low Voltage
 \, thus circumventing the conventional multiple step-down voltage approach
 . REN has deployed a proof-of-concept project in Portugal\, connected to a
 n existing 220kV transmission line\, which has been in operation since 201
 8. In parallel\, the European Patent has been granted in April 2021 and is
  currently valid in 32 European countries. The main differentiating featur
 es of this solution versus the conventional distribution grid power supply
  solutions include: (i) &#39;virtually unlimited&#39; power available at each site
 \; (ii) sustainability of the solution by enabling a new use of the existi
 ng Transmission Grid\; (iii) modularity and scalability\, reducing investm
 ent risk\; and (iv) superior quality of service associated to the Transmis
 sion Grid.&lt;/strong&gt;&lt;/p&gt;\n&lt;p&gt;Speaker: &lt;strong&gt;Jorge Martins&lt;/strong&gt; (&lt;span
  style=&quot;font-weight: 400\;&quot;&gt;REN- Portuguese TSO&lt;/span&gt;)&amp;nbsp\;&lt;/p&gt;\n&lt;p&gt;Dat
 e: September 21\, 2023&lt;br /&gt;Time: 18:00 -20:00 (Europa-Madrid)&lt;br /&gt;Langua
 ge: English&lt;/p&gt;\n&lt;p&gt;Participation in these [Webinars] is open to everyone\
 , including both PES Members and non-Members. However\, &lt;strong&gt;REGISTRATI
 ON&amp;nbsp\;&lt;/strong&gt; is necessary&lt;strong&gt;&amp;nbsp\;&lt;/strong&gt;in order to receive
  the [Webinar] access link and URL to WebEx. The Connection link to this [
 Webinar(9&amp;ordm\;) 21.09.2023] will be sent to the registrants by e-mail on
  the event day at 11:30 (Europa-Madrid).&lt;/p&gt;\n&lt;p&gt;The Registration &lt;strong&gt;
 closes&lt;/strong&gt; &lt;strong&gt;at 11:30&amp;nbsp\;&lt;/strong&gt;(Europa-Madrid) on&lt;strong&gt;
  Thursday 21st&lt;/strong&gt; of september 2023. The direct access to the REGIST
 RATION is at&lt;/p&gt;\n&lt;p&gt;&lt;span style=&quot;background-color: #ffffff\;&quot;&gt;&lt;a style=&quot;b
 ackground-color: #ffffff\;&quot; href=&quot;https://events.vtools.ieee.org/event/reg
 ister/374280&quot;&gt;https://events.vtools.ieee.org/event/register/374280&lt;/a&gt;&lt;/sp
 an&gt;&lt;/p&gt;\n&lt;p&gt;For further information:&lt;/p&gt;\n&lt;p&gt;[Webinar(9&amp;ordm\;) 21.09.2023
 ]: &lt;span style=&quot;background-color: #ffffff\;&quot;&gt;&lt;a style=&quot;background-color: #
 ffffff\;&quot; href=&quot;https://events.vtools.ieee.org/m/374280&quot;&gt;https://events.vt
 ools.ieee.org/m/374280&lt;/a&gt;&lt;/span&gt;&lt;/p&gt;\n&lt;p&gt;The IEEE PES ESPA&amp;Ntilde\;A Syst
 em issues participation certificates in these [Webinars] to the attendees 
 under request. The necessary condition for the System to issue the certifi
 cate is that the attendee must participate with at least one voice questio
 n during the question time.&lt;/p&gt;\n&lt;p&gt;&amp;nbsp\;&lt;/p&gt;\n&lt;p&gt;Looking forward to see
 ing you.&lt;/p&gt;\n&lt;p&gt;&amp;nbsp\;&lt;/p&gt;\n&lt;p&gt;Kind regards\,&lt;/p&gt;\n&lt;p&gt;Xose M. L&amp;oacute\;
 pez-Fern&amp;aacute\;ndez&lt;br /&gt;&lt;a href=&quot;http://enotice.ieee.org/link.cfm?r=2t1
 3DaV1ZQMWdxFUYxE9AA~~&amp;amp\;pe=2r6s6cq1ZHJVREEnjcPg615Ax6pY5bB2EtOtT4-0u2m7
 2qPy0vZwRE9mo5IxUHTUd3basEhCJ_h0e96RcJiJxA~~&amp;amp\;t=dWSU4qsc8D7Oq-bfMacKwQ
 ~~&quot;&gt;IEEE PES Spain Chapter&lt;/a&gt;\, Chair&lt;br /&gt;E-mail: &lt;a href=&quot;mailto:xmlope
 z@uvigo.es&quot;&gt;xmlopez@uvigo.es&lt;/a&gt;&lt;br /&gt;&lt;a href=&quot;http://enotice.ieee.org/lin
 k.cfm?r=2t13DaV1ZQMWdxFUYxE9AA~~&amp;amp\;pe=witkeIz8LkoUZhulkk1sx9E_1rKgceS0P
 T-I3sEMmkolP5KhdQvJt1UgDYhS1dKffWoWT6ki6UJ7wxyrpcMoGA~~&amp;amp\;t=dWSU4qsc8D7
 Oq-bfMacKwQ~~&quot;&gt;http://webs.uvigo.es/xmlopez&lt;/a&gt;&lt;br /&gt;&lt;a href=&quot;http://enoti
 ce.ieee.org/link.cfm?r=2t13DaV1ZQMWdxFUYxE9AA~~&amp;amp\;pe=6KDWid33EaTBI-e5_R
 s9WqK142A_ryE8sq-2yQP_PxO6C0QjIOxeNlOScNiFfqtUlnufeNysO01BgoUQ8lmAKA~~&amp;amp
 \;t=dWSU4qsc8D7Oq-bfMacKwQ~~&quot;&gt;http://www.ewh.ieee.org/soc/pes/spain/&lt;/a&gt;&lt;/
 p&gt;
END:VEVENT
END:VCALENDAR

