BEGIN:VCALENDAR
VERSION:2.0
PRODID:IEEE vTools.Events//EN
CALSCALE:GREGORIAN
BEGIN:VTIMEZONE
TZID:America/New_York
BEGIN:DAYLIGHT
DTSTART:20230312T030000
TZOFFSETFROM:-0500
TZOFFSETTO:-0400
RRULE:FREQ=YEARLY;BYDAY=2SU;BYMONTH=3
TZNAME:EDT
END:DAYLIGHT
BEGIN:STANDARD
DTSTART:20231105T010000
TZOFFSETFROM:-0400
TZOFFSETTO:-0500
RRULE:FREQ=YEARLY;BYDAY=1SU;BYMONTH=11
TZNAME:EST
END:STANDARD
END:VTIMEZONE
BEGIN:VEVENT
DTSTAMP:20231004T144609Z
UID:12F22D2C-D5B4-4CE8-9E05-CF0999B16F00
DTSTART;TZID=America/New_York:20230929T140000
DTEND;TZID=America/New_York:20230929T153000
DESCRIPTION:Tour begins at 2 PM in the Cornell NanoScale Facility. All part
 icipants must read and comply with their [dress code](https://www.google.c
 om/url?q=https://www.cnf.cornell.edu/howto/dress_code&amp;sa=D&amp;source=calendar
 &amp;ust=1695504858036213&amp;usg=AOvVaw1z7u5KbjuWkb4TNHkEvFyd) to enter the clean
 room.\n\nRegistration / RSVP Required\n\nYou must register below or RSVP t
 o Allison\, the Ithaca secretary\, to attend the tour. This is because a m
 aximum of 10 people are permitted in the cleanroom.\n\nAll Welcome to Mixe
 r Afterwards\n\nAfterwards\, we will gather in Duffield 340 for a mixer. I
 EEE colleagues and guests are welcome to attend the mixer\, starting aroun
 d 3:30 PM.\n\nDirections &amp; Parking\n\nThe CNF main office is 250 Duffield 
 Hall\, 343 Campus Road\, Cornell University\, Ithaca\, NY 14853-2700 .\n\n
 If you [park on campus](https://www.cornell.edu/visit/parking/)\, there is
  an hourly or daily fee for parking. Responsibility for understanding Corn
 ell parking regulations\, and for any parking tickets incurred\, resides w
 ith the traveler. Ask about the regulations at any of the Information Kios
 ks.\n\n[Directions to Cornell University](https://www.cornell.edu/about/ma
 ps/).\n\nRoom: 250\, Bldg: Duffield Hall\, 343 Campus Rd\, Ithaca\, New Yo
 rk\, United States\, 14853
LOCATION:Room: 250\, Bldg: Duffield Hall\, 343 Campus Rd\, Ithaca\, New Yor
 k\, United States\, 14853
ORGANIZER:allisonhutchison@ieee.org
SEQUENCE:23
SUMMARY:Cornell NanoScale Facility Tour
URL;VALUE=URI:https://events.vtools.ieee.org/m/374414
X-ALT-DESC:Description: &lt;br /&gt;&lt;p&gt;Tour begins at 2 PM in the Cornell NanoSca
 le Facility.&amp;nbsp\;&lt;span style=&quot;color: #e03e2d\;&quot;&gt;&lt;strong&gt;All participants
  must read and comply with&lt;/strong&gt;&lt;/span&gt; their &lt;a href=&quot;https://www.goog
 le.com/url?q=https://www.cnf.cornell.edu/howto/dress_code&amp;amp\;sa=D&amp;amp\;s
 ource=calendar&amp;amp\;ust=1695504858036213&amp;amp\;usg=AOvVaw1z7u5KbjuWkb4TNHkE
 vFyd&quot; target=&quot;_blank&quot; rel=&quot;noopener&quot;&gt;dress code&lt;/a&gt; to enter the cleanroom
 .&amp;nbsp\;&lt;/p&gt;\n&lt;h1&gt;Registration / RSVP Required&lt;/h1&gt;\n&lt;p&gt;You must register 
 below or RSVP to Allison\, the Ithaca secretary\, to attend the tour. This
  is because a maximum of 10 people are permitted in the cleanroom.&lt;/p&gt;\n&lt;h
 1&gt;All Welcome to Mixer Afterwards&lt;/h1&gt;\n&lt;p&gt;Afterwards\, we will gather in 
 Duffield 340 for a mixer. IEEE colleagues and guests are welcome to attend
  the mixer\, starting around 3:30 PM.&lt;/p&gt;\n&lt;h1&gt;Directions &amp;amp\; Parking&lt;/
 h1&gt;\n&lt;p&gt;The CNF main office is 250 Duffield Hall\, 343 Campus Road\, Corne
 ll University\, Ithaca\, NY 14853-2700 .&amp;nbsp\;&lt;/p&gt;\n&lt;p&gt;If you&amp;nbsp\;&lt;a hr
 ef=&quot;https://www.cornell.edu/visit/parking/&quot;&gt;park on campus&lt;/a&gt;\, there is 
 an hourly or daily fee for parking.&amp;nbsp\;Responsibility for understanding
  Cornell parking regulations\, and for any parking tickets incurred\, resi
 des with the traveler. Ask about the regulations at any of the Information
  Kiosks.&lt;/p&gt;\n&lt;p&gt;&lt;a href=&quot;https://www.cornell.edu/about/maps/&quot;&gt;Directions 
 to Cornell University&lt;/a&gt;.&lt;/p&gt;
END:VEVENT
END:VCALENDAR

