BEGIN:VCALENDAR
VERSION:2.0
PRODID:IEEE vTools.Events//EN
CALSCALE:GREGORIAN
BEGIN:VTIMEZONE
TZID:Asia/Dhaka
BEGIN:DAYLIGHT
DTSTART:20380119T091407
TZOFFSETFROM:+0600
TZOFFSETTO:+0600
RRULE:FREQ=YEARLY;BYDAY=3TU;BYMONTH=1
TZNAME:+06
END:DAYLIGHT
BEGIN:STANDARD
DTSTART:20091231T230000
TZOFFSETFROM:+0700
TZOFFSETTO:+0600
RRULE:FREQ=YEARLY;BYDAY=-1TH;BYMONTH=12
TZNAME:+06
END:STANDARD
END:VTIMEZONE
BEGIN:VEVENT
DTSTAMP:20231005T214908Z
UID:D7471F3B-4E64-433F-8A72-AA19C217D9C1
DTSTART;TZID=Asia/Dhaka:20231002T170000
DTEND;TZID=Asia/Dhaka:20231002T190000
DESCRIPTION:Get ready for an exciting Welcome Event/IEEE Day happening on O
 ctober 2nd\, starting at 5:00 PM in the ESS Engineering Lounge at the Univ
 ersity of Calgary!\n\nThis event is all about coming together as a tight-k
 nit community. Whether you&#39;re a new student looking to make connections or
  a familiar face eager to reunite\, mark your calendar for this special oc
 casion. It&#39;s your chance to engage with peers\, share experiences\, and di
 ve into meaningful conversations.\n\nOur event will feature inspiring spea
 kers who will share insights and knowledge that can enrich your academic a
 nd professional journey. You won&#39;t want to miss out on the valuable inform
 ation they have to offer.\n\nSave the date - October 2nd - and get ready f
 or an evening of warmth\, camaraderie\, and learning. This is your opportu
 nity to be part of a vibrant community of students passionate about engine
 ering and technology.\n\nIf you have any questions or need more details\, 
 feel free to reach out. We can&#39;t wait to see you there and share this memo
 rable experience together!\n\nCalgary\, Alberta\, Canada
LOCATION:Calgary\, Alberta\, Canada
ORGANIZER:
SEQUENCE:3
SUMMARY:IEEE Day/Information Day
URL;VALUE=URI:https://events.vtools.ieee.org/m/374572
X-ALT-DESC:Description: &lt;br /&gt;&lt;p&gt;Get ready for an exciting Welcome Event/IE
 EE Day happening on October 2nd\, starting at 5:00 PM in the ESS Engineeri
 ng Lounge at the University of Calgary!&lt;/p&gt;\n&lt;p&gt;This event is all about co
 ming together as a tight-knit community. Whether you&#39;re a new student look
 ing to make connections or a familiar face eager to reunite\, mark your ca
 lendar for this special occasion. It&#39;s your chance to engage with peers\, 
 share experiences\, and dive into meaningful conversations.&lt;/p&gt;\n&lt;p&gt;Our ev
 ent will feature inspiring speakers who will share insights and knowledge 
 that can enrich your academic and professional journey. You won&#39;t want to 
 miss out on the valuable information they have to offer.&lt;/p&gt;\n&lt;p&gt;Save the 
 date - October 2nd - and get ready for an evening of warmth\, camaraderie\
 , and learning. This is your opportunity to be part of a vibrant community
  of students passionate about engineering and technology.&lt;/p&gt;\n&lt;p&gt;If you h
 ave any questions or need more details\, feel free to reach out. We can&#39;t 
 wait to see you there and share this memorable experience together!&lt;/p&gt;
END:VEVENT
END:VCALENDAR

