BEGIN:VCALENDAR
VERSION:2.0
PRODID:IEEE vTools.Events//EN
CALSCALE:GREGORIAN
BEGIN:VTIMEZONE
TZID:Asia/Singapore
BEGIN:DAYLIGHT
DTSTART:20380119T111407
TZOFFSETFROM:+0800
TZOFFSETTO:+0800
RRULE:FREQ=YEARLY;BYDAY=3TU;BYMONTH=1
TZNAME:+08
END:DAYLIGHT
BEGIN:STANDARD
DTSTART:19820101T000000
TZOFFSETFROM:+0730
TZOFFSETTO:+0800
RRULE:FREQ=YEARLY;BYDAY=1FR;BYMONTH=1
TZNAME:+08
END:STANDARD
END:VTIMEZONE
BEGIN:VEVENT
DTSTAMP:20240206T081732Z
UID:32F5CF3C-8CF2-4513-96F8-C6B111896650
DTSTART;TZID=Asia/Singapore:20231119T080000
DTEND;TZID=Asia/Singapore:20231123T170000
DESCRIPTION:Papers are solicited in all research areas including\, but not 
 limited to:\n\n- Biomedical Robotics and Health Technologies\n- Computer S
 cience\, Data Science\, and Algorithms\n- Computer Vision\, Artificial Int
 elligence and Intelligent Systems\n- Education\, Media\, Knowledge and Bus
 iness Platforms\n- Environment\, Energy\, Transportation and Infrastructur
 e\n- Nanotechnology\, Manufacturing and Industrial Processes\n- Plant\, Ag
 riculture\, Farming\, and Food\n- Sensor Networks\, Signals\, and Communic
 ation Technologies\n\nCo-sponsored by: R00015 - Republic of Philippines Se
 ction\n\nCoron\, Palawan\, Philippines
LOCATION:Coron\, Palawan\, Philippines
ORGANIZER:elmer.dadios@dlsu.edu.ph
SEQUENCE:3
SUMMARY:IEEE HNICEM 2023 15th International Conference on Humanoid\, Nanote
 chnology\, Information Technology\, Communication and Control\, Environmen
 t\, and Management 
URL;VALUE=URI:https://events.vtools.ieee.org/m/375031
X-ALT-DESC:Description: &lt;br /&gt;&lt;p&gt;Papers are solicited in all research areas
  including\, but not limited to:&lt;/p&gt;\n&lt;ul&gt;\n&lt;li&gt;Biomedical Robotics and He
 alth Technologies&lt;/li&gt;\n&lt;li&gt;Computer Science\, Data Science\, and Algorith
 ms&lt;/li&gt;\n&lt;li&gt;Computer Vision\, Artificial Intelligence and Intelligent Sys
 tems&lt;/li&gt;\n&lt;li&gt;Education\, Media\, Knowledge and Business Platforms&lt;/li&gt;\n
 &lt;li&gt;Environment\, Energy\, Transportation and Infrastructure&lt;/li&gt;\n&lt;li&gt;Nan
 otechnology\, Manufacturing and Industrial Processes&lt;/li&gt;\n&lt;li&gt;Plant\, Agr
 iculture\, Farming\, and Food&lt;/li&gt;\n&lt;li&gt;Sensor Networks\, Signals\, and Co
 mmunication Technologies&lt;/li&gt;\n&lt;/ul&gt;
END:VEVENT
END:VCALENDAR

