BEGIN:VCALENDAR
VERSION:2.0
PRODID:IEEE vTools.Events//EN
CALSCALE:GREGORIAN
BEGIN:VTIMEZONE
TZID:Europe/Warsaw
BEGIN:DAYLIGHT
DTSTART:20230326T030000
TZOFFSETFROM:+0100
TZOFFSETTO:+0200
RRULE:FREQ=YEARLY;BYDAY=-1SU;BYMONTH=3
TZNAME:CEST
END:DAYLIGHT
BEGIN:STANDARD
DTSTART:20231029T020000
TZOFFSETFROM:+0200
TZOFFSETTO:+0100
RRULE:FREQ=YEARLY;BYDAY=-1SU;BYMONTH=10
TZNAME:CET
END:STANDARD
END:VTIMEZONE
BEGIN:VEVENT
DTSTAMP:20240124T161805Z
UID:F8757532-483D-4D76-B2CA-DB6766820488
DTSTART;TZID=Europe/Warsaw:20230904T110000
DTEND;TZID=Europe/Warsaw:20230904T123000
DESCRIPTION:The test set-up and the original software for automation of emi
 ssions measurement of trackside magnetic disturbances coming from rolling 
 stock will be shown based on ERA/ERTMS/033281 requirements. System was mad
 e in the LabVIEW environment and dedicated for oscilloscope card and LF\, 
 HF rolling stock antennas with algorithm fully implementing normative requ
 irements. Also\, the practical examples RF measurements of Rolling stock -
  Train and complete vehicle according to EN 50121-3-1 will be presented.\n
 \nIn the second part of the workshop a unique test set-up for immunity tes
 ting of control systems to simulated passing trains will be shown. The imm
 unity results for other phenomena will be presented as well.\n\nCo-sponsor
 ed by: Łukasiewicz - PIT\, WUT\n\nEMC EUROPE 2023\, Kraków\, Wielkopolsk
 ie\, Poland
LOCATION:EMC EUROPE 2023\, Kraków\, Wielkopolskie\, Poland
ORGANIZER:Krzysztof.Sieczkarek@pit.lukasiewicz.gov.pl
SEQUENCE:9
SUMMARY:IEEE EMC-S PL reported activity no. 3/2023: EMC MARATHON at EMC EUR
 OPE EMC &quot;EMC in railways&quot; 
URL;VALUE=URI:https://events.vtools.ieee.org/m/375136
X-ALT-DESC:Description: &lt;br /&gt;&lt;p&gt;The test set-up and the original software 
 for automation of emissions measurement of trackside magnetic disturbances
  coming from rolling stock will be shown based on ERA/ERTMS/033281 require
 ments. System was made in the LabVIEW environment and dedicated for oscill
 oscope card and LF\, HF rolling stock antennas with algorithm fully implem
 enting normative requirements. Also\, the practical examples RF measuremen
 ts of Rolling stock - Train and complete vehicle according to EN 50121-3-1
  will be presented.&lt;/p&gt;\n&lt;p&gt;In the second part of the workshop a unique te
 st set-up for immunity testing of control systems to simulated passing tra
 ins will be shown. The immunity results for other phenomena will be presen
 ted as well.&lt;/p&gt;
END:VEVENT
END:VCALENDAR

