BEGIN:VCALENDAR
VERSION:2.0
PRODID:IEEE vTools.Events//EN
CALSCALE:GREGORIAN
BEGIN:VTIMEZONE
TZID:Asia/Kolkata
BEGIN:STANDARD
DTSTART:19451014T230000
TZOFFSETFROM:+0630
TZOFFSETTO:+0530
TZNAME:IST
END:STANDARD
END:VTIMEZONE
BEGIN:VEVENT
DTSTAMP:20231031T134235Z
UID:B634E88F-9979-46AD-BDAA-24663E542260
DTSTART;TZID=Asia/Kolkata:20230205T130000
DTEND;TZID=Asia/Kolkata:20230905T150000
DESCRIPTION:“It’s not about ideas. It’s about making ideas happen.”
 \n\nIEEE SB JIIT is tremendously honoured and exhilarated to host Mr Utkar
 sh Gupta for a TechTalk exclusively for Xenith 2023\, a long-awaited event
 . He is the highest-ranked Indian coder on CodeForces\, a GrandMaster and 
 a 7-star coder on CodeChef. He also secured an AIR 1 in Google Kickstart. 
 His Competitive Programming journey is truly inspiring.🫡🏆\n\nHis exc
 eptional skills and contribution have made him the epitome of programming 
 and have made every Indian Computer Science student&#39;s dream. 💭💻\n\nS
 o\, what are you waiting for? Mark your calendars for the 5th of February 
 because we share the same ardour and fervour for learning\, from technolog
 y to creativity and everything in between! 🔁\n\nJaypee Institute of inf
 ormation Technology\, A-10\, Sector-62\, \, Noida-201 309\, Uttar Pradesh\
 , India.\, Noida\, Uttar Pradesh\, India\, 201307
LOCATION:Jaypee Institute of information Technology\, A-10\, Sector-62\, \,
  Noida-201 309\, Uttar Pradesh\, India.\, Noida\, Uttar Pradesh\, India\, 
 201307
ORGANIZER:yuvr4aj@gmail.com
SEQUENCE:26
SUMMARY:Xenith 2023 - Tech Talk By Utkarsh Gupta
URL;VALUE=URI:https://events.vtools.ieee.org/m/375314
X-ALT-DESC:Description: &lt;br /&gt;&lt;p&gt;&amp;ldquo\;It&amp;rsquo\;s not about ideas. It&amp;rs
 quo\;s about making ideas happen.&amp;rdquo\;&lt;br /&gt;&lt;br /&gt;IEEE SB JIIT is treme
 ndously honoured and exhilarated to host Mr Utkarsh Gupta for a TechTalk e
 xclusively for Xenith 2023\, a long-awaited event. He is the highest-ranke
 d Indian coder on CodeForces\, a GrandMaster and a 7-star coder on CodeChe
 f. He also secured an AIR 1 in Google Kickstart. His Competitive Programmi
 ng journey is truly inspiring.🫡🏆&lt;br /&gt;&lt;br /&gt;His exceptional skills a
 nd contribution have made him the epitome of programming and have made eve
 ry Indian Computer Science student&#39;s dream. 💭💻&lt;br /&gt;&lt;br /&gt;So\, what 
 are you waiting for? Mark your calendars for the 5th of February because w
 e share the same ardour and fervour for learning\, from technology to crea
 tivity and everything in between! 🔁&lt;/p&gt;
END:VEVENT
END:VCALENDAR

