BEGIN:VCALENDAR
VERSION:2.0
PRODID:IEEE vTools.Events//EN
CALSCALE:GREGORIAN
BEGIN:VTIMEZONE
TZID:Europe/Madrid
BEGIN:DAYLIGHT
DTSTART:20240331T030000
TZOFFSETFROM:+0100
TZOFFSETTO:+0200
RRULE:FREQ=YEARLY;BYDAY=-1SU;BYMONTH=3
TZNAME:CEST
END:DAYLIGHT
BEGIN:STANDARD
DTSTART:20231029T020000
TZOFFSETFROM:+0200
TZOFFSETTO:+0100
RRULE:FREQ=YEARLY;BYDAY=-1SU;BYMONTH=10
TZNAME:CET
END:STANDARD
END:VTIMEZONE
BEGIN:VEVENT
DTSTAMP:20231114T070106Z
UID:9637F0C2-6ED5-4F5B-AEB9-285F4A7CE125
DTSTART;TZID=Europe/Madrid:20231107T103000
DTEND;TZID=Europe/Madrid:20231107T120000
DESCRIPTION:Diversity and Inclusion in Technology: Empowering African Women
  Leaders\n\nmarakech\, Marrakech-Tensift-El Haouz\, Morocco
LOCATION:marakech\, Marrakech-Tensift-El Haouz\, Morocco
ORGANIZER:H.Chakiri@aui.ma
SEQUENCE:8
SUMMARY:Diversity and Inclusion in Technology: Empowering African Women Lea
 ders
URL;VALUE=URI:https://events.vtools.ieee.org/m/375553
X-ALT-DESC:Description: &lt;br /&gt;&lt;p&gt;Diversity and Inclusion in Technology: Emp
 owering African Women Leaders&lt;/p&gt;
END:VEVENT
END:VCALENDAR

