BEGIN:VCALENDAR
VERSION:2.0
PRODID:IEEE vTools.Events//EN
CALSCALE:GREGORIAN
BEGIN:VTIMEZONE
TZID:America/Mexico_City
BEGIN:STANDARD
DTSTART:20221030T010000
TZOFFSETFROM:-0500
TZOFFSETTO:-0600
TZNAME:CST
END:STANDARD
END:VTIMEZONE
BEGIN:VEVENT
DTSTAMP:20231010T140109Z
UID:D78E42F8-2C60-4A1D-A702-95556B8F0599
DTSTART;TZID=America/Mexico_City:20231003T090000
DTEND;TZID=America/Mexico_City:20231003T120000
DESCRIPTION:In order to celebrate the IEEE Day 2023\, the IEEE VTS &amp; ITSS J
 oint Chapter will organize an in person event. This activity will allow to
  build awareness about IEEE\, VTS\, ITSS and recruit new members. Further\
 , the VTS chapter members will share their technical knowledge in the fiel
 d of electric mobility.\n\nSpeaker(s): \, Manuel Madrigal\n\nAgenda: \n09:
 00 – 09:15 Opening Ceremony\n\nWelcoming message: Dr. Fernando Ornelas-T
 éllez\, Chair of the IEEE Centro Occidente Section.\nOpening remarks: Dr.
  Roberto Tapia-Sánchez\, Director of the Faculty of Electrical Engineerin
 g\, Universidad Michoacana de San Nicolás de Hidalgo\n\nChair: Dr. Norber
 to García-Barriga\, Chair of the IEEE VTS &amp; ITSS Joint Chapter\n\n09:15 
 – 10:15 Plenary Session\nTHE IMPORTANCE OF POWER QUALITY IN TODAY’S EL
 ECTRIC INFRASTRUCTURE\nLecturer: Dr. Manuel Madrigal-Martínez\, Instituto
  Tecnológico de Morelia\n\nChair: BE. Genaro Guadalupe Chacón-Pérez\, I
 EEE Centro Occidente Section\n\n10:15 – 10:30 Coffee Break\n\n10:30 – 
 11:10 Special Session\n\n* IEEE STUDENT BRANCH ACTIVITIES AT THE UNIVERSID
 AD MICHOACANA\nDeborah Alduenda-Guiza and Alexa Guadalupe Vargas-Bedolla\,
  IEEE Student Branch\n\n* EVENTS AND ACTIVITIES OF THE IEEE VTS &amp; ITSS JOI
 NT CHAPTER\nDr. Norberto García-Barriga\, Chair of the IEEE VTS &amp; ITSS Jo
 int Chapter\n\nChair: Dr. Fernando Ornelas-Téllez\, Chair of the IEEE Cen
 tro Occidente Section\n\n11:10 – 12:00 Exhibition stands\n\n* IEEE STUDE
 NT BRANCH AT THE UNIVERSIDAD MICHOACANA\n* WORKSHOP ON THE DESIGN AND PROT
 OTYPING OF BIO-HYBRID PERSONAL MOBILITY SOLUTIONS\n* 2024 IEEE ELECTRIC VE
 HICLES INTERNATIONAL SYMPOSIUM\n\nBldg: Building Omega-1\, University Camp
 us\, Universidad Michoacana de San Nicolas de Hidalgo\, Morelia\, Michoaca
 n de Ocampo\, Mexico\, 58030
LOCATION:Bldg: Building Omega-1\, University Campus\, Universidad Michoacan
 a de San Nicolas de Hidalgo\, Morelia\, Michoacan de Ocampo\, Mexico\, 580
 30
ORGANIZER:norberto.garcia@umich.mx
SEQUENCE:129
SUMMARY:IEEE DAY 2023 - IEEE VTS &amp; ITSS JOINT CHAPTER - CENTRO OCCIDENTE SE
 CTION
URL;VALUE=URI:https://events.vtools.ieee.org/m/375982
X-ALT-DESC:Description: &lt;br /&gt;&lt;p&gt;In order to celebrate the IEEE Day 2023\, 
 the IEEE VTS &amp;amp\; ITSS Joint Chapter will organize an in person event. T
 his activity will allow to build awareness about IEEE\, VTS\, ITSS and rec
 ruit new members. Further\, the VTS chapter members will share their techn
 ical knowledge in the field of electric mobility.&lt;/p&gt;&lt;br /&gt;&lt;br /&gt;Agenda: &lt;
 br /&gt;&lt;div&gt;09:00 &amp;ndash\; 09:15 Opening Ceremony&lt;/div&gt;\n&lt;div&gt;&amp;nbsp\;&lt;/div&gt;\
 n&lt;div&gt;&amp;nbsp\; &amp;nbsp\; &amp;nbsp\; &amp;nbsp\; &amp;nbsp\; &amp;nbsp\; &amp;nbsp\; &amp;nbsp\; &amp;nbs
 p\; &amp;nbsp\; &amp;nbsp\; Welcoming message: Dr. Fernando Ornelas-T&amp;eacute\;llez
 \, Chair of the IEEE Centro Occidente Section.&amp;nbsp\;&lt;/div&gt;\n&lt;div&gt;&amp;nbsp\; 
 &amp;nbsp\; &amp;nbsp\; &amp;nbsp\; &amp;nbsp\; &amp;nbsp\; &amp;nbsp\; &amp;nbsp\; &amp;nbsp\; &amp;nbsp\; &amp;n
 bsp\; Opening remarks: Dr. Roberto Tapia-S&amp;aacute\;nchez\, Director of the
  Faculty of Electrical Engineering\, Universidad Michoacana de San Nicol&amp;a
 acute\;s de Hidalgo&lt;/div&gt;\n&lt;div&gt;&amp;nbsp\;&lt;/div&gt;\n&lt;div&gt;&amp;nbsp\; &amp;nbsp\; &amp;nbsp\
 ; &amp;nbsp\; &amp;nbsp\; &amp;nbsp\; &amp;nbsp\; &amp;nbsp\; &amp;nbsp\; &amp;nbsp\; &amp;nbsp\; &amp;nbsp\;C
 hair: Dr. Norberto Garc&amp;iacute\;a-Barriga\, Chair of the IEEE VTS &amp;amp\; I
 TSS Joint Chapter&lt;/div&gt;\n&lt;div&gt;&amp;nbsp\;&lt;/div&gt;\n&lt;div&gt;09:15 &amp;ndash\; 10:15 Ple
 nary Session&lt;/div&gt;\n&lt;div&gt;&amp;nbsp\; &amp;nbsp\; &amp;nbsp\; &amp;nbsp\; &amp;nbsp\; &amp;nbsp\; &amp;
 nbsp\; &amp;nbsp\; &amp;nbsp\; &amp;nbsp\; &amp;nbsp\; THE IMPORTANCE OF POWER QUALITY IN 
 TODAY&amp;rsquo\;S ELECTRIC INFRASTRUCTURE&lt;/div&gt;\n&lt;div&gt;&amp;nbsp\; &amp;nbsp\; &amp;nbsp\;
  &amp;nbsp\; &amp;nbsp\; &amp;nbsp\; &amp;nbsp\; &amp;nbsp\; &amp;nbsp\; &amp;nbsp\; &amp;nbsp\; Lecturer:
  Dr. Manuel Madrigal-Mart&amp;iacute\;nez\, Instituto Tecnol&amp;oacute\;gico de M
 orelia&amp;nbsp\;&lt;/div&gt;\n&lt;div&gt;&amp;nbsp\;&lt;/div&gt;\n&lt;div&gt;&amp;nbsp\; &amp;nbsp\; &amp;nbsp\; &amp;nbs
 p\; &amp;nbsp\; &amp;nbsp\; &amp;nbsp\; &amp;nbsp\; &amp;nbsp\; &amp;nbsp\; &amp;nbsp\; Chair: BE. Gen
 aro Guadalupe Chac&amp;oacute\;n-P&amp;eacute\;rez\, IEEE Centro Occidente Section
 &lt;/div&gt;\n&lt;div&gt;&amp;nbsp\;&lt;/div&gt;\n&lt;div&gt;10:15 &amp;ndash\; 10:30 Coffee Break&lt;/div&gt;\n
 &lt;div&gt;&amp;nbsp\;&lt;/div&gt;\n&lt;div&gt;10:30 &amp;ndash\; 11:10 Special Session&lt;/div&gt;\n&lt;div&gt;
 &amp;nbsp\;&lt;/div&gt;\n&lt;div&gt;&amp;nbsp\; &amp;nbsp\; &amp;nbsp\; &amp;nbsp\; &amp;nbsp\; &amp;nbsp\; &amp;nbsp\
 ; &amp;nbsp\; &amp;nbsp\; &amp;nbsp\; &amp;nbsp\; * IEEE STUDENT BRANCH ACTIVITIES AT THE 
 UNIVERSIDAD MICHOACANA&lt;/div&gt;\n&lt;div&gt;&amp;nbsp\; &amp;nbsp\; &amp;nbsp\; &amp;nbsp\; &amp;nbsp\;
  &amp;nbsp\; &amp;nbsp\; &amp;nbsp\; &amp;nbsp\; &amp;nbsp\; &amp;nbsp\; &amp;nbsp\; &amp;nbsp\;Deborah Al
 duenda-Guiza and Alexa Guadalupe Vargas-Bedolla\, IEEE Student Branch&lt;/div
 &gt;\n&lt;div&gt;&amp;nbsp\;&lt;/div&gt;\n&lt;div&gt;&amp;nbsp\; &amp;nbsp\; &amp;nbsp\; &amp;nbsp\; &amp;nbsp\; &amp;nbsp\
 ; &amp;nbsp\; &amp;nbsp\; &amp;nbsp\; &amp;nbsp\; &amp;nbsp\; * EVENTS AND ACTIVITIES OF THE I
 EEE VTS &amp;amp\; ITSS JOINT CHAPTER&lt;/div&gt;\n&lt;div&gt;&amp;nbsp\; &amp;nbsp\; &amp;nbsp\; &amp;nbs
 p\; &amp;nbsp\; &amp;nbsp\; &amp;nbsp\; &amp;nbsp\; &amp;nbsp\; &amp;nbsp\; &amp;nbsp\; &amp;nbsp\; Dr. No
 rberto Garc&amp;iacute\;a-Barriga\, Chair of the IEEE VTS &amp;amp\; ITSS Joint Ch
 apter&lt;/div&gt;\n&lt;div&gt;&amp;nbsp\;&lt;/div&gt;\n&lt;div&gt;&amp;nbsp\; &amp;nbsp\; &amp;nbsp\; &amp;nbsp\; &amp;nbs
 p\; &amp;nbsp\; &amp;nbsp\; &amp;nbsp\; &amp;nbsp\; &amp;nbsp\; &amp;nbsp\; &amp;nbsp\; Chair: Dr. Fer
 nando Ornelas-T&amp;eacute\;llez\, Chair of the IEEE Centro Occidente Section&lt;
 /div&gt;\n&lt;div&gt;&amp;nbsp\;&lt;/div&gt;\n&lt;div&gt;11:10 &amp;ndash\; 12:00&amp;nbsp\; &amp;nbsp\;Exhibit
 ion stands&lt;/div&gt;\n&lt;div&gt;&amp;nbsp\;&lt;/div&gt;\n&lt;div&gt;&amp;nbsp\; &amp;nbsp\; &amp;nbsp\; &amp;nbsp\;
  &amp;nbsp\; &amp;nbsp\; &amp;nbsp\; &amp;nbsp\; &amp;nbsp\; &amp;nbsp\; &amp;nbsp\; &amp;nbsp\; * IEEE ST
 UDENT BRANCH AT THE UNIVERSIDAD MICHOACANA&lt;/div&gt;\n&lt;div&gt;&amp;nbsp\; &amp;nbsp\; &amp;nb
 sp\; &amp;nbsp\; &amp;nbsp\; &amp;nbsp\; &amp;nbsp\; &amp;nbsp\; &amp;nbsp\; &amp;nbsp\; &amp;nbsp\; &amp;nbsp
 \; * WORKSHOP ON THE DESIGN AND PROTOTYPING OF BIO-HYBRID PERSONAL MOBILIT
 Y SOLUTIONS&lt;/div&gt;\n&lt;div&gt;&amp;nbsp\; &amp;nbsp\; &amp;nbsp\; &amp;nbsp\; &amp;nbsp\; &amp;nbsp\; &amp;n
 bsp\; &amp;nbsp\; &amp;nbsp\; &amp;nbsp\; &amp;nbsp\; &amp;nbsp\; * 2024 IEEE ELECTRIC VEHICLE
 S INTERNATIONAL SYMPOSIUM&lt;/div&gt;\n&lt;p&gt;&amp;nbsp\;&lt;/p&gt;
END:VEVENT
END:VCALENDAR

