BEGIN:VCALENDAR
VERSION:2.0
PRODID:IEEE vTools.Events//EN
CALSCALE:GREGORIAN
BEGIN:VTIMEZONE
TZID:America/Los_Angeles
BEGIN:DAYLIGHT
DTSTART:20230312T030000
TZOFFSETFROM:-0800
TZOFFSETTO:-0700
RRULE:FREQ=YEARLY;BYDAY=2SU;BYMONTH=3
TZNAME:PDT
END:DAYLIGHT
BEGIN:STANDARD
DTSTART:20231105T010000
TZOFFSETFROM:-0700
TZOFFSETTO:-0800
RRULE:FREQ=YEARLY;BYDAY=1SU;BYMONTH=11
TZNAME:PST
END:STANDARD
END:VTIMEZONE
BEGIN:VEVENT
DTSTAMP:20231030T062651Z
UID:C5814121-D2A7-4288-8E3D-8C436752942A
DTSTART;TZID=America/Los_Angeles:20231026T180000
DTEND;TZID=America/Los_Angeles:20231026T200000
DESCRIPTION:Meeting Description:\n\nPlease plan to attend this virtual meet
 ing of the Industry Applications Society. The speaker will be Tim Allman\,
  Systems Engineer\, Cummins\, Inc.\n\nAs commercial and industrial power s
 ystems are evolving to a mix of low- and no-carbon technologies\, careful 
 and extensive testing is required to understand the unique impacts that th
 ese will have. It was clear that this unique challenge needed a unique and
  flexible approach to developing microgrid system technologies without imp
 acting the critical operations of our customers. A unique tool that Cummin
 s brings to meet this challenge is the Power Integration Center (PIC) – 
 A multi-asset\, configurable microgrid test lab.\n\nThe primary role of th
 e Power Integration Center is to serve as a scale representation of a cust
 omer power system which allows live microgrid testing in a controlled\, an
 d de-risked\, environment. Critically\, this is achieved through a configu
 rable power system that can be changed to operate in a variety of electric
 al topologies without any additional installation work.\n\nStrategy and fu
 nding discussions for building the PIC began in earnest in 2018\, and the 
 detailed design for the facility took place primarily in 2019. Constructio
 n of the facility began in 2020\, with substantial completion of the build
  phase in November of 2021. In the first half of 2022\, all major systems 
 in the lab were commissioned and validated for operation. Following the fo
 rmal opening of the lab in August of 2022\, the facility is now officially
  open and operating as a test platform for complex microgrids.\n\nAs the p
 ower industry continues to evolve\, so too will the capacities of the Powe
 r Integration Center. Expansion work is already in place in the areas of h
 ydrogen fuel infrastructure (both for consumption and generation)\, as wel
 l as DC-coupled microgrid opportunities.\n\nThis presentation will showcas
 e the Power Integration Center’s capabilities via virtual tour and live 
 demonstration.\n\nAgenda: \nTime: Presentation will be from 6:00 to 7:00 p
 m\n\nPlace: Virtual Technical Meeting via WebEx\n\nRSVP: Please make reser
 vations by October 25 by registering via vTools for WebEx Login informatio
 n.\n\nCost: Registration is Free\n\nVirtual: https://events.vtools.ieee.or
 g/m/376125
LOCATION:Virtual: https://events.vtools.ieee.org/m/376125
ORGANIZER:lmsq@pge.com
SEQUENCE:22
SUMMARY:Cummins – Power Integration Center
URL;VALUE=URI:https://events.vtools.ieee.org/m/376125
X-ALT-DESC:Description: &lt;br /&gt;&lt;p&gt;&lt;strong&gt;&lt;u&gt;Meeting Description:&lt;/u&gt;&lt;/stron
 g&gt;&lt;/p&gt;\n&lt;p&gt;Please plan to attend this virtual meeting of the Industry Appl
 ications Society. The speaker will be Tim Allman\, Systems Engineer\, Cumm
 ins\, Inc.&lt;/p&gt;\n&lt;p&gt;As commercial and industrial power systems are evolving
  to a mix of low- and no-carbon technologies\, careful and extensive testi
 ng is required to understand the unique impacts that these will have. It w
 as clear that this unique challenge needed a unique and flexible approach 
 to developing microgrid system technologies without impacting the critical
  operations of our customers. A unique tool that Cummins brings to meet th
 is challenge is the Power Integration Center (PIC) &amp;ndash\; A multi-asset\
 , configurable microgrid test lab.&lt;/p&gt;\n&lt;p&gt;The primary role of the Power I
 ntegration Center is to serve as a scale representation of a customer powe
 r system which allows live microgrid testing in a controlled\, and de-risk
 ed\, environment. Critically\, this is achieved through a configurable pow
 er system that can be changed to operate in a variety of electrical topolo
 gies without any additional installation work.&lt;/p&gt;\n&lt;p&gt;Strategy and fundin
 g discussions for building the PIC began in earnest in 2018\, and the deta
 iled design for the facility took place primarily in 2019. Construction of
  the facility began in 2020\, with substantial completion of the build pha
 se in November of 2021. In the first half of 2022\, all major systems in t
 he lab were commissioned and validated for operation. Following the formal
  opening of the lab in August of 2022\, the facility is now officially ope
 n and operating as a test platform for complex microgrids.&lt;/p&gt;\n&lt;p&gt;As the 
 power industry continues to evolve\, so too will the capacities of the Pow
 er Integration Center. Expansion work is already in place in the areas of 
 hydrogen fuel infrastructure (both for consumption and generation)\, as we
 ll as DC-coupled microgrid opportunities.&lt;/p&gt;\n&lt;p&gt;This presentation will s
 howcase the Power Integration Center&amp;rsquo\;s capabilities via virtual tou
 r and live demonstration.&lt;/p&gt;&lt;br /&gt;&lt;br /&gt;Agenda: &lt;br /&gt;&lt;p&gt;Time:&amp;nbsp\; Pre
 sentation will be from 6:00 to 7:00 pm&lt;/p&gt;\n&lt;p&gt;Place:&amp;nbsp\; Virtual Techn
 ical Meeting via WebEx&lt;/p&gt;\n&lt;p&gt;RSVP:&amp;nbsp\; Please make reservations by Oc
 tober 25 by registering via vTools for WebEx Login information.&lt;/p&gt;\n&lt;p&gt;Co
 st:&amp;nbsp\; &amp;nbsp\;Registration is Free&lt;/p&gt;
END:VEVENT
END:VCALENDAR

