BEGIN:VCALENDAR
VERSION:2.0
PRODID:IEEE vTools.Events//EN
CALSCALE:GREGORIAN
BEGIN:VTIMEZONE
TZID:America/New_York
BEGIN:DAYLIGHT
DTSTART:20230312T030000
TZOFFSETFROM:-0500
TZOFFSETTO:-0400
RRULE:FREQ=YEARLY;BYDAY=2SU;BYMONTH=3
TZNAME:EDT
END:DAYLIGHT
BEGIN:STANDARD
DTSTART:20231105T010000
TZOFFSETFROM:-0400
TZOFFSETTO:-0500
RRULE:FREQ=YEARLY;BYDAY=1SU;BYMONTH=11
TZNAME:EST
END:STANDARD
END:VTIMEZONE
BEGIN:VEVENT
DTSTAMP:20231104T214732Z
UID:63B2D2AE-8E32-497A-8D13-76E3F6173E41
DTSTART;TZID=America/New_York:20231101T173000
DTEND;TZID=America/New_York:20231101T193000
DESCRIPTION:The Young Professional&#39;s Guide for Networking and Development i
 s a digital directory of professional and leadership development groups in
  the Buffalo-Niagara region - and the Launch Party is an opportunity to co
 nnect with these groups in person!\n\nGrab your business cards\, bring a f
 riend\, and prepare to mix and mingle with the region&#39;s young professional
 s on Novemebr 1. You&#39;ll have a chance to meet representatives from many of
  the professional development groupsthat are listed in 2023 - 2024 Young P
 rofessional&#39;s Guide to Networking and Development. Connecting wit he devel
 opment group can help you get involved in your community\, build your circ
 le of influence\, and advance your career. The Launch Party is designed to
  help you explore areas of interest\, chat with groups that can aid you in
  personal development\, and\, of course\, network!\n\n[Registration inform
 ation](https://buffaloniagarapartnership.growthzoneapp.com/ap/r/51db47dc07
 f04effb92d3462a574545d)\n\nAgenda: \nhttps://buffaloniagarapartnership.gro
 wthzoneapp.com/ap/r/51db47dc07f04effb92d3462a574545d\n\nKleinhans Music Ha
 ll\, 3 Symphony Circle\, Buffalo\, New York\, United States\, 14201
LOCATION:Kleinhans Music Hall\, 3 Symphony Circle\, Buffalo\, New York\, Un
 ited States\, 14201
ORGANIZER:ilya.grinberg@ieee.org
SEQUENCE:42
SUMMARY:Buffalo-Niagara Partnership Young Professional Guide Launch Party
URL;VALUE=URI:https://events.vtools.ieee.org/m/376137
X-ALT-DESC:Description: &lt;br /&gt;&lt;p&gt;The Young Professional&#39;s Guide for Network
 ing and Development is a digital directory of professional and leadership 
 development groups in the Buffalo-Niagara region - and the Launch Party is
  an opportunity to connect with these groups in person!&lt;/p&gt;\n&lt;p&gt;Grab your 
 business cards\, bring a friend\, and prepare to mix and mingle with the r
 egion&#39;s young professionals on Novemebr 1. You&#39;ll have a chance to meet re
 presentatives from many of the professional development groupsthat are lis
 ted in 2023 - 2024 Young Professional&#39;s Guide to Networking and Developmen
 t. Connecting wit he development group can help you get involved in your c
 ommunity\, build your circle of influence\, and advance your career. The L
 aunch Party is designed to help you explore areas of interest\, chat with 
 groups that can aid you in personal development\, and\, of course\, networ
 k!&lt;/p&gt;\n&lt;p&gt;&lt;a href=&quot;https://buffaloniagarapartnership.growthzoneapp.com/ap
 /r/51db47dc07f04effb92d3462a574545d&quot;&gt;&amp;nbsp\;Registration information&lt;/a&gt;&lt;/
 p&gt;&lt;br /&gt;&lt;br /&gt;Agenda: &lt;br /&gt;&lt;p&gt;&lt;a href=&quot;https://buffaloniagarapartnership.
 growthzoneapp.com/ap/r/51db47dc07f04effb92d3462a574545d&quot;&gt;https://buffaloni
 agarapartnership.growthzoneapp.com/ap/r/51db47dc07f04effb92d3462a574545d&lt;/
 a&gt;&lt;/p&gt;
END:VEVENT
END:VCALENDAR

