BEGIN:VCALENDAR
VERSION:2.0
PRODID:IEEE vTools.Events//EN
CALSCALE:GREGORIAN
BEGIN:VTIMEZONE
TZID:Asia/Kolkata
BEGIN:STANDARD
DTSTART:19451014T230000
TZOFFSETFROM:+0630
TZOFFSETTO:+0530
TZNAME:IST
END:STANDARD
END:VTIMEZONE
BEGIN:VEVENT
DTSTAMP:20231011T173057Z
UID:985766D6-BC57-4261-865B-E6034910A713
DTSTART;TZID=Asia/Kolkata:20231009T090000
DTEND;TZID=Asia/Kolkata:20231011T170000
DESCRIPTION:IEEE SIRCRRCOE SB is going to organize a three a workshop title
 d with &quot;Advanced Concepts and Applications using Python Programming&quot; for t
 he 2nd year students of our College as a part of IEEEDay Celebrations.\n\n
 Library Seminar Hall\, Sir C R R College of Engineering\, Eluru\, Andhra P
 radesh\, India\, 534007
LOCATION:Library Seminar Hall\, Sir C R R College of Engineering\, Eluru\, 
 Andhra Pradesh\, India\, 534007
ORGANIZER:hemasreeswarna@ieee.org
SEQUENCE:122
SUMMARY:Advanced Concepts and Applications using Python Programming
URL;VALUE=URI:https://events.vtools.ieee.org/m/376168
X-ALT-DESC:Description: &lt;br /&gt;&lt;p&gt;IEEE SIRCRRCOE SB is going to organize a t
 hree a workshop titled with &quot;Advanced Concepts and Applications using Pyth
 on Programming&quot; for the 2nd year students of our College as a part of IEEE
 Day Celebrations.&lt;/p&gt;
END:VEVENT
END:VCALENDAR

